Report for Path-Extended-0.23

Back
From: metabase:user:320bfe00-2aae-11df-837a-5e0a49663a4f
Subject: PASS Path-Extended-0.23 v5.24.2 GNU/Linux
Date: 2017-07-19T23:40:39Z

This distribution has been tested as part of the CPAN Testers
project, supporting the Perl programming language.  See
http://wiki.cpantesters.org/ for more information or email
questions to cpan-testers-discuss@perl.org


--
Dear Kenichi Ishigaki,

This is a computer-generated report for Path-Extended-0.23
on perl 5.24.2, created by CPAN-Reporter-1.2018.

Thank you for uploading your work to CPAN.  Congratulations!
All tests were successful.

Sections of this report:

    * Tester comments
    * Program output
    * Prerequisites
    * Environment and other context

------------------------------
TESTER COMMENTS
------------------------------

Additional comments from tester:

this report is from an automated smoke testing program
and was not reviewed by a human for accuracy

------------------------------
PROGRAM OUTPUT
------------------------------

Output from '/usr/bin/make test':

PERL_DL_NONLAZY=1 "/tmp/basesmoker-reloperl-rV1c/bin/perl" "-MExtUtils::Command::MM" "-MTest::Harness" "-e" "undef *Test::Harness::Switches; test_harness(0, 'blib/lib', 'blib/arch')" t/*.t t/*/*.t
t/00_load.t ...................... ok
t/10_entity/basic.t .............. ok
t/15_file_or_dir/basic.t ......... ok
t/15_file_or_dir/for_dir.t ....... ok
t/20_file/copy.t ................. ok
t/20_file/grep.t ................. ok
t/20_file/overload.t ............. ok
t/20_file/path.t ................. ok
t/20_file/read.t ................. ok
t/20_file/slurp.t ................ ok
t/20_file/stat.t ................. ok
t/30_directory/copy.t ............ ok
t/30_directory/exists.t .......... ok
t/30_directory/find.t ............ ok
t/30_directory/mkdir.t ........... ok
t/30_directory/next.t ............ ok
t/30_directory/path.t ............ ok
t/30_directory/prune.t ........... ok
t/30_directory/recurse.t ......... ok
t/30_directory/rmdir.t ........... ok
t/30_directory/seek.t ............ ok
t/30_directory/subsumes.t ........ ok
t/40_compatibility/basic.t ....... ok
t/40_compatibility/filesystem.t .. ok
t/50_subclass/dir.t .............. ok
t/50_subclass/file.t ............. ok
t/50_subclass/file_or_dir.t ...... ok
t/50_subclass/import.t ........... ok
t/99_pod.t ....................... skipped: set TEST_POD to enable this test
t/99_podcoverage.t ............... skipped: set TEST_POD to enable this test
All tests successful.
Files=30, Tests=122,  2 wallclock secs ( 0.14 usr  0.11 sys +  2.15 cusr  0.53 csys =  2.93 CPU)
Result: PASS

------------------------------
PREREQUISITES
------------------------------

Prerequisite modules loaded:

requires:

    Module                        Need Have    
    ----------------------------- ---- --------
    Carp                          0    1.40    
    Encode                        0    2.92    
    Fcntl                         0    1.13    
    File::Basename                0    2.85    
    File::Copy::Recursive         0    0.38    
    File::Find::Rule              0    0.34    
    File::Path                    0    2.12_01 
    File::Spec                    3.23 3.63_01 
    File::stat                    1    1.07    
    File::Temp                    0    0.2304  
    IO                            1.23 1.36_01 
    Log::Dump                     0    0.14    
    Scalar::Util                  0    1.48    
    Sub::Install                  0    0.928   

build_requires:

    Module                        Need Have    
    ----------------------------- ---- --------
    ExtUtils::MakeMaker           0    7.30    
    Test::More                    0.98 1.302086
    Test::UseAllModules           0.09 0.17    

configure_requires:

    Module                        Need Have    
    ----------------------------- ---- --------
    ExtUtils::MakeMaker::CPANfile 0.06 0.08    


------------------------------
ENVIRONMENT AND OTHER CONTEXT
------------------------------

Environment variables:

    AUTOMATED_TESTING = 1
    LANG = en_US.UTF-8
    PATH = /home/sand/bin:/usr/local/bin:/usr/bin:/bin:/usr/games:/usr/local/perl/bin:/usr/X11/bin:/sbin:/usr/sbin
    PERL5LIB = /tmp/loop_over_bdir-16446-by6bkx/FusionInventory-Agent-2.3.19-0/blib/arch:/tmp/loop_over_bdir-16446-by6bkx/FusionInventory-Agent-2.3.19-0/blib/lib:/tmp/loop_over_bdir-16446-by6bkx/Net-DNS-1.11-0/blib/arch:/tmp/loop_over_bdir-16446-by6bkx/Net-DNS-1.11-0/blib/lib
    PERL5OPT = 
    PERL5_CPANPLUS_IS_RUNNING = 16482
    PERL5_CPAN_IS_RUNNING = 16482
    PERL_CANARY_STABILITY_NOPROMPT = 1
    PERL_MM_USE_DEFAULT = 1
    PERL_USE_UNSAFE_INC = 1
    SHELL = /usr/bin/zsh
    TERM = screen

Perl special variables (and OS-specific diagnostics, for MSWin32):

    $^X = /tmp/basesmoker-reloperl-rV1c/bin/perl
    $UID/$EUID = 1005 / 1005
    $GID = 1005 1005
    $EGID = 1005 1005

Perl module toolchain versions installed:

    Module              Have      
    ------------------- ----------
    CPAN                2.18      
    CPAN::Meta          2.150010  
    Cwd                 3.63_01   
    ExtUtils::CBuilder  0.280226  
    ExtUtils::Command   7.30      
    ExtUtils::Install   2.14      
    ExtUtils::MakeMaker 7.30      
    ExtUtils::Manifest  1.70      
    ExtUtils::ParseXS   3.31      
    File::Spec          3.63_01   
    JSON                2.94      
    JSON::PP            2.27300_01
    Module::Build       0.4224    
    Module::Signature   0.81      
    Parse::CPAN::Meta   2.150010  
    Test::Harness       3.39      
    Test::More          1.302086  
    YAML                1.23      
    YAML::Syck          1.30      
    version             0.9918    


--

Summary of my perl5 (revision 5 version 24 subversion 2) configuration:
  Commit id: eb3b805818a89c08b5564d383beddf70f69af1a3
  Platform:
    osname=linux, osvers=4.11.0-2-amd64, archname=x86_64-linux
    uname='linux k93x64sid 4.11.0-2-amd64 #1 smp debian 4.11.11-1 (2017-07-17) x86_64 gnulinux '
    config_args='-Dprefix=/home/sand/src/perl/repoperls/installed-perls/host/k93x64sid/v5.24.2/29a8 -Dmyhostname=k93x64sid -Dinstallusrbinperl=n -Uversiononly -Dusedevel -des -Ui_db -Dlibswanted=cl pthread socket inet nsl gdbm dbm malloc dl ld sun m crypt sec util c cposix posix ucb BSD gdbm_compat -Uuseithreads -Uuselongdouble -DDEBUGGING=-g'
    hint=recommended, useposix=true, d_sigaction=define
    useithreads=undef, usemultiplicity=undef
    use64bitint=define, use64bitall=define, uselongdouble=undef
    usemymalloc=n, bincompat5005=undef
  Compiler:
    cc='cc', ccflags ='-fwrapv -fno-strict-aliasing -pipe -fstack-protector-strong -I/usr/local/include -D_LARGEFILE_SOURCE -D_FILE_OFFSET_BITS=64',
    optimize='-O2 -g',
    cppflags='-fwrapv -fno-strict-aliasing -pipe -fstack-protector-strong -I/usr/local/include'
    ccversion='', gccversion='6.4.0 20170704', gccosandvers=''
    intsize=4, longsize=8, ptrsize=8, doublesize=8, byteorder=12345678, doublekind=3
    d_longlong=define, longlongsize=8, d_longdbl=define, longdblsize=16, longdblkind=3
    ivtype='long', ivsize=8, nvtype='double', nvsize=8, Off_t='off_t', lseeksize=8
    alignbytes=8, prototype=define
  Linker and Libraries:
    ld='cc', ldflags =' -fstack-protector-strong -L/usr/local/lib'
    libpth=/usr/local/lib /usr/lib/gcc/x86_64-linux-gnu/6/include-fixed /usr/include/x86_64-linux-gnu /usr/lib /lib/x86_64-linux-gnu /lib/../lib /usr/lib/x86_64-linux-gnu /usr/lib/../lib /lib
    libs=-lpthread -lnsl -ldl -lm -lcrypt -lutil -lc
    perllibs=-lpthread -lnsl -ldl -lm -lcrypt -lutil -lc
    libc=libc-2.24.so, so=so, useshrplib=false, libperl=libperl.a
    gnulibc_version='2.24'
  Dynamic Linking:
    dlsrc=dl_dlopen.xs, dlext=so, d_dlsymun=undef, ccdlflags='-Wl,-E'
    cccdlflags='-fPIC', lddlflags='-shared -O2 -g -L/usr/local/lib -fstack-protector-strong'


Characteristics of this binary (from libperl): 
  Compile-time options: HAS_TIMES PERLIO_LAYERS PERL_COPY_ON_WRITE
                        PERL_DONT_CREATE_GVSV
                        PERL_HASH_FUNC_ONE_AT_A_TIME_HARD PERL_MALLOC_WRAP
                        PERL_PRESERVE_IVUV PERL_USE_DEVEL USE_64_BIT_ALL
                        USE_64_BIT_INT USE_LARGE_FILES USE_LOCALE
                        USE_LOCALE_COLLATE USE_LOCALE_CTYPE
                        USE_LOCALE_NUMERIC USE_LOCALE_TIME USE_PERLIO
                        USE_PERL_ATOF
  Built under linux
  Compiled at Jul 18 2017 21:48:39
  %ENV:
    PERL5LIB="/tmp/loop_over_bdir-16446-by6bkx/FusionInventory-Agent-2.3.19-0/blib/arch:/tmp/loop_over_bdir-16446-by6bkx/FusionInventory-Agent-2.3.19-0/blib/lib:/tmp/loop_over_bdir-16446-by6bkx/Net-DNS-1.11-0/blib/arch:/tmp/loop_over_bdir-16446-by6bkx/Net-DNS-1.11-0/blib/lib"
    PERL5OPT=""
    PERL5_CPANPLUS_IS_RUNNING="16482"
    PERL5_CPAN_IS_RUNNING="16482"
    PERL_CANARY_STABILITY_NOPROMPT="1"
    PERL_MM_USE_DEFAULT="1"
    PERL_USE_UNSAFE_INC="1"
  @INC:
    /tmp/loop_over_bdir-16446-by6bkx/FusionInventory-Agent-2.3.19-0/blib/arch
    /tmp/loop_over_bdir-16446-by6bkx/FusionInventory-Agent-2.3.19-0/blib/lib
    /tmp/loop_over_bdir-16446-by6bkx/Net-DNS-1.11-0/blib/arch
    /tmp/loop_over_bdir-16446-by6bkx/Net-DNS-1.11-0/blib/lib
    /home/sand/src/perl/repoperls/installed-perls/host/k93x64sid/v5.24.2/29a8/lib/site_perl/5.24.2/x86_64-linux
    /home/sand/src/perl/repoperls/installed-perls/host/k93x64sid/v5.24.2/29a8/lib/site_perl/5.24.2
    /home/sand/src/perl/repoperls/installed-perls/host/k93x64sid/v5.24.2/29a8/lib/5.24.2/x86_64-linux
    /home/sand/src/perl/repoperls/installed-perls/host/k93x64sid/v5.24.2/29a8/lib/5.24.2
    .