Module-Build v0.42_35 Perl 5 v5.37.11 MSWin32-x64-multi-thread

Status
Pass
From
twata
Dist
Module-Build v0.42_35
Platform
Perl 5 v5.37.11 MSWin32-x64-multi-thread
Date
2023-05-06 07:27:50
ID
abb1b92b-6ea2-1014-a887-2501f0aa1848
This distribution has been tested as part of the CPAN Testers
project, supporting the Perl programming language.  See
http://wiki.cpantesters.org/ for more information or email
questions to cpan-testers-discuss@perl.org


--
Dear Leon Timmermans,

This is a computer-generated report for Module-Build-0.42_35
on perl 5.37.11, created by CPAN-Reporter-1.2018.

Thank you for uploading your work to CPAN.  Congratulations!
All tests were successful.

Sections of this report:

    * Tester comments
    * Program output
    * Prerequisites
    * Environment and other context

------------------------------
TESTER COMMENTS
------------------------------

Additional comments from tester:

none provided

------------------------------
PROGRAM OUTPUT
------------------------------

Output from 'C:\perl64\5.37.11\bin\perl.exe ./Build test':

t/00-compile.t ................. ok
t/PL_files.t ................... ok
t/actions/installdeps.t ........ ok
t/actions/manifest_skip.t ...... ok
t/add_property.t ............... ok
t/add_property_array.t ......... ok
t/add_property_hash.t .......... ok
t/basic.t ...................... ok
t/bundle_inc.t ................. skipped: $ENV{MB_TEST_EXPERIMENTAL} is not set
t/compat.t ..................... ok
t/compat/exit.t ................ ok
t/debug.t ...................... ok
t/destinations.t ............... ok
t/ext.t ........................ ok
t/extend.t ..................... ok
t/files.t ...................... ok
t/help.t ....................... ok
WARNING: Can't figure out install path for types: script
Files will not be installed.
WARNING: Can't figure out install path for types: script
Files will not be installed.
WARNING: Can't figure out install path for types: script
Files will not be installed.
WARNING: Can't figure out install path for types: script
Files will not be installed.
t/install.t .................... ok
t/install_extra_target.t ....... ok
t/manifypods.t ................. ok
t/manifypods_with_utf8.t ....... ok
t/metadata.t ................... ok
t/metadata2.t .................. ok
t/mymeta.t ..................... ok
t/new_from_context.t ........... ok
t/notes.t ...................... ok
t/par.t ........................ skipped: PAR::Dist 0.17 or up not installed to check .par's.
t/parents.t .................... ok
t/perl_mb_opt.t ................ ok
t/pod_parser.t ................. ok
t/ppm.t ........................ ok
t/properties/dist_suffix.t ..... ok
t/properties/license.t ......... ok
t/properties/module_name.t ..... ok
t/properties/needs_compiler.t .. ok
t/properties/release_status.t .. ok
t/properties/requires.t ........ ok
t/properties/share_dir.t ....... ok
t/resume.t ..................... ok
t/runthrough.t ................. ok
t/sample.t ..................... ok
t/script_dist.t ................ ok
t/signature.t .................. skipped: Mock Module::Signature not loadable
t/test_file_exts.t ............. ok
t/test_reqs.t .................. ok
t/test_type.t .................. ok
t/test_types.t ................. ok
t/tilde.t ...................... ok
t/unit_run_test_harness.t ...... ok
t/use_tap_harness.t ............ ok
t/versions.t ................... ok
t/write_default_maniskip.t ..... ok
t/xs.t ......................... ok
All tests successful.
Files=53, Tests=1177, 197 wallclock secs ( 0.41 usr +  0.19 sys =  0.59 CPU)
Result: PASS

------------------------------
PREREQUISITES
------------------------------

Prerequisite modules loaded:

requires:

    Module                 Need     Have    
    ---------------------- -------- --------
    CPAN::Meta             2.142060 2.150010
    Cwd                    0        3.89    
    Data::Dumper           0        2.188   
    ExtUtils::CBuilder     0.27     0.280238
    ExtUtils::Install      0        2.22    
    ExtUtils::InstallPaths 0.003    0.012   
    ExtUtils::Manifest     0        1.73    
    ExtUtils::Mkbootstrap  0        7.70    
    ExtUtils::ParseXS      2.21     3.50    
    ExtUtils::PL2Bat       0        0.005   
    File::Basename         0        2.86    
    File::Compare          0        1.1007  
    File::Copy             0        2.41    
    File::Find             0        1.43    
    File::Path             0        2.18    
    File::Spec             3.3      3.88    
    Getopt::Long           0        2.54    
    Module::Metadata       1.000002 1.000038
    perl                   5.006001 5.037011
    Perl::OSType           1        1.010   
    TAP::Harness           3.29     3.44    
    Text::Abbrev           0        1.02    
    Text::ParseWords       0        3.31    
    version                0.87     0.9929  

build_requires:

    Module                 Need     Have    
    ---------------------- -------- --------
    CPAN::Meta::YAML       0.003    0.018   
    File::Temp             0.15     0.2311  
    Parse::CPAN::Meta      1.4401   2.150010
    TAP::Harness           3.29     3.44    
    Test::More             0.49     1.302194

configure_requires:

    Module                 Need     Have    
    ---------------------- -------- --------
    CPAN::Meta             2.142060 2.150010
    File::Basename         0        2.86    
    File::Copy             0        2.41    
    File::Path             0        2.18    
    File::Spec             0.82     3.88    
    Module::Metadata       1.000002 1.000038
    Perl::OSType           1        1.010   
    version                0.87     0.9929  

opt_requires:

    Module                 Need     Have    
    ---------------------- -------- --------
    ExtUtils::Install      0.3      2.22    
    ExtUtils::Manifest     1.54     1.73    


------------------------------
ENVIRONMENT AND OTHER CONTEXT
------------------------------

Environment variables:

    COMSPEC = C:\WINDOWS\system32\cmd.exe
    INCLUDE = C:\Program Files\Microsoft Visual Studio\2022\Community\VC\Tools\MSVC\14.33.31629\include;C:\Program Files\Microsoft Visual Studio\2022\Community\VC\Tools\MSVC\14.33.31629\ATLMFC\include;C:\Program Files\Microsoft Visual Studio\2022\Community\VC\Auxiliary\VS\include;C:\Program Files (x86)\Windows Kits\10\include\10.0.19041.0\ucrt;C:\Program Files (x86)\Windows Kits\10\\include\10.0.19041.0\\um;C:\Program Files (x86)\Windows Kits\10\\include\10.0.19041.0\\shared;C:\Program Files (x86)\Windows Kits\10\\include\10.0.19041.0\\winrt;C:\Program Files (x86)\Windows Kits\10\\include\10.0.19041.0\\cppwinrt;C:\perl64\local\include
    LC_ALL = C
    LIB = C:\Program Files\Microsoft Visual Studio\2022\Community\VC\Tools\MSVC\14.33.31629\ATLMFC\lib\x64;C:\Program Files\Microsoft Visual Studio\2022\Community\VC\Tools\MSVC\14.33.31629\lib\x64;C:\Program Files (x86)\Windows Kits\10\lib\10.0.19041.0\ucrt\x64;C:\Program Files (x86)\Windows Kits\10\\lib\10.0.19041.0\\um\x64
    NONINTERACTIVE_TESTING = 1
    NUMBER_OF_PROCESSORS = 4
    PATH = C:\home\mountain53711\perl5\bin;C:\perl64\5.37.11\bin;C:\build-openssl\bin;C:\Program Files\Microsoft Visual Studio\2022\Community\VC\Tools\MSVC\14.33.31629\bin\HostX64\x64;C:\Program Files\Microsoft Visual Studio\2022\Community\Common7\IDE\VC\VCPackages;C:\Program Files\Microsoft Visual Studio\2022\Community\Common7\IDE\CommonExtensions\Microsoft\TestWindow;C:\Program Files\Microsoft Visual Studio\2022\Community\Common7\IDE\CommonExtensions\Microsoft\TeamFoundation\Team Explorer;C:\Program Files\Microsoft Visual Studio\2022\Community\MSBuild\Current\bin\Roslyn;C:\Program Files\Microsoft Visual Studio\2022\Community\Team Tools\Performance Tools\x64;C:\Program Files\Microsoft Visual Studio\2022\Community\Team Tools\Performance Tools;C:\Program Files (x86)\Windows Kits\10\bin\10.0.19041.0\\x64;C:\Program Files (x86)\Windows Kits\10\bin\\x64;C:\Program Files\Microsoft Visual Studio\2022\Community\\MSBuild\Current\Bin\amd64;C:\Windows\Microsoft.NET\Framework64\v4.0.30319;C:\Program Files\Microsoft Visual Studio\2022\Community\Common7\IDE\;C:\Program Files\Microsoft Visual Studio\2022\Community\Common7\Tools\;C:\Program Files (x86)\Windows Resource Kits\Tools\;C:\WINDOWS\system32;C:\WINDOWS;C:\WINDOWS\System32\Wbem;C:\WINDOWS\System32\WindowsPowerShell\v1.0\;C:\Program Files\Microsoft Visual Studio\2022\Community\Common7\IDE\CommonExtensions\Microsoft\CMake\CMake\bin;C:\Program Files\Microsoft Visual Studio\2022\Community\Common7\IDE\CommonExtensions\Microsoft\CMake\Ninja;C:\Program Files\Microsoft Visual Studio\2022\Community\Common7\IDE\VC\Linux\bin\ConnectionManagerExe
    PERL5LIB = C:\home\mountain53711\perl5\lib\perl5
    PERL5OPT = 
    PERL5_CPANPLUS_IS_RUNNING = 10144
    PERL5_CPAN_IS_RUNNING = 10144
    PERL_LOCAL_LIB_ROOT = C:\home\mountain53711\perl5
    PERL_MB_OPT = --install_base "C:\\home\\mountain53711\\perl5"
    PERL_MM_OPT = INSTALL_BASE=C:\\home\\mountain53711\\perl5
    PERL_MM_USE_DEFAULT = 1
    PERL_USE_UNSAFE_INC = 1
    PROCESSOR_IDENTIFIER = Intel64 Family 6 Model 58 Stepping 9, GenuineIntel
    TEMP = C:\Users\USER\AppData\Local\Temp
    TERM = dumb

Perl special variables (and OS-specific diagnostics, for MSWin32):

    $^X = C:\perl64\5.37.11\bin\perl.exe
    $UID/$EUID = 0 / 0
    $GID = 0
    $EGID = 0
    Win32::GetOSName = Win8.1
    Win32::GetOSVersion = , 6, 3, 9600, 2, 0, 0, 256, 1
    Win32::FsType = NTFS
    Win32::IsAdminUser = 0

Perl module toolchain versions installed:

    Module              Have    
    ------------------- --------
    CPAN                2.34    
    CPAN::Meta          2.150010
    Cwd                 3.89    
    ExtUtils::CBuilder  0.280238
    ExtUtils::Command   7.70    
    ExtUtils::Install   2.22    
    ExtUtils::MakeMaker 7.70    
    ExtUtils::Manifest  1.73    
    ExtUtils::ParseXS   3.50    
    File::Spec          3.88    
    JSON                4.10    
    JSON::PP            4.16    
    Module::Build       0.4232  
    Module::Signature   n/a     
    Parse::CPAN::Meta   2.150010
    Test::Harness       3.44    
    Test::More          1.302194
    YAML                n/a     
    YAML::Syck          n/a     
    version             0.9929  


--

Summary of my perl5 (revision 5 version 37 subversion 11) configuration:
   
  Platform:
    osname=MSWin32
    osvers=6.3.9600
    archname=MSWin32-x64-multi-thread
    uname=''
    config_args='undef'
    hint=recommended
    useposix=true
    d_sigaction=undef
    useithreads=define
    usemultiplicity=define
    use64bitint=define
    use64bitall=undef
    uselongdouble=undef
    usemymalloc=n
    default_inc_excludes_dot=define
  Compiler:
    cc='cl'
    ccflags ='-nologo -GF -W3 -MD -DWIN32 -D_CONSOLE -DNO_STRICT -DWIN64 -D_CRT_SECURE_NO_DEPRECATE -D_CRT_NONSTDC_NO_DEPRECATE -D_WINSOCK_DEPRECATED_NO_WARNINGS  -DPERL_TEXTMODE_SCRIPTS -DMULTIPLICITY -DPERL_IMPLICIT_SYS'
    optimize='-O1 -Zi -GL -fp:precise'
    cppflags='-DWIN32'
    ccversion='19.33.31630'
    gccversion=''
    gccosandvers=''
    intsize=4
    longsize=4
    ptrsize=8
    doublesize=8
    byteorder=12345678
    doublekind=3
    d_longlong=undef
    longlongsize=8
    d_longdbl=define
    longdblsize=8
    longdblkind=0
    ivtype='__int64'
    ivsize=8
    nvtype='double'
    nvsize=8
    Off_t='__int64'
    lseeksize=8
    alignbytes=8
    prototype=define
  Linker and Libraries:
    ld='link'
    ldflags ='-nologo -nodefaultlib -debug -opt:ref,icf -ltcg  -libpath:"c:\perl64\5.37.11\lib\CORE"  -machine:AMD64 -subsystem:console,"5.02"'
    libpth="C:\Program Files\Microsoft Visual Studio\2022\Community\VC\Tools\MSVC\14.33.31629\\lib\x64"
    libs=oldnames.lib kernel32.lib user32.lib gdi32.lib winspool.lib  comdlg32.lib advapi32.lib shell32.lib ole32.lib oleaut32.lib  netapi32.lib uuid.lib ws2_32.lib mpr.lib winmm.lib  version.lib odbc32.lib odbccp32.lib comctl32.lib msvcrt.lib vcruntime.lib ucrt.lib
    perllibs=oldnames.lib kernel32.lib user32.lib gdi32.lib winspool.lib  comdlg32.lib advapi32.lib shell32.lib ole32.lib oleaut32.lib  netapi32.lib uuid.lib ws2_32.lib mpr.lib winmm.lib  version.lib odbc32.lib odbccp32.lib comctl32.lib msvcrt.lib vcruntime.lib ucrt.lib
    libc=ucrt.lib
    so=dll
    useshrplib=true
    libperl=perl537.lib
    gnulibc_version=''
  Dynamic Linking:
    dlsrc=dl_win32.xs
    dlext=dll
    d_dlsymun=undef
    ccdlflags=' '
    cccdlflags=' '
    lddlflags='-dll -nologo -nodefaultlib -debug -opt:ref,icf -ltcg  -libpath:"c:\perl64\5.37.11\lib\CORE"  -machine:AMD64 -subsystem:console,"5.02"'


Characteristics of this binary (from libperl): 
  Compile-time options:
    HAS_LONG_DOUBLE
    HAS_TIMES
    HAVE_INTERP_INTERN
    MULTIPLICITY
    PERLIO_LAYERS
    PERL_COPY_ON_WRITE
    PERL_DONT_CREATE_GVSV
    PERL_HASH_FUNC_SIPHASH13
    PERL_HASH_USE_SBOX32
    PERL_IMPLICIT_SYS
    PERL_MALLOC_WRAP
    PERL_OP_PARENT
    PERL_PRESERVE_IVUV
    PERL_USE_SAFE_PUTENV
    USE_64_BIT_INT
    USE_ITHREADS
    USE_LARGE_FILES
    USE_LOCALE
    USE_LOCALE_COLLATE
    USE_LOCALE_CTYPE
    USE_LOCALE_NUMERIC
    USE_LOCALE_TIME
    USE_PERLIO
    USE_PERL_ATOF
    USE_THREAD_SAFE_LOCALE
  Built under MSWin32
  Compiled at Apr 22 2023 11:35:36
  %ENV:
    PERL5LIB="C:\home\mountain53711\perl5\lib\perl5"
    PERL5_CPANPLUS_IS_RUNNING="10144"
    PERL5_CPAN_IS_RUNNING="10144"
    PERL_LOCAL_LIB_ROOT="C:\home\mountain53711\perl5"
    PERL_MB_OPT="--install_base "C:\\home\\mountain53711\\perl5""
    PERL_MM_OPT="INSTALL_BASE=C:\\home\\mountain53711\\perl5"
    PERL_MM_USE_DEFAULT="1"
    PERL_USE_UNSAFE_INC="1"
  @INC:
    C:\home\mountain53711\perl5\lib\perl5/MSWin32-x64-multi-thread
    C:\home\mountain53711\perl5\lib\perl5
    C:/perl64/site/5.37.11/lib
    C:/perl64/5.37.11/lib
    .