Back
From: metabase:user:322078bc-2aae-11df-837a-5e0a49663a4f
Subject: PASS File-PathInfo-1.27 v5.14.2 GNU/Linux
Date: 2012-01-10T10:27:17Z
This distribution has been tested as part of the CPAN Testers
project, supporting the Perl programming language. See
http://wiki.cpantesters.org/ for more information or email
questions to cpan-testers-discuss@perl.org
--
Dear Leo Charre,
This is a computer-generated error report created automatically by
CPANPLUS, version 0.9116. Testers personal comments may appear
at the end of this report.
MAKE TEST passed: PERL_DL_NONLAZY=1 /home/cpan/pit/thr-ld/perl-5.14.2/bin/perl "-MExtUtils::Command::MM" "-e" "test_harness(0, 'blib/lib', 'blib/arch')" t/*.t
'/i do not exist/at all/1326191199' is not on disk
set() '/i do not exist/at all/1326191199' is not on disk. at lib/File/PathInfo.pm line 55
File::PathInfo::set('File::PathInfo=HASH(0x784a60)', '/i do not exist/at all/1326191199') called at t/0_fpi.t line 23
--------------------------------------------------------------------------------
arg is not a ref, treating as arg
--------------------------------------------------------------------------------
arg is not a ref, treating as arg
--------------------------------------------------------------------------------
arg is not a ref, treating as arg
--------------------------------------------------------------------------------
arg is not a ref, treating as arg
--------------------------------------------------------------------------------
arg is not a ref, treating as arg
--------------------------------------------------------------------------------
arg is not a ref, treating as arg
2) things we know are not in doc root
--------------------------------------------------------------------------------
--------------------------------------------------------------------------------
'/home/cpan/pit/thr-ld/conf/perl-5.14.2/.cpanplus/5.14.2/build/File-PathInfo-1.27/t/public_html/demo/cvil.txt' is not on disk
set() './t/public_html/demo/../demo/cvil.txt' is not on disk. at lib/File/PathInfo.pm line 55
File::PathInfo::set('File::PathInfo=HASH(0x9be3d8)', './t/public_html/demo/../demo/cvil.txt') called at t/0_fpi.t line 128
'/home/cpan/pit/thr-ld/conf/perl-5.14.2/.cpanplus/5.14.2/build/File-PathInfo-1.27/t/public_html/de41zmo' is not on disk
set() './t/public_html/de41zmo' is not on disk. at lib/File/PathInfo.pm line 55
File::PathInfo::set('File::PathInfo=HASH(0xaa7988)', './t/public_html/de41zmo') called at t/0_fpi.t line 145
'/home/cpan/pit/thr-ld/conf/perl-5.14.2/.cpanplus/5.14.2/build/File-PathInfo-1.27/t/public_html/demvo2' is not on disk
set() 'demvo2' is not on disk. at lib/File/PathInfo.pm line 55
File::PathInfo::set('File::PathInfo=HASH(0xaa7988)', 'demvo2') called at t/0_fpi.t line 145
t/0_fpi.t ....... ok
argument: './t/public_html/demo/../demo/civil.rtxt/', cant resolve as path rel to current working dir with Cwd abs_path
set() './t/public_html/demo/../demo/civil.rtxt/' is not on disk. at lib/File/PathInfo.pm line 55
File::PathInfo::set('File::PathInfo=HASH(0xaa7988)', './t/public_html/demo/../demo/civil.rtxt/') called at t/0_fpi.t line 145
2) things that do not exist.
set() './t/public_html/hhahahahahahahouse.txt' is not on disk. at lib/File/PathInfo.pm line 55
File::PathInfo::set('File::PathInfo=HASH(0xa84010)', './t/public_html/hhahahahahahahouse.txt') called at lib/File/PathInfo.pm line 42
File::PathInfo::new('File::PathInfo', './t/public_html/hhahahahahahahouse.txt') called at t/1_fpi_hash.t line 35
failed set() ./t/public_html/hhahahahahahahouse.txt at lib/File/PathInfo.pm line 42
File::PathInfo::new('File::PathInfo', './t/public_html/hhahahahahahahouse.txt') called at t/1_fpi_hash.t line 35
File::PathInfo : no file is set(). Use set(). at lib/File/PathInfo.pm line 303
File::PathInfo::_stat('File::PathInfo=HASH(0xa84010)') called at lib/File/PathInfo.pm line 372
File::PathInfo::get_datahash('File::PathInfo=HASH(0xa84010)') called at t/1_fpi_hash.t line 49
set() '/nons/ense' is not on disk. at lib/File/PathInfo.pm line 55
File::PathInfo::set('File::PathInfo=HASH(0xa84010)', '/nons/ense') called at lib/File/PathInfo.pm line 42
File::PathInfo::new('File::PathInfo', '/nons/ense') called at t/1_fpi_hash.t line 35
failed set() /nons/ense at lib/File/PathInfo.pm line 42
File::PathInfo::new('File::PathInfo', '/nons/ense') called at t/1_fpi_hash.t line 35
File::PathInfo : no file is set(). Use set(). at lib/File/PathInfo.pm line 303
File::PathInfo::_stat('File::PathInfo=HASH(0xa84010)') called at lib/File/PathInfo.pm line 372
File::PathInfo::get_datahash('File::PathInfo=HASH(0xa84010)') called at t/1_fpi_hash.t line 49
set() '/moreneo/nensense' is not on disk. at lib/File/PathInfo.pm line 55
File::PathInfo::set('File::PathInfo=HASH(0xa84010)', '/moreneo/nensense') called at lib/File/PathInfo.pm line 42
File::PathInfo::new('File::PathInfo', '/moreneo/nensense') called at t/1_fpi_hash.t line 35
failed set() /moreneo/nensense at lib/File/PathInfo.pm line 42
File::PathInfo::new('File::PathInfo', '/moreneo/nensense') called at t/1_fpi_hash.t line 35
File::PathInfo : no file is set(). Use set(). at lib/File/PathInfo.pm line 303
File::PathInfo::_stat('File::PathInfo=HASH(0xa84010)') called at lib/File/PathInfo.pm line 372
File::PathInfo::get_datahash('File::PathInfo=HASH(0xa84010)') called at t/1_fpi_hash.t line 49
t/1_fpi_hash.t .. ok
t/2_errstr.t .... ok
All tests successful.
Files=3, Tests=78, 0 wallclock secs ( 0.02 usr 0.00 sys + 0.10 cusr 0.02 csys = 0.14 CPU)
Result: PASS
[MSG] [Tue Jan 10 10:26:39 2012] Sending test report for 'File-PathInfo-1.27'
PREREQUISITES:
Here is a list of prerequisites you specified and versions we
managed to load:
Module Name Have Want
Cwd 3.36 0.1
ExtUtils::MakeMaker 6.62 0
Smart::Comments 1.0.4 0
Time::Format 1.11 0.01
Perl module toolchain versions installed:
Module Name Have
CPANPLUS 0.9116
CPANPLUS::Dist::Build 0.60
Cwd 3.36
ExtUtils::CBuilder 0.280203
ExtUtils::Command 1.17
ExtUtils::Install 1.56
ExtUtils::MakeMaker 6.62
ExtUtils::Manifest 1.60
ExtUtils::ParseXS 3.11
File::Spec 3.33
Module::Build 0.3800
Test::Harness 3.23
Test::More 0.98
version 0.95
******************************** NOTE ********************************
The comments above are created mechanically, possibly without manual
checking by the sender. As there are many people performing automatic
tests on each upload to CPAN, it is likely that you will receive
identical messages about the same problem.
If you believe that the message is mistaken, please reply to the first
one with correction and/or additional informations, and do not take
it personally. We appreciate your patience. :)
**********************************************************************
Additional comments:
This report was machine-generated by CPANPLUS::Dist::YACSmoke 0.66.
Powered by minismokebox version 0.54
------------------------------
ENVIRONMENT AND OTHER CONTEXT
------------------------------
Environment variables:
AUTOMATED_TESTING = 1
LANG = en_US
LC_COLLATE = C
PATH = /usr/local/bin:/usr/bin:/bin:/usr/games:/usr/lib64/java/bin:/usr/lib64/qt/bin:/usr/share/texmf/bin:.
PERL5LIB = :/home/cpan/pit/thr-ld/conf/perl-5.14.2/.cpanplus/5.14.2/build/Crypt-RC4-2.02/blib/lib:/home/cpan/pit/thr-ld/conf/perl-5.14.2/.cpanplus/5.14.2/build/Crypt-RC4-2.02/blib/arch:/home/cpan/pit/thr-ld/conf/perl-5.14.2/.cpanplus/5.14.2/build/Text-PDF-0.29/blib/lib:/home/cpan/pit/thr-ld/conf/perl-5.14.2/.cpanplus/5.14.2/build/Text-PDF-0.29/blib/arch:/home/cpan/pit/thr-ld/conf/perl-5.14.2/.cpanplus/5.14.2/build/CAM-PDF-1.57/blib/lib:/home/cpan/pit/thr-ld/conf/perl-5.14.2/.cpanplus/5.14.2/build/CAM-PDF-1.57/blib/arch:/home/cpan/pit/thr-ld/conf/perl-5.14.2/.cpanplus/5.14.2/build/Smart-Comments-1.0.4/blib/lib:/home/cpan/pit/thr-ld/conf/perl-5.14.2/.cpanplus/5.14.2/build/Smart-Comments-1.0.4/blib/arch:/home/cpan/pit/thr-ld/conf/perl-5.14.2/.cpanplus/5.14.2/build/Time-Format-1.11/blib/lib:/home/cpan/pit/thr-ld/conf/perl-5.14.2/.cpanplus/5.14.2/build/Time-Format-1.11/blib/arch:/home/cpan/pit/thr-ld/conf/perl-5.14.2/.cpanplus/5.14.2/build/File-PathInfo-1.27/blib/lib:/home/cpan/pit/thr-ld/conf/perl-5.14.2/.cpanplus/5.14.2/build/File-PathInfo-1.27/blib/arch
PERL5_CPANPLUS_IS_RUNNING = 19903
PERL5_CPANPLUS_IS_VERSION = 0.9116
PERL5_MINISMOKEBOX = 0.54
PERL5_YACSMOKE_BASE = /home/cpan/pit/thr-ld/conf/perl-5.14.2
PERL_EXTUTILS_AUTOINSTALL = --defaultdeps
PERL_MM_USE_DEFAULT = 1
SHELL = /bin/bash
TERM = screen
Perl special variables (and OS-specific diagnostics, for MSWin32):
Perl: $^X = /home/cpan/pit/thr-ld/perl-5.14.2/bin/perl
UID: $< = 1001
EUID: $> = 1001
GID: $( = 100 100
EGID: $) = 100 100
-------------------------------
--
Summary of my perl5 (revision 5 version 14 subversion 2) configuration:
Platform:
osname=linux, osvers=2.6.33.4, archname=x86_64-linux-thread-multi-ld
uname='linux slack64 2.6.33.4 #3 smp wed may 12 23:13:09 cdt 2010 x86_64 intel(r) xeon(r) cpu e5520 @ 2.27ghz genuineintel gnulinux '
config_args='-des -Dprefix=/home/cpan/pit/thr-ld/perl-5.14.2 -Dusethreads -Duselongdouble'
hint=recommended, useposix=true, d_sigaction=define
useithreads=define, usemultiplicity=define
useperlio=define, d_sfio=undef, uselargefiles=define, usesocks=undef
use64bitint=define, use64bitall=define, uselongdouble=define
usemymalloc=n, bincompat5005=undef
Compiler:
cc='cc', ccflags ='-D_REENTRANT -D_GNU_SOURCE -fno-strict-aliasing -pipe -fstack-protector -I/usr/local/include -D_LARGEFILE_SOURCE -D_FILE_OFFSET_BITS=64',
optimize='-O2',
cppflags='-D_REENTRANT -D_GNU_SOURCE -fno-strict-aliasing -pipe -fstack-protector -I/usr/local/include'
ccversion='', gccversion='4.4.4', gccosandvers=''
intsize=4, longsize=8, ptrsize=8, doublesize=8, byteorder=12345678
d_longlong=define, longlongsize=8, d_longdbl=define, longdblsize=16
ivtype='long', ivsize=8, nvtype='long double', nvsize=16, Off_t='off_t', lseeksize=8
alignbytes=16, prototype=define
Linker and Libraries:
ld='cc', ldflags =' -fstack-protector -L/usr/local/lib'
libpth=/usr/local/lib /lib/../lib64 /usr/lib/../lib64 /lib /usr/lib /lib64 /usr/lib64 /usr/local/lib64
libs=-lnsl -lgdbm -ldb -ldl -lm -lcrypt -lutil -lpthread -lc
perllibs=-lnsl -ldl -lm -lcrypt -lutil -lpthread -lc
libc=, so=so, useshrplib=false, libperl=libperl.a
gnulibc_version='2.11.1'
Dynamic Linking:
dlsrc=dl_dlopen.xs, dlext=so, d_dlsymun=undef, ccdlflags='-Wl,-E'
cccdlflags='-fPIC', lddlflags='-shared -O2 -L/usr/local/lib -fstack-protector'
Characteristics of this binary (from libperl):
Compile-time options: MULTIPLICITY PERL_DONT_CREATE_GVSV
PERL_IMPLICIT_CONTEXT PERL_MALLOC_WRAP
PERL_PRESERVE_IVUV USE_64_BIT_ALL USE_64_BIT_INT
USE_ITHREADS USE_LARGE_FILES USE_LONG_DOUBLE
USE_PERLIO USE_PERL_ATOF USE_REENTRANT_API
Built under linux
Compiled at Jan 6 2012 00:59:43
%ENV:
PERL5LIB=":/home/cpan/pit/thr-ld/conf/perl-5.14.2/.cpanplus/5.14.2/build/Crypt-RC4-2.02/blib/lib:/home/cpan/pit/thr-ld/conf/perl-5.14.2/.cpanplus/5.14.2/build/Crypt-RC4-2.02/blib/arch:/home/cpan/pit/thr-ld/conf/perl-5.14.2/.cpanplus/5.14.2/build/Text-PDF-0.29/blib/lib:/home/cpan/pit/thr-ld/conf/perl-5.14.2/.cpanplus/5.14.2/build/Text-PDF-0.29/blib/arch:/home/cpan/pit/thr-ld/conf/perl-5.14.2/.cpanplus/5.14.2/build/CAM-PDF-1.57/blib/lib:/home/cpan/pit/thr-ld/conf/perl-5.14.2/.cpanplus/5.14.2/build/CAM-PDF-1.57/blib/arch:/home/cpan/pit/thr-ld/conf/perl-5.14.2/.cpanplus/5.14.2/build/Smart-Comments-1.0.4/blib/lib:/home/cpan/pit/thr-ld/conf/perl-5.14.2/.cpanplus/5.14.2/build/Smart-Comments-1.0.4/blib/arch:/home/cpan/pit/thr-ld/conf/perl-5.14.2/.cpanplus/5.14.2/build/Time-Format-1.11/blib/lib:/home/cpan/pit/thr-ld/conf/perl-5.14.2/.cpanplus/5.14.2/build/Time-Format-1.11/blib/arch:/home/cpan/pit/thr-ld/conf/perl-5.14.2/.cpanplus/5.14.2/build/File-PathInfo-1.27/blib/lib:/home/cpan/pit/thr-ld/conf/perl-5.14.2/.cpanplus/5.14.2/build/File-PathInfo-1.27/blib/arch"
PERL5_CPANPLUS_IS_RUNNING="19903"
PERL5_CPANPLUS_IS_VERSION="0.9116"
PERL5_MINISMOKEBOX="0.54"
PERL5_YACSMOKE_BASE="/home/cpan/pit/thr-ld/conf/perl-5.14.2"
PERL_EXTUTILS_AUTOINSTALL="--defaultdeps"
PERL_MM_USE_DEFAULT="1"
@INC:
/home/cpan/pit/thr-ld/conf/perl-5.14.2/.cpanplus/5.14.2/build/Crypt-RC4-2.02/blib/lib
/home/cpan/pit/thr-ld/conf/perl-5.14.2/.cpanplus/5.14.2/build/Crypt-RC4-2.02/blib/arch
/home/cpan/pit/thr-ld/conf/perl-5.14.2/.cpanplus/5.14.2/build/Text-PDF-0.29/blib/lib
/home/cpan/pit/thr-ld/conf/perl-5.14.2/.cpanplus/5.14.2/build/Text-PDF-0.29/blib/arch
/home/cpan/pit/thr-ld/conf/perl-5.14.2/.cpanplus/5.14.2/build/CAM-PDF-1.57/blib/lib
/home/cpan/pit/thr-ld/conf/perl-5.14.2/.cpanplus/5.14.2/build/CAM-PDF-1.57/blib/arch
/home/cpan/pit/thr-ld/conf/perl-5.14.2/.cpanplus/5.14.2/build/Smart-Comments-1.0.4/blib/lib
/home/cpan/pit/thr-ld/conf/perl-5.14.2/.cpanplus/5.14.2/build/Smart-Comments-1.0.4/blib/arch
/home/cpan/pit/thr-ld/conf/perl-5.14.2/.cpanplus/5.14.2/build/Time-Format-1.11/blib/lib
/home/cpan/pit/thr-ld/conf/perl-5.14.2/.cpanplus/5.14.2/build/Time-Format-1.11/blib/arch
/home/cpan/pit/thr-ld/conf/perl-5.14.2/.cpanplus/5.14.2/build/File-PathInfo-1.27/blib/lib
/home/cpan/pit/thr-ld/conf/perl-5.14.2/.cpanplus/5.14.2/build/File-PathInfo-1.27/blib/arch
/home/cpan/pit/thr-ld/perl-5.14.2/lib/site_perl/5.14.2/x86_64-linux-thread-multi-ld
/home/cpan/pit/thr-ld/perl-5.14.2/lib/site_perl/5.14.2
/home/cpan/pit/thr-ld/perl-5.14.2/lib/5.14.2/x86_64-linux-thread-multi-ld
/home/cpan/pit/thr-ld/perl-5.14.2/lib/5.14.2
.