Report for Class-Agreement-0.02

Back
From: metabase:user:d2c9f356-b46f-11df-9a90-20a83c0b7757
Subject: PASS Class-Agreement-0.02 v5.17.3 SunOS/Solaris
Date: 2012-09-26T19:52:14Z

This distribution has been tested as part of the CPAN Testers
project, supporting the Perl programming language.  See
http://wiki.cpantesters.org/ for more information or email
questions to cpan-testers-discuss@perl.org


--
Dear Ian Langworth,

This is a computer-generated report for Class-Agreement-0.02
on perl 5.17.3, created by CPAN-Reporter-1.2006.

Thank you for uploading your work to CPAN.  Congratulations!
All tests were successful.

Sections of this report:

    * Tester comments
    * Program output
    * Prerequisites
    * Environment and other context

------------------------------
TESTER COMMENTS
------------------------------

Additional comments from tester:

this report is from an automated smoke testing program
and was not reviewed by a human for accuracy

------------------------------
PROGRAM OUTPUT
------------------------------

Output from '/usr/local/bin/make test':

PERL_DL_NONLAZY=1 /export/home/cpant5/perl5/perlbrew/perls/perl-5.17.3/bin/perl5.17.3 "-MExtUtils::Command::MM" "-e" "test_harness(0, 'blib/lib', 'blib/arch')" t/*.t
t/0-signature.t .............. ok
t/00-load.t .................. ok
t/context.t .................. ok
t/data-validate.t ............ skipped: Optional module Data::Validate 0.04 required for this test
t/dependent-function.t ....... ok
t/dependent-method.t ......... ok
t/explicitpackage.t .......... ok
t/firstorder-blame.t ......... ok
t/generate-assertions.t ...... ok
t/generated-methods.t ........ ok
t/invariant.t ................ ok
t/overrides.t ................ ok
t/pod-coverage.t ............. ok
t/pod.t ...................... ok
t/postcondition-function.t ... ok
t/postcondition-method.t ..... ok
t/precondition-function.t .... ok
t/precondition-method.t ...... ok
t/propagate-to-subclasses.t .. ok
t/result-badusage.t .......... ok
Prototype mismatch: sub Antelope::inline_as (&) vs none at /export/home/cpant5/.cpan/build/Class-Agreement-0.02-jETeqx/blib/lib/Class/Agreement.pm line 243.
Prototype mismatch: sub Antelope::message (&) vs none at /export/home/cpant5/.cpan/build/Class-Agreement-0.02-jETeqx/blib/lib/Class/Agreement.pm line 243.
Prototype mismatch: sub Antelope::optimize_as (&) vs none at /export/home/cpant5/.cpan/build/Class-Agreement-0.02-jETeqx/blib/lib/Class/Agreement.pm line 243.
Prototype mismatch: sub Antelope::role_type ($;$) vs none at /export/home/cpant5/.cpan/build/Class-Agreement-0.02-jETeqx/blib/lib/Class/Agreement.pm line 243.
Prototype mismatch: sub Antelope::via (&) vs none at /export/home/cpant5/.cpan/build/Class-Agreement-0.02-jETeqx/blib/lib/Class/Agreement.pm line 243.
Prototype mismatch: sub Antelope::where (&) vs none at /export/home/cpant5/.cpan/build/Class-Agreement-0.02-jETeqx/blib/lib/Class/Agreement.pm line 243.
t/specify-constructors.t ..... ok
t/use-twice.t ................ ok
All tests successful.
Files=22, Tests=249,  4 wallclock secs ( 0.30 usr  0.18 sys +  3.04 cusr  0.47 csys =  3.99 CPU)
Result: PASS

------------------------------
PREREQUISITES
------------------------------

Prerequisite modules loaded:

requires:

    Module              Need Have   
    ------------------- ---- -------
    Class::Inspector    1.13 1.27   
    Scalar::Util        1.17 1.25   
    Test::Exception     0.20 0.31   
    Test::More          0.54 0.98   

build_requires:

    Module              Need Have   
    ------------------- ---- -------
    ExtUtils::MakeMaker 0    6.63_02


------------------------------
ENVIRONMENT AND OTHER CONTEXT
------------------------------

Environment variables:

    AUTOMATED_TESTING = 1
    LANG = C
    LD_LIBRARY_PATH = /usr/local/lib:
    MANPATH_WITHOUT_PERLBREW = 
    PATH = /export/home/cpant5/perl5/perlbrew/bin:/export/home/cpant5/perl5/perlbrew/perls/perl-5.17.3/bin:/export/home/cpant5/perl5/bin:/usr/local/bin:/usr/bin
    PATH_WITHOUT_PERLBREW = /export/home/cpant5/perl5/bin:/usr/local/bin:/usr/bin
    PERL5LIB = 
    PERL5OPT = 
    PERL5_CPANPLUS_IS_RUNNING = 28325
    PERL5_CPAN_IS_RUNNING = 28325
    PERL5_CPAN_IS_RUNNING_IN_RECURSION = 8132,28325
    PERLBREW_BASHRC_VERSION = 0.44
    PERLBREW_HOME = /export/home/cpant5/.perlbrew
    PERLBREW_MANPATH = /export/home/cpant5/perl5/perlbrew/perls/perl-5.17.3/man
    PERLBREW_PATH = /export/home/cpant5/perl5/perlbrew/bin:/export/home/cpant5/perl5/perlbrew/perls/perl-5.17.3/bin
    PERLBREW_PERL = perl-5.17.3
    PERLBREW_ROOT = /export/home/cpant5/perl5/perlbrew
    PERLBREW_VERSION = 0.44
    PERL_CR_SMOKER_CURRENT = Class-Agreement-0.02
    PERL_EXTUTILS_AUTOINSTALL = --defaultdeps
    PERL_MM_USE_DEFAULT = 1
    SHELL = /bin/bash
    TERM = xterm

Perl special variables (and OS-specific diagnostics, for MSWin32):

    $^X = /export/home/cpant5/perl5/perlbrew/perls/perl-5.17.3/bin/perl5.17.3
    $UID/$EUID = 105 / 105
    $GID = 1 1
    $EGID = 1 1

Perl module toolchain versions installed:

    Module              Have    
    ------------------- --------
    CPAN                1.9800  
    CPAN::Meta          2.120921
    Cwd                 3.39_02 
    ExtUtils::CBuilder  0.280208
    ExtUtils::Command   1.17    
    ExtUtils::Install   1.58    
    ExtUtils::MakeMaker 6.63_02 
    ExtUtils::Manifest  1.61    
    ExtUtils::ParseXS   3.17    
    File::Spec          3.39_02 
    JSON                2.53    
    JSON::PP            2.27200 
    Module::Build       0.4003  
    Module::Signature   n/a     
    Parse::CPAN::Meta   1.4404  
    Test::Harness       3.25_01 
    Test::More          0.98    
    YAML                0.84    
    YAML::Syck          1.21    
    version             0.9901  


--

Summary of my perl5 (revision 5 version 17 subversion 3) configuration:
   
  Platform:
    osname=solaris, osvers=2.10, archname=i86pc-solaris-64int
    uname='sunos vmrz0046 5.10 generic_141445-09 i86pc i386 i86pc solaris '
    config_args='-de -Dprefix=/export/home/cpant5/perl5/perlbrew/perls/perl-5.17.3 -Dcc=gcc -Duse64bitint -Dusedevel -Dusedevel -Aeval:scriptdir=/export/home/cpant5/perl5/perlbrew/perls/perl-5.17.3/bin'
    hint=recommended, useposix=true, d_sigaction=define
    useithreads=undef, usemultiplicity=undef
    useperlio=define, d_sfio=undef, uselargefiles=define, usesocks=undef
    use64bitint=define, use64bitall=undef, uselongdouble=undef
    usemymalloc=n, bincompat5005=undef
  Compiler:
    cc='gcc', ccflags ='-DPTR_IS_LONG -fno-strict-aliasing -pipe -I/usr/local/include -D_LARGEFILE_SOURCE -D_FILE_OFFSET_BITS=64 -DPERL_USE_SAFE_PUTENV',
    optimize='-O',
    cppflags='-DPTR_IS_LONG -fno-strict-aliasing -pipe -I/usr/local/include'
    ccversion='', gccversion='3.4.6', gccosandvers='solaris2.10'
    intsize=4, longsize=4, ptrsize=4, doublesize=8, byteorder=12345678
    d_longlong=define, longlongsize=8, d_longdbl=define, longdblsize=12
    ivtype='long long', ivsize=8, nvtype='double', nvsize=8, Off_t='off_t', lseeksize=8
    alignbytes=4, prototype=define
  Linker and Libraries:
    ld='gcc', ldflags =' -L/usr/local/lib '
    libpth=/usr/local/lib /usr/lib /usr/ccs/lib
    libs=-lsocket -lnsl -lgdbm -ldl -lm -lc
    perllibs=-lsocket -lnsl -ldl -lm -lc
    libc=/lib/libc.so, so=so, useshrplib=false, libperl=libperl.a
    gnulibc_version=''
  Dynamic Linking:
    dlsrc=dl_dlopen.xs, dlext=so, d_dlsymun=undef, ccdlflags=' '
    cccdlflags='-fPIC', lddlflags='-G -L/usr/local/lib'


Characteristics of this binary (from libperl): 
  Compile-time options: HAS_TIMES PERLIO_LAYERS PERL_DONT_CREATE_GVSV
                        PERL_MALLOC_WRAP PERL_PRESERVE_IVUV PERL_USE_DEVEL
                        PERL_USE_SAFE_PUTENV USE_64_BIT_INT USE_LARGE_FILES
                        USE_LOCALE USE_LOCALE_COLLATE USE_LOCALE_CTYPE
                        USE_LOCALE_NUMERIC USE_PERLIO USE_PERL_ATOF
  Built under solaris
  Compiled at Aug 24 2012 11:19:45
  %ENV:
    PERL5LIB=""
    PERL5OPT=""
    PERL5_CPANPLUS_IS_RUNNING="28325"
    PERL5_CPAN_IS_RUNNING="28325"
    PERL5_CPAN_IS_RUNNING_IN_RECURSION="8132,28325"
    PERLBREW_BASHRC_VERSION="0.44"
    PERLBREW_HOME="/export/home/cpant5/.perlbrew"
    PERLBREW_MANPATH="/export/home/cpant5/perl5/perlbrew/perls/perl-5.17.3/man"
    PERLBREW_PATH="/export/home/cpant5/perl5/perlbrew/bin:/export/home/cpant5/perl5/perlbrew/perls/perl-5.17.3/bin"
    PERLBREW_PERL="perl-5.17.3"
    PERLBREW_ROOT="/export/home/cpant5/perl5/perlbrew"
    PERLBREW_VERSION="0.44"
    PERL_CR_SMOKER_CURRENT="Class-Agreement-0.02"
    PERL_EXTUTILS_AUTOINSTALL="--defaultdeps"
    PERL_MM_USE_DEFAULT="1"
  @INC:
    /export/home/cpant5/perl5/perlbrew/perls/perl-5.17.3/lib/site_perl/5.17.3/i86pc-solaris-64int
    /export/home/cpant5/perl5/perlbrew/perls/perl-5.17.3/lib/site_perl/5.17.3
    /export/home/cpant5/perl5/perlbrew/perls/perl-5.17.3/lib/5.17.3/i86pc-solaris-64int
    /export/home/cpant5/perl5/perlbrew/perls/perl-5.17.3/lib/5.17.3
    .