Object-ForkAware v0.005 Perl 5 v5.8.9 x86_64-linux-thread-multi
- Status
- Pass
- From
- David Cantrell (DCANTRELL)
- Dist
-
Object-ForkAware v0.005
- Platform
- Perl 5 v5.8.9 x86_64-linux-thread-multi
- Date
- 2017-10-20 15:02:19
- ID
- aaf6cb06-b5a7-11e7-8af8-971d3a6f764e
This distribution has been tested as part of the CPAN Testers
project, supporting the Perl programming language. See
http://wiki.cpantesters.org/ for more information or email
questions to cpan-testers-discuss@perl.org
--
Dear Karen Etheridge,
This is a computer-generated report for Object-ForkAware-0.005
on perl 5.8.9, created by CPAN-Reporter-1.2018.
Thank you for uploading your work to CPAN. Congratulations!
All tests were successful.
Sections of this report:
* Tester comments
* Program output
* Prerequisites
* Environment and other context
------------------------------
TESTER COMMENTS
------------------------------
Additional comments from tester:
this report is from an automated smoke testing program
and was not reviewed by a human for accuracy
------------------------------
PROGRAM OUTPUT
------------------------------
Output from '/usr/bin/make test':
PERL_DL_NONLAZY=1 "/home/david/cpantesting/perl-5.8.9/bin/perl" "-MExtUtils::Command::MM" "-MTest::Harness" "-e" "undef *Test::Harness::Switches; test_harness(0, 'blib/lib', 'blib/arch')" t/*.t
#
# Versions for all modules listed in MYMETA.json (including optional ones):
#
# === Configure Requires ===
#
# Module Want Have
# ------------------- ---- ----
# ExtUtils::MakeMaker any 7.24
#
# === Build Requires ===
#
# Module Want Have
# ------------------- ---- ----
# ExtUtils::MakeMaker any 7.24
#
# === Test Requires ===
#
# Module Want Have
# ------------------- ----- --------
# ExtUtils::MakeMaker any 7.24
# File::Spec any 3.62
# Test::Fatal any 0.014
# Test::More 0.88 1.302059
# Test::Warnings 0.009 0.026
# if any 0.05
# lib any 0.61
#
# === Test Recommends ===
#
# Module Want Have
# ---------- -------- --------
# CPAN::Meta 2.120900 2.143240
#
# === Runtime Requires ===
#
# Module Want Have
# ------------ ---- -------
# Scalar::Util any 1.19
# strict any 1.03
# warnings any 1.05_01
#
# === Other Modules ===
#
# Module Have
# ------------- -------
# JSON::PP 2.27400
# Pod::Coverage missing
# Sub::Name 0.21
# YAML 1.18
# autodie missing
#
t/00-report-prereqs.t .. ok
t/01-basic.t ........... ok
t/02-onfork.t .......... ok
t/03-lazy.t ............ ok
t/04-class-methods.t ... ok
All tests successful.
Files=5, Tests=81, 1 wallclock secs ( 0.02 usr 0.02 sys + 0.32 cusr 0.03 csys = 0.39 CPU)
Result: PASS
------------------------------
PREREQUISITES
------------------------------
Prerequisite modules loaded:
requires:
Module Need Have
------------------- ----- --------
perl 5.006 5.008009
Scalar::Util 0 1.19
strict 0 1.03
warnings 0 1.05_01
build_requires:
Module Need Have
------------------- ----- --------
ExtUtils::MakeMaker 0 7.24
File::Spec 0 3.62
if 0 0.05
lib 0 0.61
Test::Fatal 0 0.014
Test::More 0.88 1.302059
Test::Warnings 0.009 0.026
configure_requires:
Module Need Have
------------------- ----- --------
ExtUtils::MakeMaker 0 7.24
perl 5.006 5.008009
------------------------------
ENVIRONMENT AND OTHER CONTEXT
------------------------------
Environment variables:
AUTOMATED_TESTING = 1
NONINTERACTIVE_TESTING = 1
PATH = /usr/local/bin:/usr/bin:/bin:/usr/local/games:/usr/games
PERL = 5.8.9
PERL5LIB =
PERL5OPT =
PERL5_CPANPLUS_IS_RUNNING = 9210
PERL5_CPAN_IS_RUNNING = 9210
PERLVER = 5.8.9
PERL_INLINE_DIRECTORY = /home/david/.Inline-5.8.9
PERL_MM_USE_DEFAULT = 1
PERL_USE_UNSAFE_INC = 0
SHELL = /bin/bash
TERM = screen
Perl special variables (and OS-specific diagnostics, for MSWin32):
$^X = /home/david/cpantesting/perl-5.8.9/bin/perl
$UID/$EUID = 1000 / 1000
$GID = 1000 1000
$EGID = 1000 1000
Perl module toolchain versions installed:
Module Have
------------------- --------
CPAN 2.14
CPAN::Meta 2.143240
Cwd 3.62
ExtUtils::CBuilder 0.280226
ExtUtils::Command 7.24
ExtUtils::Install 1.54
ExtUtils::MakeMaker 7.24
ExtUtils::Manifest 1.70
ExtUtils::ParseXS 3.35
File::Spec 3.62
JSON 2.90
JSON::PP 2.27400
Module::Build 0.4224
Module::Signature n/a
Parse::CPAN::Meta 1.4414
Test::Harness 3.39
Test::More 1.302059
YAML 1.18
YAML::Syck n/a
version 0.9917
--
Summary of my perl5 (revision 5 version 8 subversion 9) configuration:
Platform:
osname=linux, osvers=3.16.0-4-amd64, archname=x86_64-linux-thread-multi
uname='linux pigsty.barnyard.co.uk 3.16.0-4-amd64 #1 smp debian 3.16.36-1+deb8u1 (2016-09-03) x86_64 gnulinux '
config_args='-de -Duse64bitall -Dusethreads -Dprefix=/home/david/cpantesting/perl-5.8.9'
hint=recommended, useposix=true, d_sigaction=define
usethreads=define use5005threads=undef useithreads=define usemultiplicity=define
useperlio=define d_sfio=undef uselargefiles=define usesocks=undef
use64bitint=define use64bitall=define uselongdouble=undef
usemymalloc=n, bincompat5005=undef
Compiler:
cc='cc', ccflags ='-D_REENTRANT -D_GNU_SOURCE -fno-strict-aliasing -pipe -I/usr/local/include -D_LARGEFILE_SOURCE -D_FILE_OFFSET_BITS=64',
optimize='-O2',
cppflags='-D_REENTRANT -D_GNU_SOURCE -fno-strict-aliasing -pipe -I/usr/local/include'
ccversion='', gccversion='4.9.2', gccosandvers=''
intsize=4, longsize=8, ptrsize=8, doublesize=8, byteorder=12345678
d_longlong=define, longlongsize=8, d_longdbl=define, longdblsize=16
ivtype='long', ivsize=8, nvtype='double', nvsize=8, Off_t='off_t', lseeksize=8
alignbytes=8, prototype=define
Linker and Libraries:
ld='cc', ldflags =' -L/usr/local/lib'
libpth=/usr/local/lib /lib/x86_64-linux-gnu /lib/../lib /usr/lib/x86_64-linux-gnu /usr/lib/../lib /lib /usr/lib
libs=-lnsl -ldb -ldl -lm -lcrypt -lutil -lpthread -lc
perllibs=-lnsl -ldl -lm -lcrypt -lutil -lpthread -lc
libc=libc-2.19.so, so=so, useshrplib=false, libperl=libperl.a
gnulibc_version='2.19'
Dynamic Linking:
dlsrc=dl_dlopen.xs, dlext=so, d_dlsymun=undef, ccdlflags='-Wl,-E'
cccdlflags='-fPIC', lddlflags='-shared -O2 -L/usr/local/lib'
Characteristics of this binary (from libperl):
Compile-time options: MULTIPLICITY PERL_IMPLICIT_CONTEXT PERL_MALLOC_WRAP
USE_64_BIT_ALL USE_64_BIT_INT USE_FAST_STDIO
USE_ITHREADS USE_LARGE_FILES USE_PERLIO
USE_REENTRANT_API
Locally applied patches:
Devel::PatchPerl 1.44
Built under linux
Compiled at Oct 12 2016 14:10:05
%ENV:
PERL="5.8.9"
PERL5LIB=""
PERL5OPT=""
PERL5_CPANPLUS_IS_RUNNING="9210"
PERL5_CPAN_IS_RUNNING="9210"
PERLVER="5.8.9"
PERL_INLINE_DIRECTORY="/home/david/.Inline-5.8.9"
PERL_MM_USE_DEFAULT="1"
PERL_USE_UNSAFE_INC="0"
@INC:
/home/david/cpantesting/perl-5.8.9/lib/5.8.9/x86_64-linux-thread-multi
/home/david/cpantesting/perl-5.8.9/lib/5.8.9
/home/david/cpantesting/perl-5.8.9/lib/site_perl/5.8.9/x86_64-linux-thread-multi
/home/david/cpantesting/perl-5.8.9/lib/site_perl/5.8.9
.