HPC-Runner-Command v3.2.14 Perl 5 v5.37.4 x86_64-linux-ld

Status
Pass
From
Andreas J. König (ANDK)
Dist
HPC-Runner-Command v3.2.14
Platform
Perl 5 v5.37.4 x86_64-linux-ld
Date
2022-10-03 16:58:56
ID
aaefda08-433c-11ed-a80c-6b580adc9596
This distribution has been tested as part of the CPAN Testers
project, supporting the Perl programming language.  See
http://wiki.cpantesters.org/ for more information or email
questions to cpan-testers-discuss@perl.org


--
Dear Jillian Rowe,

This is a computer-generated report for HPC-Runner-Command-3.2.14
on perl 5.37.4, created by CPAN-Reporter-1.2018.

Thank you for uploading your work to CPAN.  Congratulations!
All tests were successful.

Sections of this report:

    * Tester comments
    * Program output
    * Prerequisites
    * Environment and other context

------------------------------
TESTER COMMENTS
------------------------------

Additional comments from tester:

this report is from an automated smoke testing program
and was not reviewed by a human for accuracy

------------------------------
PROGRAM OUTPUT
------------------------------

Output from './Build test':

t/author-pod-syntax.t .. skipped: these tests are for testing by the author
t/basic.t .............. ok
[2022/10/03 16:58:33] Loaded plugin Slurm 
INFO - Project: my_new_project Initialized...
INFO - Git repo successfully initialized : : Initialized empty Git repository in /tmp/hpcrunnerC7lJXGD/my_new_project/.git/

INFO - Added .gitignore...: 
INFO - By default ./data and ./hpcrunner are added to your git ignore.
INFO - Setup complete!
        # In Test001
t/test_class_tests.t ... ok
All tests successful.
Files=3, Tests=2,  5 wallclock secs ( 0.04 usr  0.01 sys +  3.67 cusr  0.35 csys =  4.07 CPU)
Result: PASS

------------------------------
PREREQUISITES
------------------------------

Prerequisite modules loaded:

requires:

    Module                             Need  Have      
    ---------------------------------- ----- ----------
    Algorithm::Dependency::Ordered     0     1.112     
    Algorithm::Dependency::Source::HoA 0     1.112     
    Archive::Tar                       0     2.40      
    Archive::Tar::Wrapper              0     0.38      
    Array::Compare                     0     3.0.8     
    BioSAILs::Integrations::Github     0     0         
    BioSAILs::Utils::CacheUtils        0     0         
    BioSAILs::Utils::Files::CacheDir   0     0         
    BioSAILs::Utils::LoadConfigs       0     0         
    BioSAILs::Utils::Plugin            0     0         
    BioSAILs::Utils::Traits            0     0         
    Capture::Tiny                      0     0.48      
    Cwd                                0     3.86      
    Data::Dumper                       0     2.186     
    Data::UUID                         0     1.226     
    DateTime                           0     1.58      
    DateTime::Format::Duration         0     1.04      
    DBM::Deep                          0     2.0016    
    File::Basename                     0     2.86      
    File::Copy                         0     2.40      
    File::Find::Rule                   0     0.34      
    File::Glob                         0     1.38      
    File::Path                         0     2.18      
    File::Slurp                        0     9999.32   
    File::Spec                         0     3.87      
    File::stat                         0     1.13      
    File::Temp                         0     0.2311    
    IO::Dir                            0     1.51      
    IO::File                           0     1.51      
    IO::Interactive                    0     1.023     
    IO::Select                         0     1.51      
    IPC::Cmd                           0     1.04      
    IPC::Open3                         0     1.22      
    IPC::Run                           0     20220807.0
    JSON                               0     4.09      
    JSON::XS                           0     4.03      
    List::MoreUtils                    0.428 0.430     
    List::Uniq                         0     0.23      
    List::Util                         0     1.63      
    Log::Log4perl                      0     1.56      
    MCE                                0     1.879     
    MCE::Queue                         0     1.879     
    Memoize                            0     1.10      
    Moose                              0     2.2201    
    Moose::Role                        0     2.2201    
    Moose::Util                        0     2.2201    
    Moose::Util::TypeConstraints       0     2.2201    
    MooseX::App                        1.39  1.42      
    MooseX::App::Command               0     0         
    MooseX::App::Role                  0     0         
    MooseX::App::Role::Log4perl        0     0.03      
    MooseX::NonMoose                   0     0.26      
    MooseX::Object::Pluggable          0     0.0014    
    MooseX::Types::Path::Tiny          0     0.012     
    namespace::autoclean               0     0.29      
    Number::Bytes::Human               0     0.11      
    Path::Tiny                         0     0.124     
    perl                               5.010 5.037004  
    POSIX                              0     2.06      
    Storable                           0     3.27      
    String::Approx                     0     3.28      
    Symbol                             0     1.09      
    Sys::Hostname                      0     1.25      
    Template                           0     3.101     
    Text::ASCIITable                   0     0.22      
    Time::HiRes                        0     1.9771    
    Try::Tiny                          0     0.31      
    utf8                               0     1.24      
    YAML::XS                           0     0.85      

build_requires:

    Module                             Need  Have      
    ---------------------------------- ----- ----------
    Algorithm::Dependency              0     1.112     
    File::Spec::Functions              0     3.86      
    FindBin                            0     1.53      
    Slurp                              0     0.4       
    strict                             0     1.12      
    Test::Class::Moose                 0     0.99      
    Test::Class::Moose::Load           0     0.99      
    Test::Class::Moose::Runner         0     0.99      
    Test::Exception                    0.43  0.43      
    Test::More                         0     1.302191  
    Text::Diff                         0     1.45      
    warnings                           0     1.58      

configure_requires:

    Module                             Need  Have      
    ---------------------------------- ----- ----------
    Module::Build::Tiny                0.034 0.039     


------------------------------
ENVIRONMENT AND OTHER CONTEXT
------------------------------

Environment variables:

    AUTOMATED_TESTING = 1
    LANG = en_US.UTF-8
    PATH = /home/sand/bin:/usr/local/bin:/usr/local/sbin:/usr/sbin:/usr/bin:/sbin:/bin:/usr/games:/usr/local/games:/snap/bin:/usr/local/perl/bin:/usr/X11/bin
    PERL5LIB = /tmp/loop_over_bdir-4113686-jm9qdF/Devel-Required-0.16-0/blib/arch:/tmp/loop_over_bdir-4113686-jm9qdF/Devel-Required-0.16-0/blib/lib:/tmp/loop_over_bdir-4113686-jm9qdF/Lemonldap-NG-Cli-0.2-0/blib/arch:/tmp/loop_over_bdir-4113686-jm9qdF/Lemonldap-NG-Cli-0.2-0/blib/lib:/tmp/loop_over_bdir-4113686-jm9qdF/Linux-InitFS-0.2-0/blib/arch:/tmp/loop_over_bdir-4113686-jm9qdF/Linux-InitFS-0.2-0/blib/lib:/tmp/loop_over_bdir-4113686-jm9qdF/perl-Hardware-UPS-Perl-0.43-0/blib/arch:/tmp/loop_over_bdir-4113686-jm9qdF/perl-Hardware-UPS-Perl-0.43-0/blib/lib
    PERL5OPT = 
    PERL5_CPANPLUS_IS_RUNNING = 4113694
    PERL5_CPAN_IS_RUNNING = 4113694
    PERL_CANARY_STABILITY_NOPROMPT = 1
    PERL_MM_USE_DEFAULT = 1
    PERL_USE_UNSAFE_INC = 1
    SHELL = /usr/bin/zsh
    TERM = screen

Perl special variables (and OS-specific diagnostics, for MSWin32):

    $^X = /tmp/basesmoker-reloperl-gj2C/bin/perl
    $UID/$EUID = 1005 / 1005
    $GID = 1005 1005
    $EGID = 1005 1005

Perl module toolchain versions installed:

    Module              Have    
    ------------------- --------
    CPAN                2.34    
    CPAN::Meta          2.150010
    Cwd                 3.86    
    ExtUtils::CBuilder  0.280237
    ExtUtils::Command   7.64    
    ExtUtils::Install   2.20    
    ExtUtils::MakeMaker 7.64    
    ExtUtils::Manifest  1.73    
    ExtUtils::ParseXS   3.46    
    File::Spec          3.87    
    JSON                4.09    
    JSON::PP            4.11    
    Module::Build       0.4231  
    Module::Signature   0.88    
    Parse::CPAN::Meta   2.150010
    Test::Harness       3.44    
    Test::More          1.302191
    YAML                1.30    
    YAML::Syck          1.34    
    version             0.9929  


--

Summary of my perl5 (revision 5 version 37 subversion 4) configuration:
  Commit id: f2582f5b18658f945a763f2edc110cdc7c5220e7
  Platform:
    osname=linux
    osvers=5.4.0-125-generic
    archname=x86_64-linux-ld
    uname='linux k93focal 5.4.0-125-generic #141-ubuntu smp wed aug 10 13:42:03 utc 2022 x86_64 x86_64 x86_64 gnulinux '
    config_args='-Dprefix=/home/sand/src/perl/repoperls/installed-perls/host/k93focal/v5.37.4/d3e4 -Dmyhostname=k93focal -Dinstallusrbinperl=n -Uversiononly -Dusedevel -des -Ui_db -Dlibswanted=cl pthread socket inet nsl gdbm dbm malloc dl ld sun m crypt sec util c cposix posix ucb BSD gdbm_compat -Uuseithreads -Duselongdouble -DEBUGGING=both'
    hint=recommended
    useposix=true
    d_sigaction=define
    useithreads=undef
    usemultiplicity=undef
    use64bitint=define
    use64bitall=define
    uselongdouble=define
    usemymalloc=n
    default_inc_excludes_dot=define
  Compiler:
    cc='cc'
    ccflags ='-fwrapv -DDEBUGGING -fno-strict-aliasing -pipe -fstack-protector-strong -I/usr/local/include -D_LARGEFILE_SOURCE -D_FILE_OFFSET_BITS=64'
    optimize='-O2 -g'
    cppflags='-fwrapv -DDEBUGGING -fno-strict-aliasing -pipe -fstack-protector-strong -I/usr/local/include'
    ccversion=''
    gccversion='9.4.0'
    gccosandvers=''
    intsize=4
    longsize=8
    ptrsize=8
    doublesize=8
    byteorder=12345678
    doublekind=3
    d_longlong=define
    longlongsize=8
    d_longdbl=define
    longdblsize=16
    longdblkind=3
    ivtype='long'
    ivsize=8
    nvtype='long double'
    nvsize=16
    Off_t='off_t'
    lseeksize=8
    alignbytes=16
    prototype=define
  Linker and Libraries:
    ld='cc'
    ldflags =' -fstack-protector-strong -L/usr/local/lib'
    libpth=/usr/local/lib /usr/lib/x86_64-linux-gnu /usr/lib /usr/lib64
    libs=-lpthread -lnsl -ldl -lm -lcrypt -lutil -lc
    perllibs=-lpthread -lnsl -ldl -lm -lcrypt -lutil -lc
    libc=libc-2.31.so
    so=so
    useshrplib=false
    libperl=libperl.a
    gnulibc_version='2.31'
  Dynamic Linking:
    dlsrc=dl_dlopen.xs
    dlext=so
    d_dlsymun=undef
    ccdlflags='-Wl,-E'
    cccdlflags='-fPIC'
    lddlflags='-shared -O2 -g -L/usr/local/lib -fstack-protector-strong'


Characteristics of this binary (from libperl): 
  Compile-time options:
    DEBUGGING
    HAS_TIMES
    PERLIO_LAYERS
    PERL_COPY_ON_WRITE
    PERL_DONT_CREATE_GVSV
    PERL_HASH_FUNC_SIPHASH13
    PERL_HASH_USE_SBOX32
    PERL_MALLOC_WRAP
    PERL_OP_PARENT
    PERL_PRESERVE_IVUV
    PERL_USE_DEVEL
    PERL_USE_SAFE_PUTENV
    USE_64_BIT_ALL
    USE_64_BIT_INT
    USE_LARGE_FILES
    USE_LOCALE
    USE_LOCALE_COLLATE
    USE_LOCALE_CTYPE
    USE_LOCALE_NUMERIC
    USE_LOCALE_TIME
    USE_LONG_DOUBLE
    USE_PERLIO
    USE_PERL_ATOF
  Built under linux
  Compiled at Oct  2 2022 11:18:43
  %ENV:
    PERL5LIB="/tmp/loop_over_bdir-4113686-jm9qdF/Devel-Required-0.16-0/blib/arch:/tmp/loop_over_bdir-4113686-jm9qdF/Devel-Required-0.16-0/blib/lib:/tmp/loop_over_bdir-4113686-jm9qdF/Lemonldap-NG-Cli-0.2-0/blib/arch:/tmp/loop_over_bdir-4113686-jm9qdF/Lemonldap-NG-Cli-0.2-0/blib/lib:/tmp/loop_over_bdir-4113686-jm9qdF/Linux-InitFS-0.2-0/blib/arch:/tmp/loop_over_bdir-4113686-jm9qdF/Linux-InitFS-0.2-0/blib/lib:/tmp/loop_over_bdir-4113686-jm9qdF/perl-Hardware-UPS-Perl-0.43-0/blib/arch:/tmp/loop_over_bdir-4113686-jm9qdF/perl-Hardware-UPS-Perl-0.43-0/blib/lib"
    PERL5OPT=""
    PERL5_CPANPLUS_IS_RUNNING="4113694"
    PERL5_CPAN_IS_RUNNING="4113694"
    PERL_CANARY_STABILITY_NOPROMPT="1"
    PERL_MM_USE_DEFAULT="1"
    PERL_USE_UNSAFE_INC="1"
  @INC:
    /tmp/loop_over_bdir-4113686-jm9qdF/Devel-Required-0.16-0/blib/arch
    /tmp/loop_over_bdir-4113686-jm9qdF/Devel-Required-0.16-0/blib/lib
    /tmp/loop_over_bdir-4113686-jm9qdF/Lemonldap-NG-Cli-0.2-0/blib/arch
    /tmp/loop_over_bdir-4113686-jm9qdF/Lemonldap-NG-Cli-0.2-0/blib/lib
    /tmp/loop_over_bdir-4113686-jm9qdF/Linux-InitFS-0.2-0/blib/arch
    /tmp/loop_over_bdir-4113686-jm9qdF/Linux-InitFS-0.2-0/blib/lib
    /tmp/loop_over_bdir-4113686-jm9qdF/perl-Hardware-UPS-Perl-0.43-0/blib/arch
    /tmp/loop_over_bdir-4113686-jm9qdF/perl-Hardware-UPS-Perl-0.43-0/blib/lib
    /home/sand/src/perl/repoperls/installed-perls/host/k93focal/v5.37.4/d3e4/lib/site_perl/5.37.4/x86_64-linux-ld
    /home/sand/src/perl/repoperls/installed-perls/host/k93focal/v5.37.4/d3e4/lib/site_perl/5.37.4
    /home/sand/src/perl/repoperls/installed-perls/host/k93focal/v5.37.4/d3e4/lib/5.37.4/x86_64-linux-ld
    /home/sand/src/perl/repoperls/installed-perls/host/k93focal/v5.37.4/d3e4/lib/5.37.4
    .