Alien-Build-Plugin-Probe-GnuWin32 v0.59 Perl 5 v5.42.0 RC2 x86_64-linux

Status
Pass
From
Slaven Rezić
Dist
Alien-Build-Plugin-Probe-GnuWin32 v0.59
Platform
Perl 5 v5.42.0 RC2 x86_64-linux
Date
2025-06-29 06:52:48
ID
aad677ce-54b5-11f0-91fe-4c076e8775ea
This distribution has been tested as part of the CPAN Testers
project, supporting the Perl programming language.  See
http://wiki.cpantesters.org/ for more information or email
questions to cpan-testers-discuss@perl.org


--
Dear Graham Ollis,

This is a computer-generated report for Alien-Build-Plugin-Probe-GnuWin32-0.59
on perl 5.42.0, created by CPAN-Reporter-1.2020.

Thank you for uploading your work to CPAN.  Congratulations!
All tests were successful.

Sections of this report:

    * Tester comments
    * Program output
    * Prerequisites
    * Environment and other context

------------------------------
TESTER COMMENTS
------------------------------

Additional comments from tester:

none provided

------------------------------
PROGRAM OUTPUT
------------------------------

Output from '/usr/bin/make test':

PERL_DL_NONLAZY=1 "/opt/perl-5.42.0-RC2/bin/perl" "-MExtUtils::Command::MM" "-MTest::Harness" "-e" "undef *Test::Harness::Switches; test_harness(0, 'blib/lib', 'blib/arch')" t/*.t
# 
# 
# 
# HARNESS_ACTIVE=1
# HARNESS_VERSION=3.52
# LANG=C
# LC_ALL=de_DE.UTF-8
# PERL5LIB=/home/cpansand/.cpan/build/2025062906/Alien-Build-Plugin-Probe-GnuWin32-0.59-0/blib/lib:/home/cpansand/.cpan/build/2025062906/Alien-Build-Plugin-Probe-GnuWin32-0.59-0/blib/arch:
# PERL5OPT=
# PERL5_CPANPLUS_IS_RUNNING=1889573
# PERL5_CPAN_IS_RUNNING=1889573
# PERL5_CPAN_IS_RUNNING_IN_RECURSION=1699362,1889573
# PERLDOC=-MPod::Perldoc::ToTextOverstrike
# PERL_BATCH=yes
# PERL_CANARY_STABILITY_NOPROMPT=1
# PERL_CPAN_REPORTER_CONFIG=/var/tmp/cpansmoker-1023/2025062904/cpanreporter_001_config.ini
# PERL_DL_NONLAZY=1
# PERL_EXTUTILS_AUTOINSTALL=--defaultdeps
# PERL_PARALLEL_SMOKER=yes
# PERL_USE_UNSAFE_INC=1
# SHELL=/usr/bin/zsh
# 
# 
# 
# PERL5LIB path
# /home/cpansand/.cpan/build/2025062906/Alien-Build-Plugin-Probe-GnuWin32-0.59-0/blib/lib
# /home/cpansand/.cpan/build/2025062906/Alien-Build-Plugin-Probe-GnuWin32-0.59-0/blib/arch
# 
# 
# 
# perl                 5.042000
# Alien::Build         2.84
# Alien::Build::Plugin 2.84
# Capture::Tiny        0.50
# ExtUtils::MakeMaker  7.76
# Module::Load         0.36
# Test2::V0            1.302214
# 
# 
# 
t/00_diag.t ............................ ok
t/01_use.t ............................. ok
t/alien_build_plugin_probe_gnuwin32.t .. ok
All tests successful.
Files=3, Tests=5,  1 wallclock secs ( 0.02 usr  0.01 sys +  0.51 cusr  0.05 csys =  0.59 CPU)
Result: PASS

------------------------------
PREREQUISITES
------------------------------

Prerequisite modules loaded:

requires:

    Module               Need     Have    
    -------------------- -------- --------
    Alien::Build         0.57     2.84    
    Alien::Build::Plugin 0        2.84    
    Capture::Tiny        0        0.50    
    Module::Load         0        0.36    
    perl                 5.006    5.042000

build_requires:

    Module               Need     Have    
    -------------------- -------- --------
    ExtUtils::MakeMaker  0        7.76    
    Test2::V0            0.000060 1.302214

configure_requires:

    Module               Need     Have    
    -------------------- -------- --------
    ExtUtils::MakeMaker  0        7.76    
    perl                 5.006    5.042000


------------------------------
ENVIRONMENT AND OTHER CONTEXT
------------------------------

Environment variables:

    LANG = C
    LC_ALL = de_DE.UTF-8
    PATH = /usr/local/bin:/usr/bin:/bin:/usr/local/sbin:/usr/sbin:/sbin:/home/cpansand/bin/linux-gnu:/home/cpansand/bin/sh:/home/cpansand/bin:/usr/games:/home/cpansand/devel:/home/eserte/src/srezic-misc/scripts
    PERL5LIB = 
    PERL5OPT = 
    PERL5_CPANPLUS_IS_RUNNING = 1889573
    PERL5_CPAN_IS_RUNNING = 1889573
    PERL5_CPAN_IS_RUNNING_IN_RECURSION = 1699362,1889573
    PERLDOC = -MPod::Perldoc::ToTextOverstrike
    PERL_BATCH = yes
    PERL_CANARY_STABILITY_NOPROMPT = 1
    PERL_CPAN_REPORTER_CONFIG = /var/tmp/cpansmoker-1023/2025062904/cpanreporter_001_config.ini
    PERL_EXTUTILS_AUTOINSTALL = --defaultdeps
    PERL_PARALLEL_SMOKER = yes
    PERL_USE_UNSAFE_INC = 1
    SHELL = /usr/bin/zsh
    TERM = screen
    TMPDIR = /var/tmp/cpansmoker-1023/2025062904

Perl special variables (and OS-specific diagnostics, for MSWin32):

    $^X = /opt/perl-5.42.0-RC2/bin/perl
    $UID/$EUID = 1023 / 1023
    $GID = 1023 1023
    $EGID = 1023 1023

Perl module toolchain versions installed:

    Module              Have    
    ------------------- --------
    CPAN                2.38    
    CPAN::Meta          2.150010
    Cwd                 3.94    
    ExtUtils::CBuilder  0.280242
    ExtUtils::Command   7.76    
    ExtUtils::Install   2.22    
    ExtUtils::MakeMaker 7.76    
    ExtUtils::Manifest  1.75    
    ExtUtils::ParseXS   3.57    
    File::Spec          3.94    
    JSON                4.10    
    JSON::PP            4.16    
    Module::Build       0.4234  
    Module::Signature   n/a     
    Parse::CPAN::Meta   2.150010
    Test2               1.302214
    Test::Harness       3.52    
    Test::More          1.302214
    YAML                1.31    
    YAML::Syck          1.34    
    version             0.9933  


--

Summary of my perl5 (revision 5 version 42 subversion 0) configuration:
   
  Platform:
    osname=linux
    osvers=6.1.0-37-amd64
    archname=x86_64-linux
    uname='linux cloud5.bbbike.org 6.1.0-37-amd64 #1 smp preempt_dynamic debian 6.1.140-1 (2025-05-22) x86_64 gnulinux '
    config_args='-ds -e -Dprefix=/opt/perl-5.42.0-RC2 -Uinstallusrbinperl -Dcf_email=srezic@cpan.org'
    hint=recommended
    useposix=true
    d_sigaction=define
    useithreads=undef
    usemultiplicity=undef
    use64bitint=define
    use64bitall=define
    uselongdouble=undef
    usemymalloc=n
    default_inc_excludes_dot=define
  Compiler:
    cc='cc'
    ccflags ='-fwrapv -fno-strict-aliasing -pipe -fstack-protector-strong -I/usr/local/include -D_LARGEFILE_SOURCE -D_FILE_OFFSET_BITS=64 -D_FORTIFY_SOURCE=2'
    optimize='-O2'
    cppflags='-fwrapv -fno-strict-aliasing -pipe -fstack-protector-strong -I/usr/local/include'
    ccversion=''
    gccversion='12.2.0'
    gccosandvers=''
    intsize=4
    longsize=8
    ptrsize=8
    doublesize=8
    byteorder=12345678
    doublekind=3
    d_longlong=define
    longlongsize=8
    d_longdbl=define
    longdblsize=16
    longdblkind=3
    ivtype='long'
    ivsize=8
    nvtype='double'
    nvsize=8
    Off_t='off_t'
    lseeksize=8
    alignbytes=8
    prototype=define
  Linker and Libraries:
    ld='cc'
    ldflags =' -fstack-protector-strong -L/usr/local/lib'
    libpth=/usr/local/lib /usr/lib/x86_64-linux-gnu /usr/lib /usr/lib64
    libs=-lpthread -lgdbm -ldb -ldl -lm -lcrypt -lutil -lc
    perllibs=-lpthread -ldl -lm -lcrypt -lutil -lc
    libc=/lib/x86_64-linux-gnu/libc.so.6
    so=so
    useshrplib=false
    libperl=libperl.a
    gnulibc_version='2.36'
  Dynamic Linking:
    dlsrc=dl_dlopen.xs
    dlext=so
    d_dlsymun=undef
    ccdlflags='-Wl,-E'
    cccdlflags='-fPIC'
    lddlflags='-shared -O2 -L/usr/local/lib -fstack-protector-strong'


Characteristics of this binary (from libperl): 
  Compile-time options:
    HAS_LONG_DOUBLE
    HAS_STRTOLD
    HAS_TIMES
    PERLIO_LAYERS
    PERL_COPY_ON_WRITE
    PERL_DONT_CREATE_GVSV
    PERL_HASH_FUNC_SIPHASH13
    PERL_HASH_USE_SBOX32
    PERL_MALLOC_WRAP
    PERL_OP_PARENT
    PERL_PRESERVE_IVUV
    PERL_USE_SAFE_PUTENV
    USE_64_BIT_ALL
    USE_64_BIT_INT
    USE_LARGE_FILES
    USE_LOCALE
    USE_LOCALE_COLLATE
    USE_LOCALE_CTYPE
    USE_LOCALE_NUMERIC
    USE_LOCALE_TIME
    USE_PERLIO
    USE_PERL_ATOF
  Locally applied patches:
    RC2
  Built under linux
  Compiled at Jun 28 2025 11:24:33
  %ENV:
    PERL5LIB=""
    PERL5OPT=""
    PERL5_CPANPLUS_IS_RUNNING="1889573"
    PERL5_CPAN_IS_RUNNING="1889573"
    PERL5_CPAN_IS_RUNNING_IN_RECURSION="1699362,1889573"
    PERLDOC="-MPod::Perldoc::ToTextOverstrike"
    PERL_BATCH="yes"
    PERL_CANARY_STABILITY_NOPROMPT="1"
    PERL_CPAN_REPORTER_CONFIG="/var/tmp/cpansmoker-1023/2025062904/cpanreporter_001_config.ini"
    PERL_EXTUTILS_AUTOINSTALL="--defaultdeps"
    PERL_PARALLEL_SMOKER="yes"
    PERL_USE_UNSAFE_INC="1"
  @INC:
    /opt/perl-5.42.0-RC2/lib/site_perl/5.42.0/x86_64-linux
    /opt/perl-5.42.0-RC2/lib/site_perl/5.42.0
    /opt/perl-5.42.0-RC2/lib/5.42.0/x86_64-linux
    /opt/perl-5.42.0-RC2/lib/5.42.0
    .