Back
From: metabase:user:322078bc-2aae-11df-837a-5e0a49663a4f
Subject: PASS HTML-FormatExternal-25 v5.12.4 OpenBSD
Date: 2015-08-13T19:51:19Z
This distribution has been tested as part of the CPAN Testers
project, supporting the Perl programming language. See
http://wiki.cpantesters.org/ for more information or email
questions to cpan-testers-discuss@perl.org
--
Dear KRYDE,
This is a computer-generated error report created automatically by
CPANPLUS, version 0.9154. Testers personal comments may appear
at the end of this report.
Thank you for uploading your work to CPAN. Congratulations!
All tests were successful.
TEST RESULTS:
Below is the error stack from stage 'make test':
PERL_DL_NONLAZY=1 "/home/cpan/pit/thr/perl-5.12.4/bin/perl" "-MExtUtils::Command::MM" "-MTest::Harness" "-e" "undef *Test::Harness::Switches; test_harness(0, 'blib/lib', 'blib/arch')" t/*.t
t/Elinks.t .......... ok
# HTML::FormatText::Elinks
# HTML::FormatText::Elinks program_full_version $VAR1 = undef;
# HTML::FormatText::Elinks program_version $VAR1 = undef;
# HTML::FormatText::Html2text
# HTML::FormatText::Html2text program_full_version $VAR1 = undef;
# HTML::FormatText::Html2text program_version $VAR1 = undef;
# HTML::FormatText::Html2text _have_ascii() no
# HTML::FormatText::Links
# HTML::FormatText::Links program_full_version $VAR1 = undef;
# HTML::FormatText::Links program_version $VAR1 = undef;
# HTML::FormatText::Links _have_html_margin() no
# HTML::FormatText::Lynx
# HTML::FormatText::Lynx program_full_version $VAR1 = 'Lynx Version 2.8.7rel.2 (21 Jun 2010)
# libwww-FM 2.14, SSL-MM 1.4.1, OpenSSL 1.0.1c, ncurses 5.7.20081102(wide)
# Built on openbsd5.5 Mar 5 2014 09:03:44
#
# Copyrights held by the Lynx Developers Group,
# the University of Kansas, CERN, and other contributors.
# Distributed under the GNU General Public License (Version 2).
# See http://lynx.isc.org/ and the online help for more information.
#
# See http://www.openssl.org/ for information about OpenSSL.
# ';
# HTML::FormatText::Lynx program_version $VAR1 = '2.8.7rel.2';
# HTML::FormatText::Lynx _have_nomargins() yes
# $output = "\n123 567 9012\nabc def ghij\n";
# Colon character ordinary in filenames: 1
# Temporary directory /tmp/6toQ46b1c3
# HTML::FormatText::Netrik
# HTML::FormatText::Netrik program_full_version $VAR1 = undef;
# HTML::FormatText::Netrik program_version $VAR1 = undef;
# HTML::FormatText::W3m
# HTML::FormatText::W3m program_full_version $VAR1 = undef;
# HTML::FormatText::W3m program_version $VAR1 = undef;
# HTML::FormatText::Zen
# HTML::FormatText::Zen program_full_version $VAR1 = undef;
# HTML::FormatText::Zen program_version $VAR1 = undef;
t/FormatExternal.t .. ok
t/Links.t ........... ok
# HTML::FormatText::W3m
t/taint.t ........... skipped: due to Taint::Util not available
# HTML::FormatText::W3m
t/wide.t ............ skipped: due to HTML::FormatText::W3m program not available
All tests successful.
Files=5, Tests=303, 1 wallclock secs ( 0.04 usr 0.02 sys + 0.55 cusr 0.55 csys = 1.16 CPU)
Result: PASS
PREREQUISITES:
Here is a list of prerequisites you specified and versions we
managed to load:
Module Name Have Want
ExtUtils::MakeMaker 7.04 0
File::Spec 3.47 0.8
File::Temp 0.2304 0.18
IPC::Run 0.94 0
Test::More 1.001014 0
URI::file 4.21 0.08
constant::defer 6 0
Perl module toolchain versions installed:
Module Name Have
CPANPLUS 0.9154
CPANPLUS::Dist::Build 0.78
Cwd 3.47
ExtUtils::CBuilder 0.280223
ExtUtils::Command 1.16
ExtUtils::Install 2.04
ExtUtils::MakeMaker 7.04
ExtUtils::Manifest 1.70
ExtUtils::ParseXS 3.24
File::Spec 3.47
Module::Build 0.4214
Pod::Parser 1.37
Pod::Simple 3.14
Test::Harness 3.35
Test::More 1.001014
version 0.9912
******************************** NOTE ********************************
The comments above are created mechanically, possibly without manual
checking by the sender. As there are many people performing automatic
tests on each upload to CPAN, it is likely that you will receive
identical messages about the same problem.
If you believe that the message is mistaken, please reply to the first
one with correction and/or additional informations, and do not take
it personally. We appreciate your patience. :)
**********************************************************************
Additional comments:
This report was machine-generated by CPANPLUS::Dist::YACSmoke 0.94.
Powered by minismokebox version 0.58
------------------------------
ENVIRONMENT AND OTHER CONTEXT
------------------------------
Environment variables:
AUTOMATED_TESTING = 1
NONINTERACTIVE_TESTING = 1
PATH = /home/cpan/bin:/bin:/sbin:/usr/bin:/usr/sbin:/usr/X11R6/bin:/usr/local/bin:/usr/local/sbin:/usr/games:.
PERL5LIB = :/home/cpan/pit/thr/conf/perl-5.12.4/.cpanplus/5.12.4/build/IPC-Run-0.94/blib/lib:/home/cpan/pit/thr/conf/perl-5.12.4/.cpanplus/5.12.4/build/IPC-Run-0.94/blib/arch:/home/cpan/pit/thr/conf/perl-5.12.4/.cpanplus/5.12.4/build/URI-1.69/blib/lib:/home/cpan/pit/thr/conf/perl-5.12.4/.cpanplus/5.12.4/build/URI-1.69/blib/arch:/home/cpan/pit/thr/conf/perl-5.12.4/.cpanplus/5.12.4/build/constant-defer-6/blib/lib:/home/cpan/pit/thr/conf/perl-5.12.4/.cpanplus/5.12.4/build/constant-defer-6/blib/arch:/home/cpan/pit/thr/conf/perl-5.12.4/.cpanplus/5.12.4/build/HTML-FormatExternal-25/blib/lib:/home/cpan/pit/thr/conf/perl-5.12.4/.cpanplus/5.12.4/build/HTML-FormatExternal-25/blib/arch
PERL5_CPANPLUS_IS_RUNNING = 28192
PERL5_CPANPLUS_IS_VERSION = 0.9154
PERL5_MINISMOKEBOX = 0.58
PERL5_YACSMOKE_BASE = /home/cpan/pit/thr/conf/perl-5.12.4
PERL_EXTUTILS_AUTOINSTALL = --defaultdeps
PERL_MM_USE_DEFAULT = 1
SHELL = /usr/local/bin/bash
TERM = screen
Perl special variables (and OS-specific diagnostics, for MSWin32):
Perl: $^X = /home/cpan/pit/thr/perl-5.12.4/bin/perl
UID: $< = 1001
EUID: $> = 1001
GID: $( = 1001 1001
EGID: $) = 1001 1001
-------------------------------
--
Summary of my perl5 (revision 5 version 12 subversion 4) configuration:
Platform:
osname=openbsd, osvers=5.5, archname=OpenBSD.amd64-openbsd-thread-multi
uname='openbsd oedolyn.bingosnet.co.uk 5.5 generic#271 amd64 '
config_args='-des -Dprefix=/home/cpan/pit/thr/perl-5.12.4 -Dusethreads'
hint=recommended, useposix=true, d_sigaction=define
useithreads=define, usemultiplicity=define
useperlio=define, d_sfio=undef, uselargefiles=define, usesocks=undef
use64bitint=define, use64bitall=define, uselongdouble=undef
usemymalloc=y, bincompat5005=undef
Compiler:
cc='cc', ccflags ='-pthread -fno-strict-aliasing -pipe -fstack-protector -I/usr/local/include',
optimize='-O2',
cppflags='-pthread -fno-strict-aliasing -pipe -fstack-protector -I/usr/local/include'
ccversion='', gccversion='4.2.1 20070719 ', gccosandvers='openbsd5.5'
intsize=4, longsize=8, ptrsize=8, doublesize=8, byteorder=12345678
d_longlong=define, longlongsize=8, d_longdbl=define, longdblsize=16
ivtype='long', ivsize=8, nvtype='double', nvsize=8, Off_t='off_t', lseeksize=8
alignbytes=8, prototype=define
Linker and Libraries:
ld='cc', ldflags ='-pthread -Wl,-E -fstack-protector -L/usr/local/lib'
libpth=/usr/local/lib /usr/lib
libs=-lgdbm -lm -lutil -lc
perllibs=-lm -lutil -lc
libc=/usr/lib/libc.so.73.1, so=so, useshrplib=false, libperl=libperl.a
gnulibc_version=''
Dynamic Linking:
dlsrc=dl_dlopen.xs, dlext=so, d_dlsymun=undef, ccdlflags=' '
cccdlflags='-DPIC -fPIC ', lddlflags='-shared -fPIC -L/usr/local/lib -fstack-protector'
Characteristics of this binary (from libperl):
Compile-time options: MULTIPLICITY MYMALLOC PERL_DONT_CREATE_GVSV
PERL_IMPLICIT_CONTEXT PERL_MALLOC_WRAP USE_64_BIT_ALL
USE_64_BIT_INT USE_ITHREADS USE_LARGE_FILES
USE_PERLIO USE_PERL_ATOF USE_REENTRANT_API
Built under openbsd
Compiled at May 9 2014 01:51:56
%ENV:
PERL5LIB=":/home/cpan/pit/thr/conf/perl-5.12.4/.cpanplus/5.12.4/build/IPC-Run-0.94/blib/lib:/home/cpan/pit/thr/conf/perl-5.12.4/.cpanplus/5.12.4/build/IPC-Run-0.94/blib/arch:/home/cpan/pit/thr/conf/perl-5.12.4/.cpanplus/5.12.4/build/URI-1.69/blib/lib:/home/cpan/pit/thr/conf/perl-5.12.4/.cpanplus/5.12.4/build/URI-1.69/blib/arch:/home/cpan/pit/thr/conf/perl-5.12.4/.cpanplus/5.12.4/build/constant-defer-6/blib/lib:/home/cpan/pit/thr/conf/perl-5.12.4/.cpanplus/5.12.4/build/constant-defer-6/blib/arch:/home/cpan/pit/thr/conf/perl-5.12.4/.cpanplus/5.12.4/build/HTML-FormatExternal-25/blib/lib:/home/cpan/pit/thr/conf/perl-5.12.4/.cpanplus/5.12.4/build/HTML-FormatExternal-25/blib/arch"
PERL5_CPANPLUS_IS_RUNNING="28192"
PERL5_CPANPLUS_IS_VERSION="0.9154"
PERL5_MINISMOKEBOX="0.58"
PERL5_YACSMOKE_BASE="/home/cpan/pit/thr/conf/perl-5.12.4"
PERL_EXTUTILS_AUTOINSTALL="--defaultdeps"
PERL_MM_USE_DEFAULT="1"
@INC:
/home/cpan/pit/thr/conf/perl-5.12.4/.cpanplus/5.12.4/build/IPC-Run-0.94/blib/lib
/home/cpan/pit/thr/conf/perl-5.12.4/.cpanplus/5.12.4/build/IPC-Run-0.94/blib/arch
/home/cpan/pit/thr/conf/perl-5.12.4/.cpanplus/5.12.4/build/URI-1.69/blib/lib
/home/cpan/pit/thr/conf/perl-5.12.4/.cpanplus/5.12.4/build/URI-1.69/blib/arch
/home/cpan/pit/thr/conf/perl-5.12.4/.cpanplus/5.12.4/build/constant-defer-6/blib/lib
/home/cpan/pit/thr/conf/perl-5.12.4/.cpanplus/5.12.4/build/constant-defer-6/blib/arch
/home/cpan/pit/thr/conf/perl-5.12.4/.cpanplus/5.12.4/build/HTML-FormatExternal-25/blib/lib
/home/cpan/pit/thr/conf/perl-5.12.4/.cpanplus/5.12.4/build/HTML-FormatExternal-25/blib/arch
/home/cpan/pit/thr/perl-5.12.4/lib/site_perl/5.12.4/OpenBSD.amd64-openbsd-thread-multi
/home/cpan/pit/thr/perl-5.12.4/lib/site_perl/5.12.4
/home/cpan/pit/thr/perl-5.12.4/lib/5.12.4/OpenBSD.amd64-openbsd-thread-multi
/home/cpan/pit/thr/perl-5.12.4/lib/5.12.4
.