Report for Class-DBI-Sweet-0.11

Back
From: metabase:user:d2c9f356-b46f-11df-9a90-20a83c0b7757
Subject: PASS Class-DBI-Sweet-0.11 v5.15.2 SunOS/Solaris
Date: 2011-08-28T02:23:07Z

This distribution has been tested as part of the CPAN Testers
project, supporting the Perl programming language.  See
http://wiki.cpantesters.org/ for more information or email
questions to cpan-testers-discuss@perl.org


--
Dear Fred Moyer,

This is a computer-generated report for Class-DBI-Sweet-0.11
on perl 5.15.2, created by CPAN-Reporter-1.2002.

Thank you for uploading your work to CPAN.  Congratulations!
All tests were successful.

Sections of this report:

    * Tester comments
    * Program output
    * Prerequisites
    * Environment and other context

------------------------------
TESTER COMMENTS
------------------------------

Additional comments from tester:

this report is from an automated smoke testing program
and was not reviewed by a human for accuracy

------------------------------
PROGRAM OUTPUT
------------------------------

Output from './Build test':

t/01use.t ................................ ok
t/02pod.t ................................ skipped: set TEST_POD to enable this test
t/03podcoverage.t ........................ skipped: set TEST_POD to enable this test
t/04join.t ............................... ok
t/05count.t .............................. ok
t/06object_cache.t ....................... skipped: Cache::Cache required
t/07prefetch.t ........................... skipped: Cache::Cache required
t/08pager.t .............................. ok
t/09sequence.t ........................... ok
t/cdbi-t-ocache/01-columns.t ............. ok
t/cdbi-t-ocache/03-subclassing.t ......... skipped: needs Cache::Cache for testing
t/cdbi-t-ocache/05-Query.t ............... skipped: needs Cache::Cache for testing
t/cdbi-t-ocache/06-hasa.t ................ skipped: needs Cache::Cache for testing
t/cdbi-t-ocache/08-inheritcols.t ......... ok
t/cdbi-t-ocache/09-has_many.t ............ skipped: needs Cache::Cache for testing
t/cdbi-t-ocache/10-mysql.t ............... skipped: needs Cache::Cache for testing
t/cdbi-t-ocache/11-triggers.t ............ skipped: needs Cache::Cache for testing
t/cdbi-t-ocache/12-filter.t .............. skipped: needs Cache::Cache for testing
t/cdbi-t-ocache/13-constraint.t .......... skipped: needs Cache::Cache for testing
t/cdbi-t-ocache/14-might_have.t .......... skipped: needs Cache::Cache for testing
t/cdbi-t-ocache/16-reserved.t ............ skipped: needs Cache::Cache for testing
t/cdbi-t-ocache/17-data_type.t ........... skipped: needs Cache::Cache for testing
t/cdbi-t-ocache/18-has_a.t ............... skipped: needs Cache::Cache for testing
t/cdbi-t-ocache/19-set_sql.t ............. skipped: needs Cache::Cache for testing
t/cdbi-t-ocache/21-iterator.t ............ skipped: needs Cache::Cache for testing
t/cdbi-t-ocache/22-deflate_order.t ....... skipped: needs Cache::Cache for testing
t/cdbi-t-ocache/23-cascade.t ............. skipped: needs Cache::Cache for testing
t/cdbi-t-ocache/24-meta_info.t ........... ok
t/cdbi-t-ocache/25-closures_in_meta.t .... skipped: Need MySQL for this test
t/cdbi-t-ocache/97-pod.t ................. skipped: Cache::MemoryCache needed to test POD.
t/cdbi-t-ocache/98-failure.t ............. skipped: needs Cache::Cache for testing
t/cdbi-t-ocache/99-misc.t ................ skipped: needs Cache::Cache for testing
t/cdbi-t-rescache/01-columns.t ........... ok
t/cdbi-t-rescache/03-subclassing.t ....... skipped: needs Cache::Cache for testing
t/cdbi-t-rescache/05-Query.t ............. skipped: needs Cache::Cache for testing
t/cdbi-t-rescache/06-hasa.t .............. skipped: needs Cache::Cache for testing
t/cdbi-t-rescache/08-inheritcols.t ....... ok
t/cdbi-t-rescache/09-has_many.t .......... skipped: needs Cache::Cache for testing
t/cdbi-t-rescache/10-mysql.t ............. skipped: needs Cache::Cache for testing
t/cdbi-t-rescache/11-triggers.t .......... skipped: needs Cache::Cache for testing
t/cdbi-t-rescache/12-filter.t ............ skipped: needs Cache::Cache for testing
t/cdbi-t-rescache/13-constraint.t ........ skipped: needs Cache::Cache for testing
t/cdbi-t-rescache/14-might_have.t ........ skipped: needs Cache::Cache for testing
t/cdbi-t-rescache/16-reserved.t .......... skipped: needs Cache::Cache for testing
t/cdbi-t-rescache/17-data_type.t ......... skipped: needs Cache::Cache for testing
t/cdbi-t-rescache/18-has_a.t ............. skipped: needs Cache::Cache for testing
t/cdbi-t-rescache/19-set_sql.t ........... skipped: needs Cache::Cache for testing
t/cdbi-t-rescache/21-iterator.t .......... skipped: needs Cache::Cache for testing
t/cdbi-t-rescache/22-deflate_order.t ..... skipped: needs Cache::Cache for testing
t/cdbi-t-rescache/23-cascade.t ........... skipped: needs Cache::Cache for testing
t/cdbi-t-rescache/24-meta_info.t ......... ok
t/cdbi-t-rescache/25-closures_in_meta.t .. skipped: needs Cache::Cache for testing
t/cdbi-t-rescache/97-pod.t ............... skipped: Cache::MemoryCache needed to test POD.
t/cdbi-t-rescache/98-failure.t ........... skipped: needs Cache::Cache for testing
t/cdbi-t-rescache/99-misc.t .............. skipped: needs Cache::Cache for testing
t/cdbi-t/01-columns.t .................... ok
t/cdbi-t/02-Film.t ....................... ok
t/cdbi-t/03-subclassing.t ................ ok
t/cdbi-t/04-lazy.t ....................... ok
t/cdbi-t/05-Query.t ...................... ok
t/cdbi-t/06-hasa.t ....................... ok
t/cdbi-t/08-inheritcols.t ................ ok
t/cdbi-t/09-has_many.t ................... ok
t/cdbi-t/10-mysql.t ...................... skipped: Need Date::Simple for this test
t/cdbi-t/11-triggers.t ................... ok
t/cdbi-t/12-filter.t ..................... ok
t/cdbi-t/13-constraint.t ................. ok
t/cdbi-t/14-might_have.t ................. ok
t/cdbi-t/17-data_type.t .................. skipped: needs DBD::Pg for testing
Name "Ima::DBI::st::execute" used only once: possible typo at t/cdbi-t/18-has_a.t line 38.
t/cdbi-t/18-has_a.t ...................... ok
t/cdbi-t/19-set_sql.t .................... ok
t/cdbi-t/21-iterator.t ................... ok
t/cdbi-t/22-deflate_order.t .............. skipped: Need Time::Piece::MySQL for this test
t/cdbi-t/23-cascade.t .................... ok
t/cdbi-t/24-meta_info.t .................. ok
t/cdbi-t/25-closures_in_meta.t ........... skipped: Need MySQL for this test
t/cdbi-t/97-pod.t ........................ ok
t/cdbi-t/98-failure.t .................... ok
Use of uninitialized value $name in lc at /export/home/cpant4/.cpan/build/Class-DBI-v3.0.17-97z4zM/blib/lib/Class/DBI/ColumnGrouper.pm line 91.
t/cdbi-t/99-misc.t ....................... ok
All tests successful.
Files=79, Tests=576, 13 wallclock secs ( 0.41 usr  0.21 sys +  9.63 cusr  1.73 csys = 11.98 CPU)
Result: PASS

------------------------------
PREREQUISITES
------------------------------

Prerequisite modules loaded:

requires:

    Module        Need    Have   
    ------------- ------- -------
    Class::DBI    v3.0.12 3.0.17 
    Data::Page    0       2.02   
    DBD::SQLite   1.08    1.33   
    DBI           0       1.616  
    List::Util    0       1.23   
    SQL::Abstract 1.55    1.72   

configure_requires:

    Module        Need    Have   
    ------------- ------- -------
    Module::Build 0.38    0.39_01


------------------------------
ENVIRONMENT AND OTHER CONTEXT
------------------------------

Environment variables:

    AUTOMATED_TESTING = 1
    LANG = C
    LD_LIBRARY_PATH = /usr/local/lib:
    PATH = /export/home/cpant4/perl5/bin:/usr/local/bin:/usr/bin
    PERL5LIB = /export/home/cpant4/.cpan/build/Class-DBI-v3.0.17-97z4zM/blib/arch:/export/home/cpant4/.cpan/build/Class-DBI-v3.0.17-97z4zM/blib/lib:/export/home/cpant4/.cpan/build/Class-Trigger-0.14-kai2pj/blib/arch:/export/home/cpant4/.cpan/build/Class-Trigger-0.14-kai2pj/blib/lib:/export/home/cpant4/.cpan/build/IO-stringy-2.110-ibojBs/blib/arch:/export/home/cpant4/.cpan/build/IO-stringy-2.110-ibojBs/blib/lib:/export/home/cpant4/.cpan/build/UNIVERSAL-moniker-0.08-IHcP7H/blib/arch:/export/home/cpant4/.cpan/build/UNIVERSAL-moniker-0.08-IHcP7H/blib/lib:/export/home/cpant4/.cpan/build/SQL-Abstract-1.72-0khcmZ/blib/arch:/export/home/cpant4/.cpan/build/SQL-Abstract-1.72-0khcmZ/blib/lib:/export/home/cpant4/.cpan/build/Getopt-Long-Descriptive-0.090-eBJs3s/blib/arch:/export/home/cpant4/.cpan/build/Getopt-Long-Descriptive-0.090-eBJs3s/blib/lib:/export/home/cpant4/.cpan/build/Class-Accessor-Grouped-0.10003-rsv63T/blib/arch:/export/home/cpant4/.cpan/build/Class-Accessor-Grouped-0.10003-rsv63T/blib/lib
    PERL5OPT = 
    PERL5_CPANPLUS_IS_RUNNING = 22433
    PERL5_CPAN_IS_RUNNING = 22433
    PERL5_CPAN_IS_RUNNING_IN_RECURSION = 2905,22433
    PERL_CR_SMOKER_CURRENT = Class-DBI-Sweet-0.11
    PERL_EXTUTILS_AUTOINSTALL = --defaultdeps
    PERL_MM_USE_DEFAULT = 1
    SHELL = /bin/bash
    TERM = xterm

Perl special variables (and OS-specific diagnostics, for MSWin32):

    $^X = /export/home/cpant4/perl5/bin/perl5.15.2
    $UID/$EUID = 104 / 104
    $GID = 1 1
    $EGID = 1 1

Perl module toolchain versions installed:

    Module              Have    
    ------------------- --------
    CPAN                1.9800  
    CPAN::Meta          2.112150
    Cwd                 3.37    
    ExtUtils::CBuilder  0.280204
    ExtUtils::Command   1.17    
    ExtUtils::Install   1.57    
    ExtUtils::MakeMaker 6.59    
    ExtUtils::Manifest  1.60    
    ExtUtils::ParseXS   3.04    
    File::Spec          3.34    
    JSON                2.53    
    JSON::PP            2.27200 
    Module::Build       0.39_01 
    Module::Signature   n/a     
    Parse::CPAN::Meta   1.4401  
    Test::Harness       3.23    
    Test::More          0.98    
    YAML                0.73    
    YAML::Syck          n/a     
    version             0.94    


--

Summary of my perl5 (revision 5 version 15 subversion 2) configuration:
   
  Platform:
    osname=solaris, osvers=2.10, archname=i86pc-solaris-64int
    uname='sunos vmrz0046 5.10 generic_141445-09 i86pc i386 i86pc solaris '
    config_args='-Dcc=gcc -Dprefix=~/perl5 -Duse64bitint -Dusedevel -d'
    hint=recommended, useposix=true, d_sigaction=define
    useithreads=undef, usemultiplicity=undef
    useperlio=define, d_sfio=undef, uselargefiles=define, usesocks=undef
    use64bitint=define, use64bitall=undef, uselongdouble=undef
    usemymalloc=n, bincompat5005=undef
  Compiler:
    cc='gcc', ccflags ='-DPTR_IS_LONG -fno-strict-aliasing -pipe -I/usr/local/include -D_LARGEFILE_SOURCE -D_FILE_OFFSET_BITS=64 -DPERL_USE_SAFE_PUTENV',
    optimize='-O',
    cppflags='-DPTR_IS_LONG -fno-strict-aliasing -pipe -I/usr/local/include'
    ccversion='', gccversion='3.4.6', gccosandvers='solaris2.10'
    intsize=4, longsize=4, ptrsize=4, doublesize=8, byteorder=12345678
    d_longlong=define, longlongsize=8, d_longdbl=define, longdblsize=12
    ivtype='long long', ivsize=8, nvtype='double', nvsize=8, Off_t='off_t', lseeksize=8
    alignbytes=4, prototype=define
  Linker and Libraries:
    ld='gcc', ldflags =' -L/usr/local/lib '
    libpth=/usr/local/lib /usr/lib /usr/ccs/lib
    libs=-lsocket -lnsl -lgdbm -ldl -lm -lc
    perllibs=-lsocket -lnsl -ldl -lm -lc
    libc=/lib/libc.so, so=so, useshrplib=false, libperl=libperl.a
    gnulibc_version=''
  Dynamic Linking:
    dlsrc=dl_dlopen.xs, dlext=so, d_dlsymun=undef, ccdlflags=' '
    cccdlflags='-fPIC', lddlflags='-G -L/usr/local/lib'


Characteristics of this binary (from libperl): 
  Compile-time options: HAS_TIMES PERLIO_LAYERS PERL_DONT_CREATE_GVSV
                        PERL_MALLOC_WRAP PERL_PRESERVE_IVUV PERL_USE_DEVEL
                        PERL_USE_SAFE_PUTENV USE_64_BIT_INT USE_LARGE_FILES
                        USE_LOCALE USE_LOCALE_COLLATE USE_LOCALE_CTYPE
                        USE_LOCALE_NUMERIC USE_PERLIO USE_PERL_ATOF
  Built under solaris
  Compiled at Aug 22 2011 13:55:58
  %ENV:
    PERL5LIB="/export/home/cpant4/.cpan/build/Class-DBI-v3.0.17-97z4zM/blib/arch:/export/home/cpant4/.cpan/build/Class-DBI-v3.0.17-97z4zM/blib/lib:/export/home/cpant4/.cpan/build/Class-Trigger-0.14-kai2pj/blib/arch:/export/home/cpant4/.cpan/build/Class-Trigger-0.14-kai2pj/blib/lib:/export/home/cpant4/.cpan/build/IO-stringy-2.110-ibojBs/blib/arch:/export/home/cpant4/.cpan/build/IO-stringy-2.110-ibojBs/blib/lib:/export/home/cpant4/.cpan/build/UNIVERSAL-moniker-0.08-IHcP7H/blib/arch:/export/home/cpant4/.cpan/build/UNIVERSAL-moniker-0.08-IHcP7H/blib/lib:/export/home/cpant4/.cpan/build/SQL-Abstract-1.72-0khcmZ/blib/arch:/export/home/cpant4/.cpan/build/SQL-Abstract-1.72-0khcmZ/blib/lib:/export/home/cpant4/.cpan/build/Getopt-Long-Descriptive-0.090-eBJs3s/blib/arch:/export/home/cpant4/.cpan/build/Getopt-Long-Descriptive-0.090-eBJs3s/blib/lib:/export/home/cpant4/.cpan/build/Class-Accessor-Grouped-0.10003-rsv63T/blib/arch:/export/home/cpant4/.cpan/build/Class-Accessor-Grouped-0.10003-rsv63T/blib/lib"
    PERL5OPT=""
    PERL5_CPANPLUS_IS_RUNNING="22433"
    PERL5_CPAN_IS_RUNNING="22433"
    PERL5_CPAN_IS_RUNNING_IN_RECURSION="2905,22433"
    PERL_CR_SMOKER_CURRENT="Class-DBI-Sweet-0.11"
    PERL_EXTUTILS_AUTOINSTALL="--defaultdeps"
    PERL_MM_USE_DEFAULT="1"
  @INC:
    /export/home/cpant4/.cpan/build/Class-DBI-v3.0.17-97z4zM/blib/arch
    /export/home/cpant4/.cpan/build/Class-DBI-v3.0.17-97z4zM/blib/lib
    /export/home/cpant4/.cpan/build/Class-Trigger-0.14-kai2pj/blib/arch
    /export/home/cpant4/.cpan/build/Class-Trigger-0.14-kai2pj/blib/lib
    /export/home/cpant4/.cpan/build/IO-stringy-2.110-ibojBs/blib/arch
    /export/home/cpant4/.cpan/build/IO-stringy-2.110-ibojBs/blib/lib
    /export/home/cpant4/.cpan/build/UNIVERSAL-moniker-0.08-IHcP7H/blib/arch
    /export/home/cpant4/.cpan/build/UNIVERSAL-moniker-0.08-IHcP7H/blib/lib
    /export/home/cpant4/.cpan/build/SQL-Abstract-1.72-0khcmZ/blib/arch
    /export/home/cpant4/.cpan/build/SQL-Abstract-1.72-0khcmZ/blib/lib
    /export/home/cpant4/.cpan/build/Getopt-Long-Descriptive-0.090-eBJs3s/blib/arch
    /export/home/cpant4/.cpan/build/Getopt-Long-Descriptive-0.090-eBJs3s/blib/lib
    /export/home/cpant4/.cpan/build/Class-Accessor-Grouped-0.10003-rsv63T/blib/arch
    /export/home/cpant4/.cpan/build/Class-Accessor-Grouped-0.10003-rsv63T/blib/lib
    /export/home/cpant4/perl5/lib/site_perl/5.15.2/i86pc-solaris-64int
    /export/home/cpant4/perl5/lib/site_perl/5.15.2
    /export/home/cpant4/perl5/lib/5.15.2/i86pc-solaris-64int
    /export/home/cpant4/perl5/lib/5.15.2
    /export/home/cpant4/perl5/lib/site_perl
    .