Pod-Markdown v3.200 Perl 5 v5.32.0 darwin-ld-2level

Status
Pass
From
Roland van Ipenburg (IPENBURG)
Dist
Pod-Markdown v3.200
Platform
Perl 5 v5.32.0 darwin-ld-2level
Date
2020-08-19 08:12:04
ID
aac1f608-e1f3-11ea-8b95-addbfcff6eba
This distribution has been tested as part of the CPAN Testers
project, supporting the Perl programming language.  See
http://wiki.cpantesters.org/ for more information or email
questions to cpan-testers-discuss@perl.org


--
Dear Randy Stauner,

This is a computer-generated report for Pod-Markdown-3.200
on perl 5.32.0, created by CPAN-Reporter-1.2018.

Thank you for uploading your work to CPAN.  Congratulations!
All tests were successful.

Sections of this report:

    * Tester comments
    * Program output
    * Prerequisites
    * Environment and other context

------------------------------
TESTER COMMENTS
------------------------------

Additional comments from tester:

none provided

------------------------------
PROGRAM OUTPUT
------------------------------

Output from '/usr/bin/make test':

PERL_DL_NONLAZY=1 "/usr/local/bin/perl" "-MExtUtils::Command::MM" "-MTest::Harness" "-e" "undef *Test::Harness::Switches; test_harness(0, 'blib/lib', 'blib/arch')" t/*.t
t/00-compile.t ......... ok
# 
# Versions for all modules listed in MYMETA.json (including optional ones):
# 
# === Configure Requires ===
# 
#     Module              Want Have
#     ------------------- ---- ----
#     ExtUtils::MakeMaker  any 7.46
# 
# === Build Requires ===
# 
#     Module              Want Have
#     ------------------- ---- ----
#     ExtUtils::MakeMaker  any 7.46
# 
# === Test Requires ===
# 
#     Module                Want     Have
#     --------------------- ---- --------
#     Exporter               any     5.74
#     ExtUtils::MakeMaker    any     7.46
#     File::Spec             any     3.78
#     File::Spec::Functions  any     3.78
#     File::Temp             any   0.2309
#     IO::Handle             any     1.42
#     IPC::Open3             any     1.21
#     Symbol                 any     1.08
#     Test::Differences      any     0.67
#     Test::More            0.88 1.302177
#     lib                    any     0.65
#     utf8                   any     1.22
# 
# === Test Recommends ===
# 
#     Module         Want     Have
#     ---------- -------- --------
#     CPAN::Meta 2.120900 2.150010
# 
# === Runtime Requires ===
# 
#     Module               Want  Have
#     -------------------- ---- -----
#     Encode                any  3.07
#     Getopt::Long          any  2.51
#     Pod::Simple          3.27  3.40
#     Pod::Simple::Methody  any  3.40
#     Pod::Usage            any  1.69
#     URI::Escape           any  3.31
#     parent                any 0.238
#     strict                any  1.11
#     warnings              any  1.47
# 
# === Runtime Recommends ===
# 
#     Module         Want Have
#     -------------- ---- ----
#     HTML::Entities  any 3.69
# 
t/00-report-prereqs.t .. ok
t/back-compat.t ........ ok
t/basic.t .............. ok
t/codes.t .............. ok
t/encoding.t ........... ok
t/entities.t ........... ok
t/escape.t ............. ok
t/formats.t ............ ok
t/links.t .............. ok
t/lists.t .............. ok
t/meta.t ............... ok
t/misc.t ............... ok
t/nested.t ............. ok
t/new.t ................ ok
t/perldoc.t ............ ok
t/pod2markdown.t ....... ok
t/verbatim.t ........... ok
All tests successful.
Files=18, Tests=354,  4 wallclock secs ( 0.11 usr  0.05 sys +  3.38 cusr  0.76 csys =  4.30 CPU)
Result: PASS

------------------------------
PREREQUISITES
------------------------------

Prerequisite modules loaded:

requires:

    Module                Need     Have    
    --------------------- -------- --------
    Encode                0        3.07    
    Getopt::Long          0        2.51    
    parent                0        0.238   
    perl                  5.008    5.032000
    Pod::Simple           3.27     3.40    
    Pod::Simple::Methody  0        3.40    
    Pod::Usage            0        1.69    
    strict                0        1.11    
    URI::Escape           0        3.31    
    warnings              0        1.47    

build_requires:

    Module                Need     Have    
    --------------------- -------- --------
    Exporter              0        5.74    
    ExtUtils::MakeMaker   0        7.46    
    File::Spec            0        3.78    
    File::Spec::Functions 0        3.78    
    File::Temp            0        0.2309  
    IO::Handle            0        1.42    
    IPC::Open3            0        1.21    
    lib                   0        0.65    
    Symbol                0        1.08    
    Test::Differences     0        0.67    
    Test::More            0.88     1.302177
    utf8                  0        1.22    

configure_requires:

    Module                Need     Have    
    --------------------- -------- --------
    ExtUtils::MakeMaker   0        7.46    
    perl                  5.008    5.032000

opt_requires:

    Module                Need     Have    
    --------------------- -------- --------
    HTML::Entities        0        3.69    

opt_build_requires:

    Module                Need     Have    
    --------------------- -------- --------
    CPAN::Meta            2.120900 2.150010


------------------------------
ENVIRONMENT AND OTHER CONTEXT
------------------------------

Environment variables:

    LANG = en_US.UTF-8
    LC_ALL = en_US.UTF-8
    LC_CTYPE = UTF-8
    PATH = /opt/local/bin:/opt/local/sbin:/opt/local/bin:/opt/local/sbin:/opt/local/bin:/opt/local/sbin:/Users/roliep/pebble-dev/PebbleSDK-current/bin:/usr/local/bin/:/Users/roliep/pebble-dev/PebbleSDK-2.0.0/bin/:/Users/roliep/android-sdk-mac_x86/platform-tools/:/Users/roliep/android-sdk-mac_x86/tools/:/Applications/SenchaSDKTools-2.0.0-beta3:/Users/roliep/PebbleSDK-1.12/arm-cs-tools/bin:/usr/local/bin:/opt/local/sbin:/opt/local/bin:/Users/roliep/.composer/vendor/bin:/usr/local/bin:/usr/bin:/bin:/usr/sbin:/sbin:/usr/local/MacGPG2/bin:/opt/X11/bin:/Library/Apple/usr/bin:/Users/roliep/bin/FDK/Tools/osx
    PERL5LIB = 
    PERL5OPT = 
    PERL5_CPANPLUS_IS_RUNNING = 51908
    PERL5_CPAN_IS_RUNNING = 51908
    PERL_USE_UNSAFE_INC = 1
    SHELL = /bin/sh
    TERM = xterm-256color

Perl special variables (and OS-specific diagnostics, for MSWin32):

    $^X = /usr/local/bin/perl
    $UID/$EUID = 0 / 0
    $GID = 0 0 1 2 3 4 5 8 9 12 20 29 61 80 701 702 703
    $EGID = 0 0 1 2 3 4 5 8 9 12 20 29 61 80 701 702 703

Perl module toolchain versions installed:

    Module              Have    
    ------------------- --------
    CPAN                2.28    
    CPAN::Meta          2.150010
    Cwd                 3.78    
    ExtUtils::CBuilder  0.280234
    ExtUtils::Command   7.46    
    ExtUtils::Install   2.16    
    ExtUtils::MakeMaker 7.46    
    ExtUtils::Manifest  1.72    
    ExtUtils::ParseXS   3.40    
    File::Spec          3.78    
    JSON                4.02    
    JSON::PP            4.05    
    Module::Build       0.4231  
    Module::Signature   0.87    
    Parse::CPAN::Meta   2.150010
    Test::Harness       3.42    
    Test::More          1.302177
    YAML                1.30    
    YAML::Syck          n/a     
    version             0.9924  


--

Summary of my perl5 (revision 5 version 32 subversion 0) configuration:
   
  Platform:
    osname=darwin
    osvers=19.6.0
    archname=darwin-ld-2level
    uname='darwin midtown.fritz.box 19.6.0 darwin kernel version 19.6.0: thu jun 18 20:49:00 pdt 2020; root:xnu-6153.141.1~1release_x86_64 x86_64 '
    config_args='-des -Dinc_version_list=none -Duselongdouble'
    hint=recommended
    useposix=true
    d_sigaction=define
    useithreads=undef
    usemultiplicity=undef
    use64bitint=define
    use64bitall=define
    uselongdouble=define
    usemymalloc=n
    default_inc_excludes_dot=define
    bincompat5005=undef
  Compiler:
    cc='cc'
    ccflags ='-fno-common -DPERL_DARWIN -mmacosx-version-min=10.15 -fno-strict-aliasing -pipe -fstack-protector-strong -I/usr/local/include -I/opt/local/include -DPERL_USE_SAFE_PUTENV'
    optimize='-O3'
    cppflags='-fno-common -DPERL_DARWIN -mmacosx-version-min=10.15 -fno-strict-aliasing -pipe -fstack-protector-strong -I/usr/local/include -I/opt/local/include'
    ccversion=''
    gccversion='4.2.1 Compatible Apple LLVM 11.0.3 (clang-1103.0.32.62)'
    gccosandvers=''
    intsize=4
    longsize=8
    ptrsize=8
    doublesize=8
    byteorder=12345678
    doublekind=3
    d_longlong=define
    longlongsize=8
    d_longdbl=define
    longdblsize=16
    longdblkind=3
    ivtype='long'
    ivsize=8
    nvtype='long double'
    nvsize=16
    Off_t='off_t'
    lseeksize=8
    alignbytes=16
    prototype=define
  Linker and Libraries:
    ld='cc'
    ldflags =' -mmacosx-version-min=10.15 -fstack-protector-strong -L/usr/local/lib -L/opt/local/lib'
    libpth=/Volumes/SanDisk/Xcode.app/Contents/Developer/Toolchains/XcodeDefault.xctoolchain/usr/lib/clang/11.0.3/lib /Volumes/SanDisk/Xcode.app/Contents/Developer/Platforms/MacOSX.platform/Developer/SDKs/MacOSX.sdk/usr/lib /Volumes/SanDisk/Xcode.app/Contents/Developer/Toolchains/XcodeDefault.xctoolchain/usr/lib /usr/local/lib /opt/local/lib /usr/lib
    libs=-lpthread -lgdbm -ldbm -ldl -lm -lutil -lc
    perllibs=-lpthread -ldl -lm -lutil -lc
    libc=
    so=dylib
    useshrplib=false
    libperl=libperl.a
    gnulibc_version=''
  Dynamic Linking:
    dlsrc=dl_dlopen.xs
    dlext=bundle
    d_dlsymun=undef
    ccdlflags=' '
    cccdlflags=' '
    lddlflags=' -mmacosx-version-min=10.15 -bundle -undefined dynamic_lookup -L/usr/local/lib -L/opt/local/lib -fstack-protector-strong'


Characteristics of this binary (from libperl): 
  Compile-time options:
    HAS_TIMES
    PERLIO_LAYERS
    PERL_COPY_ON_WRITE
    PERL_DONT_CREATE_GVSV
    PERL_MALLOC_WRAP
    PERL_OP_PARENT
    PERL_PRESERVE_IVUV
    PERL_USE_SAFE_PUTENV
    USE_64_BIT_ALL
    USE_64_BIT_INT
    USE_LARGE_FILES
    USE_LOCALE
    USE_LOCALE_COLLATE
    USE_LOCALE_CTYPE
    USE_LOCALE_NUMERIC
    USE_LOCALE_TIME
    USE_LONG_DOUBLE
    USE_PERLIO
    USE_PERL_ATOF
  Built under darwin
  Compiled at Aug 18 2020 21:07:42
  %ENV:
    PERL5LIB=""
    PERL5OPT=""
    PERL5_CPANPLUS_IS_RUNNING="51908"
    PERL5_CPAN_IS_RUNNING="51908"
    PERL_USE_UNSAFE_INC="1"
  @INC:
    /usr/local/lib/perl5/site_perl/5.32.0/darwin-ld-2level
    /usr/local/lib/perl5/site_perl/5.32.0
    /usr/local/lib/perl5/5.32.0/darwin-ld-2level
    /usr/local/lib/perl5/5.32.0
    .