Test-WWW-Selenium-Conversion-IDE v0.5 Perl 5 v5.38.3 x86_64-linux-ld
- Status
- Pass
- From
- Andreas J. König (ANDK)
- Dist
-
Test-WWW-Selenium-Conversion-IDE v0.5
- Platform
- Perl 5 v5.38.3 x86_64-linux-ld
- Date
- 2025-03-15 20:32:51
- ID
- aaaea75c-01dc-11f0-9199-8f2cc22e756c
This distribution has been tested as part of the CPAN Testers
project, supporting the Perl programming language. See
http://wiki.cpantesters.org/ for more information or email
questions to cpan-testers-discuss@perl.org
--
Dear Andy Brown,
This is a computer-generated report for Test-WWW-Selenium-Conversion-IDE-0.5
on perl 5.38.3, created by CPAN-Reporter-1.2020.
Thank you for uploading your work to CPAN. Congratulations!
All tests were successful.
Sections of this report:
* Tester comments
* Program output
* Prerequisites
* Environment and other context
------------------------------
TESTER COMMENTS
------------------------------
Additional comments from tester:
this report is from an automated smoke testing program
and was not reviewed by a human for accuracy
------------------------------
PROGRAM OUTPUT
------------------------------
Output from '/usr/bin/make test':
/tmp/basesmoker-reloperl-ToAj/bin/perl Build --makefile_env_macros 1 test
t/00-critic.t ........ skipped: Author test. Set $ENV{TEST_AUTHOR} to a true value to run.
t/00-distribution.t .. skipped: Author test. Set $ENV{TEST_AUTHOR} to a true value to run.
t/00-kwalitee.t ...... skipped: Author test. Set $ENV{TEST_AUTHOR} to a true value to run.
t/00-pod.t ........... skipped: Author test. Set $ENV{TEST_AUTHOR} to a true value to run.
t/00-podcoverage.t ... skipped: Author test. Set $ENV{TEST_AUTHOR} to a true value to run.
t/10-ide_to_TWS.t .... ok
All tests successful.
Files=6, Tests=34, 1 wallclock secs ( 0.03 usr 0.00 sys + 0.37 cusr 0.06 csys = 0.46 CPU)
Result: PASS
------------------------------
PREREQUISITES
------------------------------
Prerequisite modules loaded:
requires:
Module Need Have
------------------- ------ ----------
Carp 0 1.54
English 0 1.11
Exporter 0 5.77
Readonly 0 2.05
Test::More 0.8 1.302207
Test::WWW::Selenium 0 1.36
XML::LibXML 0 2.0210
build_requires:
Module Need Have
------------------- ------ ----------
JSON 0 4.10
Test::Exception 0 0.43
Test::MockObject 0 1.20200122
configure_requires:
Module Need Have
------------------- ------ ----------
Module::Build 0.3603 0.4234
------------------------------
ENVIRONMENT AND OTHER CONTEXT
------------------------------
Environment variables:
AUTOMATED_TESTING = 1
LANG = en_US.UTF-8
PATH = /home/sand/bin:/usr/local/bin:/usr/local/sbin:/usr/sbin:/usr/bin:/sbin:/bin:/usr/games:/usr/local/games:/snap/bin:/usr/local/perl/bin:/usr/X11/bin
PERL5LIB =
PERL5OPT =
PERL5_CPANPLUS_IS_RUNNING = 2782
PERL5_CPAN_IS_RUNNING = 2782
PERL_CANARY_STABILITY_NOPROMPT = 1
PERL_MM_USE_DEFAULT = 1
PERL_USE_UNSAFE_INC = 1
SHELL = /usr/bin/zsh
TERM = screen
Perl special variables (and OS-specific diagnostics, for MSWin32):
$^X = /tmp/basesmoker-reloperl-ToAj/bin/perl
$UID/$EUID = 1005 / 1005
$GID = 1005 1005
$EGID = 1005 1005
Perl module toolchain versions installed:
Module Have
------------------- --------
CPAN 2.38
CPAN::Meta 2.150010
Cwd 3.89
ExtUtils::CBuilder 0.280238
ExtUtils::Command 7.72
ExtUtils::Install 2.22
ExtUtils::MakeMaker 7.72
ExtUtils::Manifest 1.73
ExtUtils::ParseXS 3.51
File::Spec 3.88
JSON 4.10
JSON::PP 4.16
Module::Build 0.4234
Module::Signature 0.89
Parse::CPAN::Meta 2.150010
Test2 1.302207
Test::Harness 3.50
Test::More 1.302207
YAML 1.31
YAML::Syck 1.34
version 0.9933
--
Summary of my perl5 (revision 5 version 38 subversion 3) configuration:
Commit id: 06697759559c52236e296a256776b1222f228163
Platform:
osname=linux
osvers=5.4.0-204-generic
archname=x86_64-linux-ld
uname='linux k93focal 5.4.0-204-generic #224-ubuntu smp thu dec 5 13:38:28 utc 2024 x86_64 x86_64 x86_64 gnulinux '
config_args='-Dprefix=/home/sand/src/perl/repoperls/installed-perls/host/k93focal/v5.38.3/d3e4 -Dmyhostname=k93focal -Dinstallusrbinperl=n -Uversiononly -Dusedevel -des -Ui_db -Dlibswanted=cl pthread socket inet nsl gdbm dbm malloc dl ld sun m crypt sec util c cposix posix ucb BSD gdbm_compat -Uuseithreads -Duselongdouble -DEBUGGING=both'
hint=recommended
useposix=true
d_sigaction=define
useithreads=undef
usemultiplicity=undef
use64bitint=define
use64bitall=define
uselongdouble=define
usemymalloc=n
default_inc_excludes_dot=define
Compiler:
cc='cc'
ccflags ='-fwrapv -DDEBUGGING -fno-strict-aliasing -pipe -fstack-protector-strong -I/usr/local/include -D_LARGEFILE_SOURCE -D_FILE_OFFSET_BITS=64'
optimize='-O2 -g'
cppflags='-fwrapv -DDEBUGGING -fno-strict-aliasing -pipe -fstack-protector-strong -I/usr/local/include'
ccversion=''
gccversion='9.4.0'
gccosandvers=''
intsize=4
longsize=8
ptrsize=8
doublesize=8
byteorder=12345678
doublekind=3
d_longlong=define
longlongsize=8
d_longdbl=define
longdblsize=16
longdblkind=3
ivtype='long'
ivsize=8
nvtype='long double'
nvsize=16
Off_t='off_t'
lseeksize=8
alignbytes=16
prototype=define
Linker and Libraries:
ld='cc'
ldflags =' -fstack-protector-strong -L/usr/local/lib'
libpth=/usr/local/lib /usr/lib/x86_64-linux-gnu /usr/lib /usr/lib64
libs=-lpthread -lnsl -ldl -lm -lcrypt -lutil -lc
perllibs=-lpthread -lnsl -ldl -lm -lcrypt -lutil -lc
libc=libc-2.31.so
so=so
useshrplib=false
libperl=libperl.a
gnulibc_version='2.31'
Dynamic Linking:
dlsrc=dl_dlopen.xs
dlext=so
d_dlsymun=undef
ccdlflags='-Wl,-E'
cccdlflags='-fPIC'
lddlflags='-shared -O2 -g -L/usr/local/lib -fstack-protector-strong'
Characteristics of this binary (from libperl):
Compile-time options:
DEBUGGING
HAS_LONG_DOUBLE
HAS_STRTOLD
HAS_TIMES
PERLIO_LAYERS
PERL_COPY_ON_WRITE
PERL_DONT_CREATE_GVSV
PERL_HASH_FUNC_SIPHASH13
PERL_HASH_USE_SBOX32
PERL_MALLOC_WRAP
PERL_OP_PARENT
PERL_PRESERVE_IVUV
PERL_USE_DEVEL
PERL_USE_SAFE_PUTENV
USE_64_BIT_ALL
USE_64_BIT_INT
USE_LARGE_FILES
USE_LOCALE
USE_LOCALE_COLLATE
USE_LOCALE_CTYPE
USE_LOCALE_NUMERIC
USE_LOCALE_TIME
USE_LONG_DOUBLE
USE_PERLIO
USE_PERL_ATOF
Built under linux
Compiled at Jan 20 2025 17:00:07
%ENV:
PERL5LIB=""
PERL5OPT=""
PERL5_CPANPLUS_IS_RUNNING="2782"
PERL5_CPAN_IS_RUNNING="2782"
PERL_CANARY_STABILITY_NOPROMPT="1"
PERL_MM_USE_DEFAULT="1"
PERL_USE_UNSAFE_INC="1"
@INC:
/home/sand/src/perl/repoperls/installed-perls/host/k93focal/v5.38.3/d3e4/lib/site_perl/5.38.3/x86_64-linux-ld
/home/sand/src/perl/repoperls/installed-perls/host/k93focal/v5.38.3/d3e4/lib/site_perl/5.38.3
/home/sand/src/perl/repoperls/installed-perls/host/k93focal/v5.38.3/d3e4/lib/5.38.3/x86_64-linux-ld
/home/sand/src/perl/repoperls/installed-perls/host/k93focal/v5.38.3/d3e4/lib/5.38.3
.