Web-Request v0.11 Perl 5 v5.24.3 x86_64-linux
- Status
- Pass
- From
- Andreas J. König (ANDK)
- Dist
-
Web-Request v0.11
- Platform
- Perl 5 v5.24.3 x86_64-linux
- Date
- 2019-08-01 15:40:19
- ID
- aa9c9408-b472-11e9-97f4-fa260a94e9da
This distribution has been tested as part of the CPAN Testers
project, supporting the Perl programming language. See
http://wiki.cpantesters.org/ for more information or email
questions to cpan-testers-discuss@perl.org
--
Dear Jesse Luehrs,
This is a computer-generated report for Web-Request-0.11
on perl 5.24.3, created by CPAN-Reporter-1.2018.
Thank you for uploading your work to CPAN. Congratulations!
All tests were successful.
Sections of this report:
* Tester comments
* Program output
* Prerequisites
* Environment and other context
------------------------------
TESTER COMMENTS
------------------------------
Additional comments from tester:
this report is from an automated smoke testing program
and was not reviewed by a human for accuracy
------------------------------
PROGRAM OUTPUT
------------------------------
Output from '/usr/bin/make test':
PERL_DL_NONLAZY=1 "/home/sand/src/perl/repoperls/installed-perls/host/k93msid/v5.24.3/bb7f/bin/perl" "-MExtUtils::Command::MM" "-MTest::Harness" "-e" "undef *Test::Harness::Switches; test_harness(0, 'blib/lib', 'blib/arch')" t/*.t
t/00-compile.t ................. ok
t/base.t ....................... ok
t/body.t ....................... ok
t/content-on-get.t ............. ok
t/content.t .................... ok
t/cookie.t ..................... ok
t/double_port.t ................ ok
t/encoding.t ................... ok
t/hostname.t ................... ok
t/many_upload.t ................ ok
t/multi_read.t ................. ok
t/new.t ........................ ok
t/parameters.t ................. ok
t/params.t ..................... ok
t/path_info.t .................. ok
t/path_info_escaped.t .......... ok
t/readbody.t ................... ok
t/request_uri.t ................ ok
t/response-body.t .............. ok
t/response-compatible.t ........ ok
t/response-cookie.t ............ ok
t/response-new.t ............... ok
t/response-redirect.t .......... ok
t/response-streaming-cookie.t .. ok
t/response-streaming-utf8.t .... ok
t/response-streaming.t ......... ok
t/response-to_app.t ............ ok
t/response.t ................... ok
t/upload-basename.t ............ ok
t/upload-large.t ............... ok
t/upload.t ..................... ok
t/uri.t ........................ ok
t/uri_utf8.t ................... ok
All tests successful.
Files=33, Tests=244, 32 wallclock secs ( 0.11 usr 0.14 sys + 11.30 cusr 2.17 csys = 13.72 CPU)
Result: PASS
------------------------------
PREREQUISITES
------------------------------
Prerequisite modules loaded:
requires:
Module Need Have
---------------------------- ---- --------
Encode 0 3.00
File::Spec::Unix 0 3.75
HTTP::Body 0 1.22
HTTP::Headers 0 6.18
HTTP::Message::PSGI 0 0
Module::Runtime 0 0.016
Moose 0 2.2011
Moose::Util::TypeConstraints 0 2.2011
Plack::Util 0 0
Stream::Buffered 0 0.03
strict 0 1.11
URI 0 1.76
URI::Escape 0 3.31
warnings 0 1.36
build_requires:
Module Need Have
---------------------------- ---- --------
Data::Dumper 0 2.173
File::Find 0 1.34
File::Temp 0 0.2309
FindBin 0 1.51
HTTP::Request 0 6.18
HTTP::Request::Common 0 6.18
IO::String 0 1.08
Plack::App::URLMap 0 0
Plack::Test 0 0
Test::More 0.88 1.302164
Try::Tiny 0 0.30
utf8 0 1.19
configure_requires:
Module Need Have
---------------------------- ---- --------
ExtUtils::MakeMaker 6.30 7.37_02
------------------------------
ENVIRONMENT AND OTHER CONTEXT
------------------------------
Environment variables:
AUTOMATED_TESTING = 1
LANG = en_US.UTF-8
PATH = /home/sand/bin:/usr/local/bin:/usr/bin:/bin:/usr/games:/usr/local/perl/bin:/usr/X11/bin:/sbin:/usr/sbin
PERL5LIB =
PERL5OPT =
PERL5_CPANPLUS_IS_RUNNING = 15101
PERL5_CPAN_IS_RUNNING = 15101
PERL_CANARY_STABILITY_NOPROMPT = 1
PERL_MM_USE_DEFAULT = 1
PERL_USE_UNSAFE_INC = 1
SHELL = /usr/bin/zsh
TERM = screen
Perl special variables (and OS-specific diagnostics, for MSWin32):
$^X = /home/sand/src/perl/repoperls/installed-perls/host/k93msid/v5.24.3/bb7f/bin/perl
$UID/$EUID = 1005 / 1005
$GID = 1005 1005
$EGID = 1005 1005
Perl module toolchain versions installed:
Module Have
------------------- --------
CPAN 2.26
CPAN::Meta 2.150010
Cwd 3.75
ExtUtils::CBuilder 0.280231
ExtUtils::Command 7.37_02
ExtUtils::Install 2.06
ExtUtils::MakeMaker 7.37_02
ExtUtils::Manifest 1.70
ExtUtils::ParseXS 3.35
File::Spec 3.75
JSON 4.02
JSON::PP 4.02
Module::Build 0.4229
Module::Signature 0.83
Parse::CPAN::Meta 2.150010
Test::Harness 3.42
Test::More 1.302164
YAML 1.28
YAML::Syck 1.31
version 0.9924
--
Summary of my perl5 (revision 5 version 24 subversion 3) configuration:
Derived from: 9f1d3884c227a955e9ecaaadba4cba3280c47e3a
Platform:
osname=linux, osvers=4.18.0-2-amd64, archname=x86_64-linux
uname='linux k93msid 4.18.0-2-amd64 #1 smp debian 4.18.10-2 (2018-10-07) x86_64 gnulinux '
config_args='-Dprefix=/home/sand/src/perl/repoperls/installed-perls/host/k93msid/v5.24.3/bb7f -Dmyhostname=k93msid -Dinstallusrbinperl=n -Uversiononly -Dusedevel -des -Ui_db -Dlibswanted=cl pthread socket inet nsl gdbm dbm malloc dl ld sun m crypt sec util c cposix posix ucb BSD gdbm_compat -Uuseithreads -Uuselongdouble -DEBUGGING=both'
hint=recommended, useposix=true, d_sigaction=define
useithreads=undef, usemultiplicity=undef
use64bitint=define, use64bitall=define, uselongdouble=undef
usemymalloc=n, bincompat5005=undef
Compiler:
cc='cc', ccflags ='-fwrapv -DDEBUGGING -fno-strict-aliasing -pipe -fstack-protector-strong -I/usr/local/include -D_LARGEFILE_SOURCE -D_FILE_OFFSET_BITS=64',
optimize='-O2 -g',
cppflags='-fwrapv -DDEBUGGING -fno-strict-aliasing -pipe -fstack-protector-strong -I/usr/local/include'
ccversion='', gccversion='8.2.0', gccosandvers=''
intsize=4, longsize=8, ptrsize=8, doublesize=8, byteorder=12345678, doublekind=3
d_longlong=define, longlongsize=8, d_longdbl=define, longdblsize=16, longdblkind=3
ivtype='long', ivsize=8, nvtype='double', nvsize=8, Off_t='off_t', lseeksize=8
alignbytes=8, prototype=define
Linker and Libraries:
ld='cc', ldflags =' -fstack-protector-strong -L/usr/local/lib'
libpth=/usr/local/lib /usr/lib/gcc/x86_64-linux-gnu/8/include-fixed /usr/include/x86_64-linux-gnu /usr/lib /lib/x86_64-linux-gnu /lib/../lib /usr/lib/x86_64-linux-gnu /usr/lib/../lib /lib
libs=-lpthread -lnsl -ldl -lm -lcrypt -lutil -lc
perllibs=-lpthread -lnsl -ldl -lm -lcrypt -lutil -lc
libc=libc-2.27.so, so=so, useshrplib=false, libperl=libperl.a
gnulibc_version='2.27'
Dynamic Linking:
dlsrc=dl_dlopen.xs, dlext=so, d_dlsymun=undef, ccdlflags='-Wl,-E'
cccdlflags='-fPIC', lddlflags='-shared -O2 -g -L/usr/local/lib -fstack-protector-strong'
Characteristics of this binary (from libperl):
Compile-time options: DEBUGGING HAS_TIMES PERLIO_LAYERS PERL_COPY_ON_WRITE
PERL_DONT_CREATE_GVSV
PERL_HASH_FUNC_ONE_AT_A_TIME_HARD PERL_MALLOC_WRAP
PERL_PRESERVE_IVUV PERL_USE_DEVEL USE_64_BIT_ALL
USE_64_BIT_INT USE_LARGE_FILES USE_LOCALE
USE_LOCALE_COLLATE USE_LOCALE_CTYPE
USE_LOCALE_NUMERIC USE_LOCALE_TIME USE_PERLIO
USE_PERL_ATOF
Locally applied patches:
uncommitted-changes
Built under linux
Compiled at Oct 28 2018 08:17:33
%ENV:
PERL5LIB=""
PERL5OPT=""
PERL5_CPANPLUS_IS_RUNNING="15101"
PERL5_CPAN_IS_RUNNING="15101"
PERL_CANARY_STABILITY_NOPROMPT="1"
PERL_MM_USE_DEFAULT="1"
PERL_USE_UNSAFE_INC="1"
@INC:
/home/sand/src/perl/repoperls/installed-perls/host/k93msid/v5.24.3/bb7f/lib/site_perl/5.24.3/x86_64-linux
/home/sand/src/perl/repoperls/installed-perls/host/k93msid/v5.24.3/bb7f/lib/site_perl/5.24.3
/home/sand/src/perl/repoperls/installed-perls/host/k93msid/v5.24.3/bb7f/lib/5.24.3/x86_64-linux
/home/sand/src/perl/repoperls/installed-perls/host/k93msid/v5.24.3/bb7f/lib/5.24.3
.