Clustericious v1.29 Perl 5 v5.22.2 amd64-freebsd

Status
Pass
From
Slaven Rezić (SREZIC)
Dist
Clustericious v1.29
Platform
Perl 5 v5.22.2 amd64-freebsd
Date
2018-03-11 22:08:02
ID
aa8b0574-2578-11e8-9c6f-9eb1a5c22838
This distribution has been tested as part of the CPAN Testers
project, supporting the Perl programming language.  See
http://wiki.cpantesters.org/ for more information or email
questions to cpan-testers-discuss@perl.org


--
Dear Graham Ollis,

This is a computer-generated report for Clustericious-1.29
on perl 5.22.2, created by CPAN-Reporter-1.2018.

Thank you for uploading your work to CPAN.  Congratulations!
All tests were successful.

Sections of this report:

    * Tester comments
    * Program output
    * Prerequisites
    * Environment and other context

------------------------------
TESTER COMMENTS
------------------------------

Additional comments from tester:

none provided

------------------------------
PROGRAM OUTPUT
------------------------------

Output from '/usr/bin/make test':

Skip blib/lib/auto/share/dist/Clustericious/tmpl/1.08/client/lib/APPCLASS/Client.pm (unchanged)
Skip blib/lib/auto/share/dist/Clustericious/www/1.08/favicon.ico (unchanged)
Skip blib/lib/auto/share/dist/Clustericious/tmpl/1.08/app/bin/APPNAME (unchanged)
Skip blib/lib/auto/share/dist/Clustericious/tmpl/1.08/app/lib/APPCLASS.pm (unchanged)
Skip blib/lib/auto/share/dist/Clustericious/tmpl/1.08/app/lib/APPCLASS/Routes.pm (unchanged)
Skip blib/lib/auto/share/dist/Clustericious/tmpl/1.08/app/t/02_compile.t (unchanged)
Skip blib/lib/auto/share/dist/Clustericious/tmpl/1.08/client/t/01_use.t (unchanged)
Skip blib/lib/auto/share/dist/Clustericious/tmpl/1.08/client/t/02_compile.t (unchanged)
Skip blib/lib/auto/share/dist/Clustericious/tmpl/1.08/app/t/01_use.t (unchanged)
Skip blib/lib/auto/share/dist/Clustericious/tmpl/1.08/app/Build.PL (unchanged)
Skip blib/lib/auto/share/dist/Clustericious/tmpl/1.08/client/bin/APPNAMEclient (unchanged)
Skip blib/lib/auto/share/dist/Clustericious/tmpl/1.08/client/Build.PL (unchanged)
Skip blib/lib/auto/share/dist/Clustericious/tmpl/1.08/app/t/basic.t (unchanged)
Skip blib/lib/auto/share/dist/Clustericious/README.txt (unchanged)
Skip blib/lib/auto/share/dist/Clustericious/tmpl/1.08/app/eg/APPCLASS.conf (unchanged)
PERL_DL_NONLAZY=1 "/usr/perl5.22.2p/bin/perl" "-MExtUtils::Command::MM" "-MTest::Harness" "-e" "undef *Test::Harness::Switches; test_harness(0, 'blib/lib', 'blib/arch')" t/*.t
# 
# 
# 
# HARNESS_ACTIVE=1
# HARNESS_VERSION=3.39
# LC_ALL=de_DE.ISO8859-1
# PERL5LIB=/home/cpansand/.cpan/build/2018031121/Clustericious-1.29-4/blib/lib:/home/cpansand/.cpan/build/2018031121/Clustericious-1.29-4/blib/arch:/home/cpansand/.cpan/build/2018031121/Clustericious-Admin-1.11-4/blib/arch:/home/cpansand/.cpan/build/2018031121/Clustericious-Admin-1.11-4/blib/lib:/home/cpansand/.cpan/build/2018031121/Clustericious-Admin-1.11-4/blib/arch:/home/cpansand/.cpan/build/2018031121/Clustericious-Admin-1.11-4/blib/lib
# PERL5OPT=
# PERL5_CPANPLUS_IS_RUNNING=47689
# PERL5_CPAN_IS_RUNNING=47689
# PERL5_CPAN_IS_RUNNING_IN_RECURSION=23695,47689
# PERLDOC=-MPod::Perldoc::ToTextOverstrike
# PERL_BATCH=yes
# PERL_CANARY_STABILITY_NOPROMPT=1
# PERL_CPAN_REPORTER_CONFIG=/var/tmp/cpansmoker-1023/2018031118/cpanreporter_000_config.ini
# PERL_DL_NONLAZY=1
# PERL_EXTUTILS_AUTOINSTALL=--defaultdeps
# PERL_USE_UNSAFE_INC=1
# SHELL=/usr/local/bin/zsh
# 
# 
# 
# PERL5LIB path
# /home/cpansand/.cpan/build/2018031121/Clustericious-1.29-4/blib/lib
# /home/cpansand/.cpan/build/2018031121/Clustericious-1.29-4/blib/arch
# /home/cpansand/.cpan/build/2018031121/Clustericious-Admin-1.11-4/blib/arch
# /home/cpansand/.cpan/build/2018031121/Clustericious-Admin-1.11-4/blib/lib
# /home/cpansand/.cpan/build/2018031121/Clustericious-Admin-1.11-4/blib/arch
# /home/cpansand/.cpan/build/2018031121/Clustericious-Admin-1.11-4/blib/lib
# 
# 
# 
# perl                         5.022002
# Capture::Tiny                0.46
# Cpanel::JSON::XS             4.00
# Data::Rmap                   0.65
# DateTime::Format::DateParse  0.05
# DateTime::Format::ISO8601    0.08
# EV                           4.22
# ExtUtils::MakeMaker          7.32
# File::ReadBackwards          1.05
# File::ShareDir::Dist         0.05
# File::ShareDir::Install      0.11
# File::Which                  1.22
# File::chdir                  0.1010
# Hash::Merge                  0.300
# JSON::MaybeXS                1.003009
# JSON::PP                     2.94
# JSON::XS                     3.04
# List::Util                   1.49
# Log::Log4perl                1.49
# Log::Log4perl::Appender::TAP 0.04
# MojoX::Log::Log4perl         0.11
# Mojolicious                  7.68
# Path::Class                  0.37
# PerlX::Maybe                 1.001
# PerlX::Maybe::XS             -
# PlugAuth::Lite               0.37
# Sub::Exporter                0.987
# Sub::Identify                0.12
# Term::Prompt                 1.04
# Test2::API                   1.302130
# Test2::Bundle::Extended      0.000106
# Test2::Plugin::FauxHomeDir   0.03
# Test::Clustericious::Cluster 0.37
# Test::More                   1.302130
# Test::Script                 1.18
# Test::Warn                   0.32
# YAML::XS                     0.69
# autodie                      2.29
# 
# 
# 
t/00_diag.t .......................................... ok
t/01_use.t ........................................... ok
t/02_compiles.t ...................................... ok
t/clustericious__default_url.t ....................... ok
t/clustericious__dist_dir.t .......................... ok
t/clustericious__generate_port.t ..................... ok
t/clustericious__slurp_pid.t ......................... ok
t/clustericious_app.t ................................ ok
t/clustericious_app__alt_route_builder.t ............. ok
t/clustericious_app__auth.t .......................... ok
t/clustericious_app__auth_websocket.t ................ ok
t/clustericious_app__bad_config.t .................... ok
t/clustericious_app__basic.t ......................... ok
t/clustericious_app__client.t ........................ ok
t/clustericious_app__crud.t .......................... ok
t/clustericious_app__multiple.t ...................... ok
t/clustericious_app__null.t .......................... ok
t/clustericious_app__null_config.t ................... ok
t/clustericious_app__plugin_search_order.t ........... ok
t/clustericious_app__render_exception.t .............. ok
t/clustericious_app__render_not_found.t .............. ok
t/clustericious_app__subreq.t ........................ ok
t/clustericious_client.t ............................. ok
t/clustericious_client__args.t ....................... ok
t/clustericious_client__datetime.t ................... ok
t/clustericious_client__object.t ..................... ok
t/clustericious_client__object_array.t ............... ok
t/clustericious_client__object_derived.t ............. ok
t/clustericious_client__params.t ..................... ok
t/clustericious_client__user_agent_string.t .......... ok
t/clustericious_command_apache.t ..................... skipped: developer only test
t/clustericious_command_configdebug.t ................ ok
t/clustericious_command_configdump.t ................. ok
t/clustericious_command_configpath.t ................. ok
t/clustericious_command_configtest.t ................. ok
t/clustericious_command_daemon.t ..................... ok
t/clustericious_command_generate.t ................... ok
t/clustericious_command_hypnotoad.t .................. skipped: developer only test
t/clustericious_command_lighttpd.t ................... skipped: test leaves processes running
t/clustericious_command_morbo.t ...................... ok
t/clustericious_command_nginx.t ...................... skipped: developer only test
t/clustericious_command_plackup.t .................... skipped: developer only test
t/clustericious_command_which.t ...................... ok
t/clustericious_config__callback.t ................... ok
t/clustericious_config__colen.t ...................... ok
t/clustericious_config__config.t ..................... ok
t/clustericious_config__config_multi.t ............... ok
t/clustericious_config__data.t ....................... ok
t/clustericious_config__default.t .................... ok
t/clustericious_config__default_start_mode.t ......... ok
t/clustericious_config__default_start_mode2.t ........ ok
Name "File::HomeDir::users_home" used only once: possible typo at t/clustericious_config__home.t line 18.
Name "File::HomeDir::Test::users_home" used only once: possible typo at t/clustericious_config__home.t line 17.
t/clustericious_config__home.t ....................... ok
t/clustericious_config__hostname.t ................... ok
t/clustericious_config__json.t ....................... ok
t/clustericious_config__namespace.t .................. ok
t/clustericious_config__pathclass.t .................. ok
t/clustericious_config__pollute.t .................... ok
t/clustericious_config__special.t .................... ok
t/clustericious_config__test_clustericious_config.t .. ok
t/clustericious_config__with_filename.t .............. ok
t/clustericious_config__yaml.t ....................... ok
t/clustericious_config__yaml2.t ...................... ok
t/clustericious_config_helper.t ...................... ok
t/clustericious_config_helper__get_passwd.t .......... ok
t/clustericious_helloworld.t ......................... ok
Test::Builder was loaded after Test2 initialization, this is not recommended. at /usr/perl5.22.2p/lib/site_perl/5.22.2/Test/Builder.pm line 21.
Formatter Test::Builder::Formatter loaded too late to be used as the global formatter at /usr/perl5.22.2p/lib/site_perl/5.22.2/Test/Builder.pm line 37.
t/clustericious_log.t ................................ ok
t/clustericious_log_commandline.t .................... ok
t/clustericious_log_commandline__warning.t ........... ok
t/clustericious_plugin_autodatahandler.t ............. ok
t/clustericious_plugin_clustericioushelpers.t ........ ok
t/clustericious_plugin_commonroutes.t ................ ok
t/clustericious_plugin_commonroutes__api_table.t ..... skipped: requires Rose::Planter 0.34 and DBD::SQLite:
t/clustericious_plugin_plugauth.t .................... ok
t/test_clustericious_config.t ........................ ok
    # ERROR this should not appear
    # ERROR this should
    # ERROR main error
    # FATAL main fatal
    # ERROR main error
    # FATAL main fatal
    # ERROR message1
    # ERROR message2
    # ERROR PLATYPUS-42
    # ERROR PLATYPUS-47
t/test_clustericious_log.t ........................... ok
All tests successful.

Test Summary Report
-------------------
t/clustericious_config__home.t                     (Wstat: 0 Tests: 3 Failed: 0)
  TODO passed:   1-2
Files=75, Tests=605, 44 wallclock secs ( 0.00 usr  0.53 sys +  6.12 cusr 33.50 csys = 40.15 CPU)
Result: PASS

------------------------------
PREREQUISITES
------------------------------

Prerequisite modules loaded:

requires:

    Module                       Need     Have    
    ---------------------------- -------- --------
    autodie                      0        2.29    
    Capture::Tiny                0        0.46    
    Data::Rmap                   0        0.65    
    DateTime::Format::DateParse  0        0.05    
    DateTime::Format::ISO8601    0        0.08    
    File::ReadBackwards          0        1.05    
    File::ShareDir::Dist         0        0.05    
    File::Which                  0        1.22    
    Hash::Merge                  0        0.300   
    JSON::MaybeXS                0        1.003009
    List::Util                   1.45     1.49    
    Log::Log4perl                0        1.49    
    Log::Log4perl::Appender::TAP 0.02     0.04    
    Mojolicious                  7.31     7.68    
    MojoX::Log::Log4perl         0        0.11    
    Path::Class                  0.26     0.37    
    perl                         5.010001 5.022002
    PerlX::Maybe                 0.003    1.001   
    Sub::Exporter                0        0.987   
    Sub::Identify                0.05     0.12    
    Term::Prompt                 0        1.04    
    Test2::API                   1.302015 1.302130
    Test2::Plugin::FauxHomeDir   0        0.03    
    YAML::XS                     0        0.69    

build_requires:

    Module                       Need     Have    
    ---------------------------- -------- --------
    ExtUtils::MakeMaker          0        7.32    
    File::chdir                  0        0.1010  
    PlugAuth::Lite               0        0.37    
    Test2::Bundle::Extended      0.000060 0.000106
    Test::Clustericious::Cluster 0.37     0.37    
    Test::More                   0.94     1.302130
    Test::Script                 1.10     1.18    
    Test::Warn                   0        0.32    

configure_requires:

    Module                       Need     Have    
    ---------------------------- -------- --------
    ExtUtils::MakeMaker          0        7.32    
    File::ShareDir::Install      0.06     0.11    
    perl                         5.010001 5.022002


------------------------------
ENVIRONMENT AND OTHER CONTEXT
------------------------------

Environment variables:

    LC_ALL = de_DE.ISO8859-1
    PATH = /usr/local/bin:/usr/bin:/bin:/usr/local/sbin:/usr/sbin:/sbin:/home/cpansand/bin/freebsd10.3:/home/cpansand/bin/sh:/home/cpansand/bin:/usr/games:/home/cpansand/devel:/home/eserte/src/srezic-misc/scripts
    PERL5LIB = /home/cpansand/.cpan/build/2018031121/Clustericious-Admin-1.11-4/blib/arch:/home/cpansand/.cpan/build/2018031121/Clustericious-Admin-1.11-4/blib/lib
    PERL5OPT = 
    PERL5_CPANPLUS_IS_RUNNING = 47689
    PERL5_CPAN_IS_RUNNING = 47689
    PERL5_CPAN_IS_RUNNING_IN_RECURSION = 23695,47689
    PERLDOC = -MPod::Perldoc::ToTextOverstrike
    PERL_BATCH = yes
    PERL_CANARY_STABILITY_NOPROMPT = 1
    PERL_CPAN_REPORTER_CONFIG = /var/tmp/cpansmoker-1023/2018031118/cpanreporter_000_config.ini
    PERL_EXTUTILS_AUTOINSTALL = --defaultdeps
    SHELL = /usr/local/bin/zsh
    TERM = screen
    TMPDIR = /var/tmp/cpansmoker-1023/2018031118

Perl special variables (and OS-specific diagnostics, for MSWin32):

    $^X = /usr/perl5.22.2p/bin/perl
    $UID/$EUID = 1023 / 1023
    $GID = 1023 1023
    $EGID = 1023 1023

Perl module toolchain versions installed:

    Module              Have    
    ------------------- --------
    CPAN                2.16    
    CPAN::Meta          2.150010
    Cwd                 3.74    
    ExtUtils::CBuilder  0.280226
    ExtUtils::Command   7.32    
    ExtUtils::Install   2.14    
    ExtUtils::MakeMaker 7.32    
    ExtUtils::Manifest  1.70    
    ExtUtils::ParseXS   3.35    
    File::Spec          3.74    
    JSON                2.97001 
    JSON::PP            2.94    
    Module::Build       0.4224  
    Module::Signature   0.81    
    Parse::CPAN::Meta   2.150010
    Test::Harness       3.39    
    Test::More          1.302130
    YAML                1.24    
    YAML::Syck          1.30    
    version             0.9917  


--

Summary of my perl5 (revision 5 version 22 subversion 2) configuration:
   
  Platform:
    osname=freebsd, osvers=10.1-release, archname=amd64-freebsd
    uname='freebsd cvrsnica-freebsd-101.herceg.de 10.1-release freebsd 10.1-release #0 r274401: tue nov 11 21:02:49 utc 2014 root@releng1.nyi.freebsd.org:usrobjusrsrcsysgeneric amd64 '
    config_args='-ds -e -Dprefix=/usr/perl5.22.2p -Dcf_email=srezic@cpan.org -Doptimize=-O2 -pipe'
    hint=recommended, useposix=true, d_sigaction=define
    useithreads=undef, usemultiplicity=undef
    use64bitint=define, use64bitall=define, uselongdouble=undef
    usemymalloc=n, bincompat5005=undef
  Compiler:
    cc='cc', ccflags ='-DHAS_FPSETMASK -DHAS_FLOATINGPOINT_H -fno-strict-aliasing -pipe -fstack-protector -I/usr/local/include -D_FORTIFY_SOURCE=2',
    optimize='-O2 -pipe',
    cppflags='-DHAS_FPSETMASK -DHAS_FLOATINGPOINT_H -fno-strict-aliasing -pipe -fstack-protector -I/usr/local/include'
    ccversion='', gccversion='4.2.1 Compatible FreeBSD Clang 3.4.1 (tags/RELEASE_34/dot1-final 208032)', gccosandvers=''
    intsize=4, longsize=8, ptrsize=8, doublesize=8, byteorder=12345678, doublekind=3
    d_longlong=define, longlongsize=8, d_longdbl=define, longdblsize=16, longdblkind=3
    ivtype='long', ivsize=8, nvtype='double', nvsize=8, Off_t='off_t', lseeksize=8
    alignbytes=8, prototype=define
  Linker and Libraries:
    ld='cc', ldflags ='-pthread -Wl,-E  -fstack-protector -L/usr/local/lib'
    libpth=/usr/lib /usr/local/lib /usr/include/clang/3.4.1 /usr/lib
    libs=-lpthread -lgdbm -lm -lcrypt -lutil -lc
    perllibs=-lpthread -lm -lcrypt -lutil -lc
    libc=, so=so, useshrplib=false, libperl=libperl.a
    gnulibc_version=''
  Dynamic Linking:
    dlsrc=dl_dlopen.xs, dlext=so, d_dlsymun=undef, ccdlflags=' '
    cccdlflags='-DPIC -fPIC', lddlflags='-shared  -L/usr/local/lib -fstack-protector'


Characteristics of this binary (from libperl): 
  Compile-time options: HAS_TIMES PERLIO_LAYERS PERL_DONT_CREATE_GVSV
                        PERL_HASH_FUNC_ONE_AT_A_TIME_HARD PERL_MALLOC_WRAP
                        PERL_NEW_COPY_ON_WRITE PERL_PRESERVE_IVUV
                        USE_64_BIT_ALL USE_64_BIT_INT USE_LARGE_FILES
                        USE_LOCALE USE_LOCALE_COLLATE USE_LOCALE_CTYPE
                        USE_LOCALE_NUMERIC USE_LOCALE_TIME USE_PERLIO
                        USE_PERL_ATOF
  Built under freebsd
  Compiled at May 29 2016 23:34:36
  %ENV:
    PERL5LIB="/home/cpansand/.cpan/build/2018031121/Clustericious-Admin-1.11-4/blib/arch:/home/cpansand/.cpan/build/2018031121/Clustericious-Admin-1.11-4/blib/lib"
    PERL5OPT=""
    PERL5_CPANPLUS_IS_RUNNING="47689"
    PERL5_CPAN_IS_RUNNING="47689"
    PERL5_CPAN_IS_RUNNING_IN_RECURSION="23695,47689"
    PERLDOC="-MPod::Perldoc::ToTextOverstrike"
    PERL_BATCH="yes"
    PERL_CANARY_STABILITY_NOPROMPT="1"
    PERL_CPAN_REPORTER_CONFIG="/var/tmp/cpansmoker-1023/2018031118/cpanreporter_000_config.ini"
    PERL_EXTUTILS_AUTOINSTALL="--defaultdeps"
  @INC:
    /home/cpansand/.cpan/build/2018031121/Clustericious-Admin-1.11-4/blib/arch
    /home/cpansand/.cpan/build/2018031121/Clustericious-Admin-1.11-4/blib/lib
    /usr/perl5.22.2p/lib/site_perl/5.22.2/amd64-freebsd
    /usr/perl5.22.2p/lib/site_perl/5.22.2
    /usr/perl5.22.2p/lib/5.22.2/amd64-freebsd
    /usr/perl5.22.2p/lib/5.22.2
    .