Term-ReadLine-Perl5 v1.45 Perl 5 v5.16.3 x86_64-linux-thread-multi
- Status
- Pass
- From
- Nigel Horne
- Dist
-
Term-ReadLine-Perl5 v1.45
- Platform
- Perl 5 v5.16.3 x86_64-linux-thread-multi
- Date
- 2017-10-18 12:05:43
- ID
- aa761b0c-b3fc-11e7-a2a8-d0c13ad602b4
This distribution has been tested as part of the CPAN Testers
project, supporting the Perl programming language. See
http://wiki.cpantesters.org/ for more information or email
questions to cpan-testers-discuss@perl.org
--
Dear Rocky Bernstein,
This is a computer-generated report for Term-ReadLine-Perl5-1.45
on perl 5.16.3, created by CPAN-Reporter-1.2018.
Thank you for uploading your work to CPAN. Congratulations!
All tests were successful.
Sections of this report:
* Tester comments
* Program output
* Prerequisites
* Environment and other context
------------------------------
TESTER COMMENTS
------------------------------
Additional comments from tester:
this report is from an automated smoke testing program
and was not reviewed by a human for accuracy
------------------------------
PROGRAM OUTPUT
------------------------------
Output from './Build test':
test.pl ........................ skipped: Not interactive: $ENV{PERL_MM_NONINTERACTIVE}='' $ENV{AUTOMATED_TESTING}='1'
t/00test-pod.t ................. ok
Unable to get Terminal Size. The TIOCGWINSZ ioctl didn't work. The COLUMNS and LINES environment variables didn't work. The resize program didn't work. The stty program didn't work. at /home/njh/.cpan/build/Term-ReadLine-Perl5-1.45-18/blib/lib/Term/ReadLine/Perl5/readline.pm line 2937.
Unable to get Terminal Size. The TIOCGWINSZ ioctl didn't work. The COLUMNS and LINES environment variables didn't work. The resize program didn't work. The stty program didn't work. at /home/njh/.cpan/build/Term-ReadLine-Perl5-1.45-18/blib/lib/Term/ReadLine/Perl5/readline.pm line 2937.
t/01test-OO-compile.t .......... ok
Unable to get Terminal Size. The TIOCGWINSZ ioctl didn't work. The COLUMNS and LINES environment variables didn't work. The resize program didn't work. The stty program didn't work. at /home/njh/.cpan/build/Term-ReadLine-Perl5-1.45-18/blib/lib/Term/ReadLine/Perl5/readline.pm line 2937.
t/02test-OO-history-max-len.t .. ok
t/10test-basic.t ............... ok
Unable to get Terminal Size. The TIOCGWINSZ ioctl didn't work. The COLUMNS and LINES environment variables didn't work. The resize program didn't work. The stty program didn't work. at /home/njh/.cpan/build/Term-ReadLine-Perl5-1.45-18/blib/lib/Term/ReadLine/Perl5/readline.pm line 2937.
t/10test-changecase.t .......... ok
t/10test-common.t .............. ok
t/10test-filelist.t ............ ok
t/10test-history.t ............. ok
t/10test-motion.t .............. ok
t/10test-readline.t ............ ok
t/15test-unescape.t ............ ok
Unable to get Terminal Size. The TIOCGWINSZ ioctl didn't work. The COLUMNS and LINES environment variables didn't work. The resize program didn't work. The stty program didn't work. at /home/njh/.cpan/build/Term-ReadLine-Perl5-1.45-18/blib/lib/Term/ReadLine/Perl5/readline.pm line 2937.
t/20test-read-input-file.t ..... ok
All tests successful.
Files=13, Tests=146, 1 wallclock secs ( 0.09 usr 0.04 sys + 2.43 cusr 0.41 csys = 2.97 CPU)
Result: PASS
------------------------------
PREREQUISITES
------------------------------
Prerequisite modules loaded:
requires:
Module Need Have
------------------------------- -------- --------
Class::Accessor::Lite 0.05 0.08
File::HomeDir 0.81 1.00
File::Spec 0 3.62
IO::Handle 0 1.33
perl 5.008005 5.016003
POSIX 0 1.30
Term::ReadKey 2.3 2.37
Text::VisualWidth::PP 0 0.04
Unicode::EastAsianWidth::Detect 0.03 0.03
version 0 0.99
build_requires:
Module Need Have
------------------------------- -------- --------
File::HomeDir 0.81 1.00
File::Spec 0 3.62
Term::Cap 0 1.13
Term::ReadKey 2.3 2.37
Test::More 0.98 1.302075
configure_requires:
Module Need Have
------------------------------- -------- --------
Module::Build 0.4004 0.4220
perl 5.008005 5.016003
------------------------------
ENVIRONMENT AND OTHER CONTEXT
------------------------------
Environment variables:
AUTOMATED_TESTING = 1
HARNESS_OPTIONS = j2
LANG = en_GB.UTF-8
LANGUAGE = en_GB:en
PATH = /home/njh/perl5/perlbrew/bin:/home/njh/perl5/perlbrew/perls/perl-5.16.3/bin:/home/njh/perl5/perlbrew/bin:/usr/bin:/bin
PERL5LIB = /home/njh/.cpan/build/Unicode-EastAsianWidth-Detect-0.03-15/blib/arch:/home/njh/.cpan/build/Unicode-EastAsianWidth-Detect-0.03-15/blib/lib:/home/njh/.cpan/build/Text-VisualWidth-PP-0.04-15/blib/arch:/home/njh/.cpan/build/Text-VisualWidth-PP-0.04-15/blib/lib:/home/njh/.cpan/build/Unicode-EastAsianWidth-1.33-15/blib/arch:/home/njh/.cpan/build/Unicode-EastAsianWidth-1.33-15/blib/lib:/home/njh/.cpan/build/Class-Accessor-Lite-0.08-15/blib/arch:/home/njh/.cpan/build/Class-Accessor-Lite-0.08-15/blib/lib:/home/njh/.cpan/build/JSON-Parse-0.53-18/blib/arch:/home/njh/.cpan/build/JSON-Parse-0.53-18/blib/lib
PERL5OPT =
PERL5_CPANPLUS_IS_RUNNING = 5081
PERL5_CPAN_IS_RUNNING = 5081
PERLBREW_BASHRC_VERSION = 0.75
PERLBREW_HOME = /home/njh/.perlbrew
PERLBREW_LIB =
PERLBREW_MANPATH = /home/njh/perl5/perlbrew/perls/perl-5.16.3/man
PERLBREW_PATH = /home/njh/perl5/perlbrew/bin:/home/njh/perl5/perlbrew/perls/perl-5.16.3/bin
PERLBREW_PERL = perl-5.16.3
PERLBREW_ROOT = /home/njh/perl5/perlbrew
PERLBREW_VERSION = 0.75
PERL_LOCAL_LIB_ROOT =
SHELL = /bin/sh
Perl special variables (and OS-specific diagnostics, for MSWin32):
$^X = /home/njh/perl5/perlbrew/perls/perl-5.16.3/bin/perl
$UID/$EUID = 1000 / 1000
$GID = 1000 4 24 25 29 30 44 46 103 108 116 127 1000
$EGID = 1000 4 24 25 29 30 44 46 103 108 116 127 1000
Perl module toolchain versions installed:
Module Have
------------------- --------
CPAN 2.16
CPAN::Meta 2.150010
Cwd 3.62
ExtUtils::CBuilder 0.280224
ExtUtils::Command 7.24
ExtUtils::Install 2.04
ExtUtils::MakeMaker 7.24
ExtUtils::Manifest 1.70
ExtUtils::ParseXS 3.30
File::Spec 3.62
JSON 2.90
JSON::PP 2.27400
Module::Build 0.4220
Module::Signature n/a
Parse::CPAN::Meta 2.150010
Test::Harness 3.36
Test::More 1.302075
YAML 1.23
YAML::Syck 1.30
version 0.99
--
Summary of my perl5 (revision 5 version 16 subversion 3) configuration:
Platform:
osname=linux, osvers=3.16-3-amd64, archname=x86_64-linux-thread-multi
uname='linux compaq 3.16-3-amd64 #1 smp debian 3.16.5-1 (2014-10-10) x86_64 gnulinux '
config_args='-de -Dprefix=/home/njh/perl5/perlbrew/perls/perl-5.16.3 -Duseithreads -Dusemultiplicity -Dusedevel -Accflags= -Aeval:scriptdir=/home/njh/perl5/perlbrew/perls/perl-5.16.3/bin'
hint=recommended, useposix=true, d_sigaction=define
useithreads=define, usemultiplicity=define
useperlio=define, d_sfio=undef, uselargefiles=define, usesocks=undef
use64bitint=define, use64bitall=define, uselongdouble=undef
usemymalloc=n, bincompat5005=undef
Compiler:
cc='cc', ccflags ='-D_REENTRANT -D_GNU_SOURCE -fno-strict-aliasing -pipe -fstack-protector -I/usr/local/include -D_LARGEFILE_SOURCE -D_FILE_OFFSET_BITS=64',
optimize='-O2',
cppflags='-D_REENTRANT -D_GNU_SOURCE -fno-strict-aliasing -pipe -fstack-protector -I/usr/local/include'
ccversion='', gccversion='4.9.2', gccosandvers=''
intsize=4, longsize=8, ptrsize=8, doublesize=8, byteorder=12345678
d_longlong=define, longlongsize=8, d_longdbl=define, longdblsize=16
ivtype='long', ivsize=8, nvtype='double', nvsize=8, Off_t='off_t', lseeksize=8
alignbytes=8, prototype=define
Linker and Libraries:
ld='cc', ldflags =' -fstack-protector -L/usr/local/lib'
libpth=/usr/local/lib /lib/x86_64-linux-gnu /lib/../lib /usr/lib/x86_64-linux-gnu /usr/lib/../lib /lib /usr/lib
libs=-lnsl -lgdbm -ldb -ldl -lm -lcrypt -lutil -lpthread -lc -lgdbm_compat
perllibs=-lnsl -ldl -lm -lcrypt -lutil -lpthread -lc
libc=, so=so, useshrplib=false, libperl=libperl.a
gnulibc_version='2.19'
Dynamic Linking:
dlsrc=dl_dlopen.xs, dlext=so, d_dlsymun=undef, ccdlflags='-Wl,-E'
cccdlflags='-fPIC', lddlflags='-shared -O2 -L/usr/local/lib -fstack-protector'
Characteristics of this binary (from libperl):
Compile-time options: HAS_TIMES MULTIPLICITY PERLIO_LAYERS
PERL_DONT_CREATE_GVSV PERL_IMPLICIT_CONTEXT
PERL_MALLOC_WRAP PERL_PRESERVE_IVUV PERL_USE_DEVEL
USE_64_BIT_ALL USE_64_BIT_INT USE_ITHREADS
USE_LARGE_FILES USE_LOCALE USE_LOCALE_COLLATE
USE_LOCALE_CTYPE USE_LOCALE_NUMERIC USE_PERLIO
USE_PERL_ATOF USE_REENTRANT_API
Built under linux
Compiled at Nov 15 2014 01:46:07
%ENV:
PERL5LIB="/home/njh/.cpan/build/Unicode-EastAsianWidth-Detect-0.03-15/blib/arch:/home/njh/.cpan/build/Unicode-EastAsianWidth-Detect-0.03-15/blib/lib:/home/njh/.cpan/build/Text-VisualWidth-PP-0.04-15/blib/arch:/home/njh/.cpan/build/Text-VisualWidth-PP-0.04-15/blib/lib:/home/njh/.cpan/build/Unicode-EastAsianWidth-1.33-15/blib/arch:/home/njh/.cpan/build/Unicode-EastAsianWidth-1.33-15/blib/lib:/home/njh/.cpan/build/Class-Accessor-Lite-0.08-15/blib/arch:/home/njh/.cpan/build/Class-Accessor-Lite-0.08-15/blib/lib:/home/njh/.cpan/build/JSON-Parse-0.53-18/blib/arch:/home/njh/.cpan/build/JSON-Parse-0.53-18/blib/lib"
PERL5OPT=""
PERL5_CPANPLUS_IS_RUNNING="5081"
PERL5_CPAN_IS_RUNNING="5081"
PERLBREW_BASHRC_VERSION="0.75"
PERLBREW_HOME="/home/njh/.perlbrew"
PERLBREW_LIB=""
PERLBREW_MANPATH="/home/njh/perl5/perlbrew/perls/perl-5.16.3/man"
PERLBREW_PATH="/home/njh/perl5/perlbrew/bin:/home/njh/perl5/perlbrew/perls/perl-5.16.3/bin"
PERLBREW_PERL="perl-5.16.3"
PERLBREW_ROOT="/home/njh/perl5/perlbrew"
PERLBREW_VERSION="0.75"
PERL_LOCAL_LIB_ROOT=""
@INC:
/home/njh/.cpan/build/Unicode-EastAsianWidth-Detect-0.03-15/blib/arch
/home/njh/.cpan/build/Unicode-EastAsianWidth-Detect-0.03-15/blib/lib
/home/njh/.cpan/build/Text-VisualWidth-PP-0.04-15/blib/arch
/home/njh/.cpan/build/Text-VisualWidth-PP-0.04-15/blib/lib
/home/njh/.cpan/build/Unicode-EastAsianWidth-1.33-15/blib/arch
/home/njh/.cpan/build/Unicode-EastAsianWidth-1.33-15/blib/lib
/home/njh/.cpan/build/Class-Accessor-Lite-0.08-15/blib/arch
/home/njh/.cpan/build/Class-Accessor-Lite-0.08-15/blib/lib
/home/njh/.cpan/build/JSON-Parse-0.53-18/blib/arch
/home/njh/.cpan/build/JSON-Parse-0.53-18/blib/lib
/home/njh/perl5/perlbrew/perls/perl-5.16.3/lib/site_perl/5.16.3/x86_64-linux-thread-multi
/home/njh/perl5/perlbrew/perls/perl-5.16.3/lib/site_perl/5.16.3
/home/njh/perl5/perlbrew/perls/perl-5.16.3/lib/5.16.3/x86_64-linux-thread-multi
/home/njh/perl5/perlbrew/perls/perl-5.16.3/lib/5.16.3
.