POE-Component-SmokeBox-Recent v1.54 Perl 5 v5.14.2 x86_64-linux

Status
Pass
From
Chris Williams (BINGOS)
Dist
POE-Component-SmokeBox-Recent v1.54
Platform
Perl 5 v5.14.2 x86_64-linux
Date
2020-10-12 22:45:45
ID
aa6f2a7c-0cdc-11eb-b4d1-eecf521f5755
This distribution has been tested as part of the CPAN Testers
project, supporting the Perl programming language.  See
http://wiki.cpantesters.org/ for more information or email
questions to cpan-testers-discuss@perl.org


--

Dear Chris Williams,

This is a computer-generated error report created automatically by
CPANPLUS, version 0.9906. Testers personal comments may appear
at the end of this report.


Thank you for uploading your work to CPAN.  Congratulations!
All tests were successful.

TEST RESULTS:

Below is the error stack from stage 'make test':

PERL_DL_NONLAZY=1 "/opt/perl-5.14.2/bin/perl" "-MExtUtils::Command::MM" "-MTest::Harness" "-e" "undef *Test::Harness::Switches; test_harness(0, 'blib/lib', 'blib/arch')" t/*.t
t/00-compile.t ........... ok
# 127.0.0.1,54646,127.0.0.1,33215
# GET ///pub/CPAN/RECENT
# Host: 127.0.0.1:33215
# User-Agent: POE-Component-SmokeBox-Recent-HTTP/1.54 (perl; N; POE; en; rv:1.540000)
# X-HTTP-Version: 1.1
# 
t/01_http.t .............. ok
t/01_http_sockerr.t ...... ok
# 127.0.0.1,52152,127.0.0.1,33071
# GET ///pub/CPAN/RECENT
# Host: 127.0.0.1:33071
# User-Agent: POE-Component-SmokeBox-Recent-HTTP/1.54 (perl; N; POE; en; rv:1.540000)
# X-HTTP-Version: 1.1
# 
# Timed out connection after 10 seconds.
t/01_http_timeout.t ...... ok
# 127.0.0.1,35684,127.0.0.1,46197
# USER anonymous
# PASS anon@anon.org
# PASV
# RETR /pub/CPAN/RECENT
# QUIT
t/01_retr.t .............. ok
t/01_retr_sockerr.t ...... ok
# 127.0.0.1,38270,127.0.0.1,39627
# USER anonymous
# PASS anon@anon.org
# PASV
# RETR /pub/CPAN/RECENT
# QUIT
t/02_local_ftp.t ......... ok
Possible attempt to put comments in qw() list at t/02_local_ftp_rss.t line 72.
# 127.0.0.1,38456,127.0.0.1,40471
# USER anonymous
# PASS anon@anon.org
# PASV
# RETR /pub/CPAN/modules/01modules.mtime.rss
# QUIT
t/02_local_ftp_rss.t ..... ok
# GET ///RECENT
# Host: 127.0.0.1:42493
# User-Agent: POE-Component-SmokeBox-Recent-HTTP/1.54 (perl; N; POE; en; rv:1.540000)
# X-HTTP-Version: 1.1
# 
t/03_local_http.t ........ ok
# GET ///modules/01modules.mtime.rss
# Host: 127.0.0.1:36141
# User-Agent: POE-Component-SmokeBox-Recent-HTTP/1.54 (perl; N; POE; en; rv:1.540000)
# X-HTTP-Version: 1.1
# 
t/03_local_http_rss.t .... ok
t/04_live_ftp.t .......... skipped: No network tests
t/04_live_ftp_rss.t ...... skipped: No network tests
t/05_live_http.t ......... skipped: No network tests
t/05_live_http_rss.t ..... skipped: No network tests
t/06_cpantesters.t ....... skipped: No network tests
# A/AB/ABH/Geo-Coder-Yahoo-0.45.tar.gz
# A/AB/ABURS/DateTime-Format-Excel-0.30.tar.gz
# A/AD/ADAMK/Devel-Leak-Object-1.01.tar.gz
# A/AD/ADAMK/Module-Manifest-1.08.tar.gz
# A/AF/AFFC/Parse-Log-Smbd-0.01.tar.gz
# A/AF/AFFC/Parse-Log-Smbd-0.01_01.tar.gz
# A/AF/AFFC/Parse-Log-Smbd-0.01_02.tar.gz
# A/AF/AFFC/Parse-Log-Smbd-0.01_03.tar.gz
# A/AF/AFFC/Parse-Log-Smbd-0.01_04.tar.gz
# A/AL/ALEXBIO/TwitShell-4.08.tar.gz
# A/AL/ALFILLE/OWNet-1.20.tar.gz
# A/AL/ALINKE/Lingua-Lid-0.02.tar.gz
# A/AL/ALPHAZULU/TM-View-0.7.tar.gz
# A/AM/AMBS/Lingua/Lingua-Jspell-1.65.tar.gz
# A/AN/ANDK/Devel-SawAmpersand-0.32.tar.gz
# A/AS/ASH/Class-Discover-1.000003.tar.gz
# A/AV/AVAR/Crypt-CVS-0.02.tar.gz
# A/AV/AVAR/Dist-Zilla-PluginBundle-AVAR-0.20.tar.gz
# A/AV/AVAR/Net-FCP-Tiny-0.01.tar.gz
# A/AV/AVAR/Net-FCP-Tiny-0.02.tar.gz
# A/AV/AVAR/Net-FCP-Tiny-0.03.tar.gz
# B/BB/BBAXTER/FlatFile-DataStore-0.11.tar.gz
# B/BB/BBAXTER/FlatFile-DataStore-0.12.tar.gz
# B/BB/BBAXTER/FlatFile-DataStore-0.13.tar.gz
# B/BB/BBAXTER/FlatFile-DataStore-0.14.tar.gz
# B/BI/BIGPRESH/Dancer-Plugin-Database-0.05.tar.gz
# B/BI/BIGPRESH/Dancer-Plugin-Database-0.06.tar.gz
# B/BI/BIGPRESH/Dancer-Template-HtmlTemplate-0.04.tar.gz
# B/BI/BINGOS/Dist-Zilla-Plugin-GithubMeta-0.10.tar.gz
# B/BI/BINGOS/Dist-Zilla-PluginBundle-BINGOS-0.02.tar.gz
# B/BI/BINGOS/Dist-Zooky-0.02.tar.gz
# B/BI/BINGOS/Dist-Zooky-0.04.tar.gz
# B/BI/BINGOS/POE-Component-Client-NNTP-2.20.tar.gz
# B/BJ/BJOERN/Geo-MedianCenter-XS-0.01.tar.gz
# B/BO/BOBTFISH/Catalyst-Devel-1.28.tar.gz
# B/BO/BOBTFISH/Catalyst-Plugin-I18N-0.10.tar.gz
# B/BO/BOBTFISH/MooseX-MethodAttributes-0.23.tar.gz
# B/BO/BOOK/Git-Repository-1.01.tar.gz
# B/BO/BOOK/Git-Repository-1.02.tar.gz
# B/BO/BOOK/Git-Repository-1.03.tar.gz
# B/BR/BRICAS/Geo-IPfree-1.101650.tar.gz
# B/BR/BRICAS/WWW-Wikipedia-1.97.tar.gz
# B/BT/BTMCINNES/UMLS-Interface-0.63.tar.gz
# B/BT/BTMCINNES/UMLS-Similarity-0.57.tar.gz
# C/CA/CAMELCASE/HTML-TurboForm-0.630.tar.gz
# C/CE/CEBJYRE/Net-Google-FederatedLogin-0.4.0.tar.gz
# C/CH/CHRISA/MooseX-Types-Varchar-0.02.tar.gz
# C/CI/CINDY/Plack-Middleware-Session-SerializedCookie-1.01.tar.gz
# C/CJ/CJM/MooseX-AttributeTree-0.02.tar.gz
# C/CJ/CJM/PostScript-Report-0.07.tar.gz
# C/CS/CSTEPHENE/BioX-SeqUtils-Promoter-0.0.4.tar.gz
# C/CS/CSTEPHENE/BioX-SeqUtils-Promoter-0.0.5.tar.gz
# C/CU/CUB/Catalyst-TraitFor-Model-DBIC-Schema-ConnectInfo-Several-0.06.tar.gz
# D/DA/DAGOLDEN/CPAN-Meta-2.101670.tar.gz
# D/DA/DAGOLDEN/Capture-Tiny-0.08.tar.gz
# D/DA/DANNY/Rose-DBx-Object-Renderer-0.72.tar.gz
# D/DA/DAVIDP/Xymon-Client-0.03.tar.gz
# D/DA/DAVIDP/Xymon-Server-History-0.03.tar.gz
# D/DH/DHOUSTON/CatalystX-Controller-Pluggable-0.01.tar.gz
# D/DH/DHOUSTON/CatalystX-Controller-Pluggable-0.02.tar.gz
# D/DJ/DJIBEL/Tk-Canvas-GradientColor-1.03.tar.gz
# D/DJ/DJIBEL/Tk-Canvas-GradientColor-1.04.tar.gz
# D/DJ/DJIBEL/Tk-ColoredButton-1.00.tar.gz
# D/DJ/DJIBEL/Tk-ColoredButton-1.01.tar.gz
# D/DJ/DJIBEL/Tk-ForDummies-Graph-1.13.tar.gz
# D/DM/DMITRYNOD/AnyEvent-ImageShack-0.01.tar.gz
# D/DO/DOLMEN/Parse-nm-0.06.tar.gz
# D/DO/DOOM/Emacs-Rep-0.05.tar.gz
# D/DO/DORMANDO/Cache-Memcached-1.29.tar.gz
# D/DO/DORMANDO/Perlbal-1.76.tar.gz
# D/DO/DOY/App-Termcast-0.07.tar.gz
# D/DO/DOY/Carp-Always-Color-0.04.tar.gz
# D/DO/DOY/Dist-Zilla-PluginBundle-DOY-0.03.tar.gz
# D/DO/DOY/Moose-1.08.tar.gz
# D/DO/DOY/MooseX-Constructor-AllErrors-0.011.tar.gz
# D/DO/DOY/MooseX-NonMoose-0.09.tar.gz
# D/DO/DOY/Package-Stash-0.05.tar.gz
# D/DR/DRBEAN/Dist-Zilla-Plugin-SVK-0.02.tar.gz
# D/DR/DRBEAN/Grades-0.10.tar.gz
# D/DR/DRBEAN/Grades-0.11.tar.gz
# D/DR/DROLSKY/Fey-0.35.tar.gz
# D/DU/DUNCAND/Muldis-D-0.130.0.tar.gz
# D/DU/DUNCAND/Muldis-D-Manual-0.7.0.tar.gz
# D/DU/DUNCS/App-ClusterSSH-4.00_02.tar.gz
# D/DU/DUNCS/App-ClusterSSH-4.00_03.tar.gz
# D/DU/DUNCS/App-ClusterSSH-4.00_04.tar.gz
# D/DU/DUNCS/App-ClusterSSH-4.00_05.tar.gz
# D/DW/DWHEELER/Encode-ZapCP1252-0.31.tar.gz
# D/DW/DWHEELER/Encode-ZapCP1252-0.32.tar.gz
# E/ED/EDECA/HTTP-Parser-0.05.tar.gz
# E/EG/EGILES/X11-Terminal-0.2.tar.gz
# E/EG/EGILES/X11-Terminal-0.3.tar.gz
# E/EL/ELLIOTJS/MooseX-Getopt-Defanged-v1.17.0.tar.gz
# E/EL/ELLIOTJS/Perl-Critic-1.107_001.tar.gz
# E/EM/EMAZEP/DBIx-MultiStatementDo-0.05000.tar.gz
# E/EM/EMAZEP/SQL-SplitStatement-0.05000.tar.gz
# E/EM/EMAZEP/SQL-SplitStatement-0.05001.tar.gz
# E/EM/EMAZEP/SQL-SplitStatement-0.05002.tar.gz
# E/EM/EMAZEP/SQL-SplitStatement-0.05003.tar.gz
# F/FL/FLORA/Catalyst-Authentication-Store-DBIx-Class-0.1300.tar.gz
# F/FL/FLORA/Class-C3-0.23.tar.gz
# F/FL/FLORA/Dist-Zilla-PluginBundle-FLORA-0.12.tar.gz
# F/FL/FLORA/MooseX-Getopt-0.29.tar.gz
# F/FL/FLORA/Test-EOL-0.9.tar.gz
# F/FR/FRANCKC/Dancer-Debug-0.01.tar.gz
# F/FR/FRANCKC/Dancer-Logger-PSGI-0.02.tar.gz
# F/FR/FRANCKC/Net-Riak-0.01.tar.gz
# F/FR/FRANCKC/Net-Riak-0.02.tar.gz
# F/FR/FRANCKC/Net-Riak-0.03.tar.gz
# F/FR/FRANCKC/Net-Riak-0.04.tar.gz
# F/FR/FREW/Devel-REPL-1.003011.tar.gz
# F/FR/FRODWITH/Flea-0.02.tar.gz
# F/FR/FRODWITH/Plack-Middleware-Inline-0.01.tar.gz
# F/FR/FRODWITH/Plack-Middleware-Inline-0.02.tar.gz
# F/FS/FSEITZ/ClassLoader-1.00006.tar.gz
# G/GA/GARU/Alien-SDL-1.407.tar.gz
# G/GB/GBROWN/WWW-CNic-0.37.tar.gz
# G/GE/GENE/MIDI-Simple-Drummer-0.00_22.tar.gz
# G/GE/GENE/MIDI-Simple-Drummer-0.00_23.tar.gz
# G/GF/GFUJI/Mouse-0.61.tar.gz
# G/GF/GFUJI/Test-LeakTrace-0.11.tar.gz
# G/GF/GFUJI/Text-Xslate-0.1034.tar.gz
# G/GF/GFUJI/Text-Xslate-0.1035.tar.gz
# G/GO/GOMOR/Lib-Sonypi-0.80.tar.gz
# G/GP/GPHAT/Test-Net-RabbitMQ-0.04.tar.gz
# G/GR/GRAY/Geo-Coder-Bing-0.08.tar.gz
# G/GR/GRAY/Geo-Coder-Bing-0.09.tar.gz
# G/GR/GRAY/Geo-Coder-Mapquest-0.04.tar.gz
# G/GR/GREENBEAN/Asterisk-AMI-v0.2.0.tar.gz
# G/GU/GUGOD/Binding-0.06.tar.gz
# G/GU/GUGOD/Object-Method-0.01.tar.gz
# G/GU/GUGOD/PerlX-MethodCallWithBlock-0.05.tar.gz
# G/GW/GWILLIAMS/RDF-Trine-0.124_01.tar.gz
# G/GW/GWILLIAMS/RDF-Trine-0.124_02.tar.gz
# G/GW/GWILLIAMS/RDF-Trine-0.124_03.tar.gz
# G/GW/GWILLIAMS/RDF-Trine-0.124_04.tar.gz
# H/HI/HINRIK/grok-0.20.tar.gz
# H/HI/HINRIK/grok-0.21.tar.gz
# I/IN/INA/HP15/HP15-0.60.tar.gz
# I/IN/INA/INFORMIXV6ALS/INFORMIXV6ALS-0.60.tar.gz
# I/IN/INA/Sjis/Sjis-0.60.tar.gz
# I/IN/INGY/JSYNC-0.01.tar.gz
# I/IN/INGY/JSYNC-0.02.tar.gz
# I/IN/INGY/JSYNC-0.03.tar.gz
# I/IN/INGY/XXX-0.16.tar.gz
# J/JE/JETEVE/Class-TLB-0.01.tar.gz
# J/JF/JFITZ/List-Uniq-0.13.tar.gz
# J/JF/JFITZ/List-Uniq-0.20.tar.gz
# J/JG/JGAMBLE/Math-Polynomial-Solve-2.52.tar.gz
# J/JH/JHTHORSEN/App-Mypp-0.09.tar.gz
# J/JH/JHTHORSEN/Fuse-Template-0.02.tar.gz
# J/JH/JHTHORSEN/Fuse-Template-0.0201.tar.gz
# J/JH/JHTHORSEN/Net-ISC-DHCPd-0.06.tar.gz
# J/JH/JHTHORSEN/Net-ISC-DHCPd-0.07.tar.gz
# J/JH/JHTHORSEN/POE-Filter-DHCPd-Lease-0.0502.tar.gz
# J/JH/JHTHORSEN/SNMP-Effective-1.07.tar.gz
# J/JH/JHTHORSEN/Var-State-0.05.tar.gz
# J/JJ/JJORE/Alien-Judy-0.17.tar.gz
# J/JJ/JJORE/Alien-Judy-0.18.tar.gz
# J/JJ/JJORE/Data-Dump-Streamer-2.19.tar.gz
# J/JJ/JJORE/Data-Dump-Streamer-2.21.tar.gz
# J/JJ/JJORE/Judy-0.35.tar.gz
# J/JJ/JJORE/Judy-0.36.tar.gz
# J/JJ/JJORE/Judy-0.37.tar.gz
# J/JK/JKEGL/Marpa-0.103_001.tar.gz
# J/JK/JKEGL/Marpa-0.103_002.tar.gz
# J/JK/JKUTEJ/App-whichpm-0.02.tar.gz
# J/JK/JKUTEJ/App-whichpm-0.03.tar.gz
# J/JK/JKVA/Postscript-TextDecode-0.2.tar.gz
# J/JM/JMATES/Config-OpenSSH-Authkey-0.99.tar.gz
# J/JM/JMATES/File-AtomicWrite-1.02.tar.gz
# J/JM/JMATES/Term-CallEditor-0.60.tar.gz
# J/JM/JMGDOC/ODF-lpOD-0.110.tar.gz
# J/JN/JNW/Text-GuessEncoding-0.06.tar.gz
# J/JO/JOHAYEK/app-xlstar-1-36.tar.gz
# J/JO/JONADAB/resched-0.7.8.zip
# J/JP/JPIERCE/clobber-0.02.tgz
# J/JP/JPIERCE/clobber-0.04.tgz
# J/JP/JPIERCE/clobber-0.10_1.tgz
# J/JQ/JQUELIN/Dist-Zilla-Plugin-Git-1.101650.tar.gz
# J/JQ/JQUELIN/Dist-Zilla-Plugin-Git-1.101680.tar.gz
# J/JS/JSIRACUSA/Time-Clock-1.02.tar.gz
# J/JS/JSWARTZ/CHI-Driver-BerkeleyDB-0.02.tar.gz
# J/JS/JSWARTZ/CHI-Driver-BerkeleyDB-0.03.tar.gz
# J/JV/JV/PostScript-Font-1.10.02.tar.gz
# K/KA/KARMAN/Net-LDAP-Server-Test-0.10.tar.gz
# K/KG/KGRENNAN/Net-OAuth-0.26.tar.gz
# K/KG/KGRENNAN/Net-OAuth-0.27.tar.gz
# K/KN/KNORR/File-Checksum-0.01.tar.gz
# K/KN/KNTH/ProgressMonitor-0.33.tar.gz
# K/KR/KRISTINA/MongoDB-0.34.tar.gz
# K/KR/KRYDE/rss2leafnode-29.tar.gz
# K/KT/KTAT/Data-RuledValidator-0.12.tar.gz
# K/KU/KURIANJA/HTML-Defang-1.03.tar.gz
# L/LD/LDS/Bio-Graphics-2.10.tar.gz
# L/LD/LDS/GBrowse-2.10.tar.gz
# L/LE/LEEDO/IRC-Formatting-HTML-0.21.tar.gz
# L/LE/LEEDO/IRC-Formatting-HTML-0.22.tar.gz
# L/LE/LEEDO/WWW-Discogs-0.09.tar.gz
# L/LE/LEONT/POSIX-RT-Timer-0.001.tar.gz
# L/LE/LEONT/POSIX-RT-Timer-0.002.tar.gz
# L/LE/LEONT/POSIX-RT-Timer-0.003.tar.gz
# L/LE/LEONT/POSIX-RT-Timer-0.004.tar.gz
# L/LG/LGEHLEN/SVG-Rasterize-0.003004.tar.gz
# M/MA/MAKAMAKA/Text-CSV-1.18.tar.gz
# M/MA/MAMAWE/GeNUScreen-Config-0.0.5.tar.gz
# M/MA/MAMAWE/GeNUScreen-Config-0.0.6.tar.gz
# M/MA/MAMAWE/GeNUScreen-Config-0.0.7.tar.gz
# M/MA/MARCEL/Attribute-TieClasses-1.101700.tar.gz
# M/MA/MARCEL/Class-Value-Net-1.101690.tar.gz
# M/MA/MARCEL/Data-Conveyor-1.101690.tar.gz
# M/MA/MARCEL/Data-Storage-1.101700.tar.gz
# M/MA/MARCEL/Dist-Zilla-Plugin-ReportVersions-1.101700.tar.gz
# M/MA/MARCEL/Dist-Zilla-PluginBundle-MARCEL-1.101700.tar.gz
# M/MA/MARCEL/Error-Hierarchy-1.101690.tar.gz
# M/MA/MARCEL/Getopt-Attribute-2.101700.tar.gz
# M/MA/MARCEL/Mail-Field-Received-0.25.tar.gz
# M/MA/MARCEL/Mail-Field-Received-0.26.tar.gz
# M/MA/MARCEL/Net-IP-Match-1.101700.tar.gz
# M/MA/MARCEL/Text-Pipe-Encoding-1.101700.tar.gz
# M/MA/MARKOV/Data-DublinCore-0.04.tar.gz
# M/MA/MARKOV/XML-Compile-1.16.tar.gz
# M/MA/MARKOV/XML-Compile-RPC-0.15.tar.gz
# M/MA/MARKOV/XML-Compile-SOAP-2.15.tar.gz
# M/MA/MARKOV/XML-Compile-SOAP-WSA-0.10.tar.gz
# M/MA/MARKOV/XML-Compile-SOAP-WSA-0.11.tar.gz
# M/MA/MARKOV/XML-Compile-Tester-0.06.tar.gz
# M/MA/MARKSTOS/MojoX-Encode-Gzip-1.10.tar.gz
# M/MA/MAROS/Business-UPS-Tracking-1.06.tar.gz
# M/MC/MCMAHON/Test-WWW-Simple-0.30.tar.gz
# M/ME/MEMOWE/Mojolicious-Plugin-ContentManagement-0.011.tar.gz
# M/ME/MENDEL/DBIx-Class-MooseColumns-0.06.tar.gz
# M/ME/MENDEL/DBIx-Class-MooseColumns-0.07.tar.gz
# M/ME/MENDEL/MooseX-DBIC-AddColumn-0.05.tar.gz
# M/ME/MERIXZON/WebService-Google-Closure-0.05.tar.gz
# M/MK/MKANAT/RPC-Any-1.00.tar.gz
# M/MK/MKANAT/RPC-Any-1.00_1.tar.gz
# M/MK/MKANAT/RPC-Any-1.00_2.tar.gz
# M/MK/MKANAT/RPC-Any-1.00_3.tar.gz
# M/ML/MLEHMANN/AnyEvent-DBus-0.1.tar.gz
# M/ML/MLEHMANN/AnyEvent-HTTP-1.45.tar.gz
# M/MM/MMCLERIC/Ubic-1.06.tar.gz
# M/MM/MMIMS/Net-Twitter-3.13004.tar.gz
# M/MM/MMIMS/Net-Twitter-3.13005.tar.gz
# M/MM/MMIMS/Net-Twitter-3.13006.tar.gz
# M/MP/MPIOTR/Lingua-Ident-1.7.tar.gz
# M/MR/MRAMBERG/WebService-PutIo-0.1.tar.gz
# M/MS/MSCHILLI/Log-Log4perl-1.29.tar.gz
# M/MS/MSTPLBG/AnyEvent-I3-0.06.tar.gz
# M/MY/MYSTERYTE/Gallery-Remote-API-v0.1.1.tar.gz
# M/MY/MYSTERYTE/Gallery-Remote-API-v0.1.4.tar.gz
# N/NA/NAIM/AnyEvent-HTTPBenchmark-0.05.tar.gz
# N/NA/NAIM/AnyEvent-HTTPBenchmark-0.06.tar.gz
# N/NA/NAIM/AnyEvent-HTTPBenchmark-0.07.tar.gz
# N/NE/NEZUMI/MIME-EncWords-1.012.tar.gz
# N/NI/NIERLEIN/Monitoring-Availability-0.14.tar.gz
# N/NP/NPEREZ/Fancy-Middleware-1.101680.tar.gz
# N/NU/NUFFIN/Data-UUID-LibUUID-0.05_01.tar.gz
# N/NU/NUFFIN/Directory-Transactional-0.09.tar.gz
# N/NU/NUFFIN/KiokuDB-0.46_01.tar.gz
# N/NX/NXONEP/Acme-AGMorse-0.01.tar.gz
# N/NX/NXONEP/Acme-AGMorse-0.02.tar.gz
# O/OP/OPI/IPC-ScoreBoard-0.01.tar.gz
# O/OP/OPI/TX-0.09.tar.gz
# O/OP/OPI/Text-Template-Library-0.04.tar.gz
# P/PA/PAIXAOP/WWW-Salesforce-Report-0.02.tar.gz
# P/PA/PAIXAOP/WWW-Salesforce-Report-0.03.tar.gz
# P/PD/PDONELAN/Plack-App-JSP-0.101680.tar.gz
# P/PE/PERIGRIN/Adam-0.08.tar.gz
# P/PE/PERIGRIN/Git-Wrapper-0.010.tar.gz
# P/PE/PERLER/CatalystX-ExtJS-1.101670.tar.gz
# P/PE/PERLER/CatalystX-ExtJS-1.101700.tar.gz
# P/PE/PERLER/MooseX-Attribute-Deflator-1.101670.tar.gz
# P/PE/PETDANCE/podium-0.01.tar.gz
# P/PI/PIP/Math-BaseCnv-1.4.A6FAbEb.tgz
# P/PI/PIP/Math-BaseCnv-1.6.A6FGHKE.tgz
# P/PI/PIP/Time-DayOfWeek-1.4.A6FCO7V.tgz
# P/PI/PIP/Time-DayOfWeek-1.6.A6FFxZB.tgz
# P/PM/PMAKHOLM/Encode-IMAPUTF7-1.05.tar.gz
# P/PR/PRIVI/POE-Component-SSLify-NonBlock-0.41.tar.gz
# P/PR/PRIVI/POE-Filter-SSL-0.01.tar.gz
# P/PR/PRIVI/POE-Filter-SSL-0.02.tar.gz
# P/PR/PRIVI/POE-Filter-SSL-0.03.tar.gz
# P/PR/PRIVI/POE-Filter-SSL-0.04.tar.gz
# P/PR/PRIVI/POE-Filter-SSL-0.05.tar.gz
# P/PR/PRIVI/POE-Filter-SSL-0.06.tar.gz
# P/PR/PRIVI/POE-Filter-SSL-0.07.tar.gz
# P/PR/PRIVI/POE-Filter-SSL-0.08.tar.gz
# P/PR/PRIVI/POE-Filter-SSL-0.09.tar.gz
# P/PR/PRIVI/POE-Filter-SSL-0.10.tar.gz
# P/PR/PRIVI/POE-Filter-SSL-0.11.tar.gz
# P/PR/PRO/Net-DirectConnect-0.06.tar.gz
# R/RE/REHSACK/SQL-Statement-1.27_01.tar.gz
# R/RJ/RJBS/App-Cronjob-1.101660.tar.gz
# R/RJ/RJBS/CPAN-Uploader-0.101670.tar.gz
# R/RJ/RJBS/Config-MVP-2.101650.tar.gz
# R/RO/ROKR/App-PAUSE-cleanup-0.0011.tar.gz
# R/RO/ROKR/Config-Identity-0.0016.tar.gz
# R/RO/ROKR/Doc-Simply-0.032.tar.gz
# R/RO/ROKR/Net-ClientServer-0.0007.tar.gz
# R/RO/ROKR/Path-Mapper-0.012.tar.gz
# R/RO/ROKR/Term-EditorEdit-0.0011.tar.gz
# R/RO/ROSCIO/Term-Emit-0.0.3.tar.gz
# R/RO/ROSCIO/Tk-FmtEntry-0.1.tar.gz
# R/RO/ROSCIO/Tk-FullKeypad-1.0.tar.gz
# R/RO/ROSCIO/Tk-NumKeypad-1.0.tar.gz
# R/RP/RPETTETT/Bio-Das-Lite-2.04.tar.gz
# R/RP/RPETTETT/ClearPress-372.tar.gz
# R/RS/RSRCHBOY/Archive-RPM-0.07.tar.gz
# R/RS/RSRCHBOY/MooseX-MarkAsMethods-0.10.tar.gz
# R/RY/RYBSKEJ/forks-0.34.tar.gz
# S/SA/SABECK/Data-SPath-0.0001.tar.gz
# S/SA/SABECK/Data-SPath-0.0002.tar.gz
# S/SA/SABECK/Data-SPath-0.0003.tar.gz
# S/SA/SANKO/AnyEvent-Handle-Throttle-0.000001.tar.gz
# S/SA/SANKO/AnyEvent-Handle-Throttle-0.000002.tar.gz
# S/SA/SANKO/AnyEvent-Handle-Throttle-0.000002001.tar.gz
# S/SA/SAPER/Module-ThirdParty-0.27.tar.gz
# S/SA/SAPER/Time-Duration-fr-1.00.tar.gz
# S/SA/SAPER/Time-Duration-fr-1.01.tar.gz
# S/SC/SCHUBIGER/DateTime-Format-Natural-0.88.tar.gz
# S/SE/SEKIA/Math-Random-Xorshift-0.02.tar.gz
# S/SE/SEKIA/Math-Random-Xorshift-0.03.tar.gz
# S/SE/SEKIA/Math-Random-Xorshift-0.04.tar.gz
# S/SH/SHARIFULN/Acme-CPANAuthors-Russian-1.02.tar.gz
# S/SH/SHARIFULN/Acme-CPANAuthors-Ukrainian-0.15.tar.gz
# S/SH/SHARYANTO/Finance-Bank-ID-BCA-0.09.tar.gz
# S/SH/SHARYANTO/Finance-Bank-ID-Mandiri-0.09.tar.gz
# S/SH/SHARYANTO/Language-Expr-0.04.tar.gz
# S/SH/SHARYANTO/Language-Expr-0.05.tar.gz
# S/SH/SHLOMIF/Statistics-Descriptive-3.0101.tar.gz
# S/SH/SHLOMIF/Statistics-Descriptive-3.0102.tar.gz
# S/SH/SHLOMIF/Statistics-Descriptive-3.0200.tar.gz
# S/SH/SHLOMIF/Test-Run-Plugin-CollectStats-0.0102.tar.gz
# S/SH/SHLOMIF/Test-WWW-Mechanize-Mojo-v0.0.5.tar.gz
# S/SI/SILASMONK/CGI-Application-Plugin-Authentication-0.17_7.tar.gz
# S/SI/SISYPHUS/Math-GMPf-0.32.tar.gz
# S/SI/SISYPHUS/Math-GMPq-0.31.tar.gz
# S/SI/SISYPHUS/Math-GMPz-0.31.tar.gz
# S/SJ/SJN/App-Kaizendo-0.000_001.tar.gz
# S/SL/SLAFFAN/Geo-Converter-dms2dd-0.02.tar.gz
# S/SO/SOREAR/Devel-CountOps-0.01.tar.gz
# S/SO/SORTIZ/JSP-1.01.tar.gz
# S/SP/SPROUT/JE-0.049.tar.gz
# S/SP/SPROUT/Module-ConfigureRequires-0.01.tar.gz
# S/SP/SPROUT/Module-ConfigureRequires-0.02.tar.gz
# S/SP/SPROUT/MoneyWorks-pm-0.07.tar.gz
# S/SP/SPROUT/WWW-Scripter-0.015.tar.gz
# S/SP/SPROUT/WWW-Scripter-Plugin-Ajax-0.07.tar.gz
# S/SQ/SQUEEK/WWW-Pusher-0.05.tar.gz
# S/ST/STELLAR/HTML-CTPP2-2.6.1.tar.gz
# S/SU/SUKRIA/Dancer-1.1804.tar.gz
# T/TB/TBONE/Parse-RecDescent-FAQ-7.2.tar.gz
# T/TB/TBONE/Parse-RecDescent-FAQ-7.3.tar.gz
# T/TI/TIMB/DBI-1.611_91.tar.gz
# T/TI/TIMB/DBI-1.611_92.tar.gz
# T/TI/TIMB/Devel-NYTProf-4.01.tar.gz
# T/TI/TIMB/Devel-NYTProf-4.01_90.tar.gz
# T/TI/TIMB/Devel-NYTProf-4.02.tar.gz
# T/TI/TIMB/Devel-NYTProf-4.03.tar.gz
# T/TI/TIMB/Yahoo-Search-1.11.1.tar.gz
# T/TI/TIMB/Yahoo-Search-1.11.2.tar.gz
# T/TI/TIMB/Yahoo-Search-1.11.3.tar.gz
# T/TI/TINITA/Parse-BBCode-0.10.tar.gz
# T/TK/TKEEFER/eBay-API-Simple-0.15.tar.gz
# T/TL/TLOUSKY/Algorithm-Shape-RandomTree-0.01.tar.gz
# T/TO/TOBYINK/RDF-ACL-0.100.tar.gz
# T/TO/TOBYINK/RDF-RDFa-Parser-1.09_11.tar.gz
# T/TO/TOBYINK/Spreadsheet-Write-0.100.tar.gz
# T/TO/TOBYINK/Spreadsheet-Write-0.101_01.tar.gz
# T/TO/TODDR/Net-Ident-1.23.tar.gz
# T/TO/TOKUHIROM/Geo-Coordinates-Converter-iArea-0.11.tar.gz
# T/TO/TOKUHIROM/HTML-DateSelector-0.03.tar.gz
# T/TO/TOKUHIROM/HTML-DateSelector-0.04.tar.gz
# T/TO/TOKUHIROM/Net-POP3-SSLWrapper-0.04.tar.gz
# T/TO/TOKUHIROM/Proc-Guard-0.01.tar.gz
# T/TO/TOKUHIROM/Router-Simple-0.06.tar.gz
# T/TO/TONYC/Imager-0.75.tar.gz
# T/TO/TONYC/Imager-Screenshot-0.009.tar.gz
# T/TU/TURNERJW/Net-xFTP-0.41.tar.gz
# T/TY/TYPESTER/FormValidator-Lite-0.14.tar.gz
# T/TY/TYPESTER/FormValidator-Lite-0.15.tar.gz
# V/VI/VIY/HTML-Template-Pro-0.9501.tar.gz
# W/WS/WSNYDER/Parallel-Forker-1.230.tar.gz
# W/WY/WYANT/Geo-WebService-Elevation-USGS-0.005_01.tar.gz
# W/WY/WYANT/Geo-WebService-Elevation-USGS-0.005_02.tar.gz
# X/XE/XENO/Dist-Zilla-Plugin-SubmittingPatches-0.02.tar.gz
# X/XE/XENO/Software-License-GPL3andArtistic2-0.07.tar.gz
# X/XE/XENO/Template-ShowStartStop-0.12.tar.gz
# X/XS/XSAWYERX/Module-Version-0.09.tar.gz
# Z/ZA/ZAG/Flow-0.1.tar.gz
t/06_fileurl.t ........... ok
t/06_live_epoch.t ........ skipped: No network tests
# GET ///authors/RECENT-1h.yaml
# Host: 127.0.0.1:41165
# User-Agent: HTTP-Tiny/0.076
# X-HTTP-Version: 1.1
# 
# GET ///RECENT
# Host: 127.0.0.1:41165
# User-Agent: POE-Component-SmokeBox-Recent-HTTP/1.54 (perl; N; POE; en; rv:1.540000)
# X-HTTP-Version: 1.1
# 
t/07_epoch_fail.t ........ ok
t/author-pod-coverage.t .. skipped: these tests are for testing by the author
t/author-pod-syntax.t .... skipped: these tests are for testing by the author
All tests successful.
Files=20, Tests=214, 13 wallclock secs ( 0.09 usr  0.02 sys +  2.53 cusr  0.41 csys =  3.05 CPU)
Result: PASS


PREREQUISITES:

Here is a list of prerequisites you specified and versions we
managed to load:

	  Module Name                        Have     Want
	  CPAN::Recent::Uploads              0.16     0.06
	  ExtUtils::MakeMaker                7.48     6.59
	  File::Spec                         3.75        0
	  HTTP::Date                         6.05        0
	  HTTP::Request                      6.26        0
	  HTTP::Response                     6.26        0
	  IO::Handle                         1.42        0
	  IPC::Open3                         1.09        0
	  Net::IP::Minimal                   0.06        0
	  POE                               1.368     0.38
	  POE::Component::Client::DNS       1.054     1.02
	  POE::Component::SmokeBox::Recent::HTTP     1.54     1.54
	  POE::Filter::HTTP::Parser          1.08     1.06
	  Test::More                     1.302171     0.47
	  Test::POE::Client::TCP             1.26     0.08
	  Test::POE::Server::TCP             1.20     0.14
	  URI                                1.76        0

Perl module toolchain versions installed:
	Module Name                        Have
	CPANPLUS                         0.9908
	CPANPLUS::Dist::Build              0.90
	Cwd                                3.75
	ExtUtils::CBuilder             0.280234
	ExtUtils::Command                  7.48
	ExtUtils::Install                  2.18
	ExtUtils::MakeMaker                7.48
	ExtUtils::Manifest                 1.72
	ExtUtils::ParseXS                  3.35
	File::Spec                         3.75
	Module::Build                    0.4231
	Pod::Parser                        1.63
	Pod::Simple                        3.40
	Test2                          1.302171
	Test::Harness                      3.42
	Test::More                     1.302171
	version                          0.9924

******************************** NOTE ********************************
The comments above are created mechanically, possibly without manual
checking by the sender.  As there are many people performing automatic
tests on each upload to CPAN, it is likely that you will receive
identical messages about the same problem.

If you believe that the message is mistaken, please reply to the first
one with correction and/or additional informations, and do not take
it personally.  We appreciate your patience. :)
**********************************************************************

Additional comments:


This report was machine-generated by CPANPLUS::Dist::YACSmoke 1.08.

CPANPLUS is prefering Build.PL

------------------------------
ENVIRONMENT AND OTHER CONTEXT
------------------------------

Environment variables:

    AUTOMATED_TESTING = 1
    LANG = en_US.UTF-8
    PATH = /usr/local/sbin:/usr/local/bin:/usr/sbin:/usr/bin:/sbin:/bin:/usr/games:/usr/local/games
    PERL5LIB = :/opt/perl-5.14.2/.cpanplus/5.14.2/build/YohZNzQv5p/POE-Component-SmokeBox-Recent-1.54/blib/lib:/opt/perl-5.14.2/.cpanplus/5.14.2/build/YohZNzQv5p/POE-Component-SmokeBox-Recent-1.54/blib/arch
    PERL5_CPANIDX_URL = http://cpanidx.org/cpanidx/
    PERL5_CPANPLUS_HOME = /opt/perl-5.14.2/
    PERL5_CPANPLUS_IS_RUNNING = 8989
    PERL5_CPANPLUS_IS_VERSION = 0.9906
    PERL_EXTUTILS_AUTOINSTALL = --defaultdeps
    PERL_INSTALL_QUIET = 1
    PERL_MM_USE_DEFAULT = 1
    SHELL = /bin/bash
    TERM = xterm

Perl special variables (and OS-specific diagnostics, for MSWin32):

    Perl: $^X = /opt/perl-5.14.2/bin/perl
    UID:  $<  = 0
    EUID: $>  = 0
    GID:  $(  = 0 0
    EGID: $)  = 0 0


-------------------------------


--

Summary of my perl5 (revision 5 version 14 subversion 2) configuration:
   
  Platform:
    osname=linux, osvers=3.0.18-x86_64-linode24, archname=x86_64-linux
    uname='linux jingo 3.0.18-x86_64-linode24 #1 smp mon jan 30 14:25:46 est 2012 x86_64 x86_64 x86_64 gnulinux '
    config_args='-des -Dprefix=/opt/perl-5.14.2'
    hint=recommended, useposix=true, d_sigaction=define
    useithreads=undef, usemultiplicity=undef
    useperlio=define, d_sfio=undef, uselargefiles=define, usesocks=undef
    use64bitint=define, use64bitall=define, uselongdouble=undef
    usemymalloc=n, bincompat5005=undef
  Compiler:
    cc='cc', ccflags ='-fno-strict-aliasing -pipe -fstack-protector -I/usr/local/include -D_LARGEFILE_SOURCE -D_FILE_OFFSET_BITS=64',
    optimize='-O2',
    cppflags='-fno-strict-aliasing -pipe -fstack-protector -I/usr/local/include'
    ccversion='', gccversion='4.6.3', gccosandvers=''
    intsize=4, longsize=8, ptrsize=8, doublesize=8, byteorder=12345678
    d_longlong=define, longlongsize=8, d_longdbl=define, longdblsize=16
    ivtype='long', ivsize=8, nvtype='double', nvsize=8, Off_t='off_t', lseeksize=8
    alignbytes=8, prototype=define
  Linker and Libraries:
    ld='cc', ldflags =' -fstack-protector -L/usr/local/lib'
    libpth=/usr/local/lib /lib/x86_64-linux-gnu /lib/../lib /usr/lib/x86_64-linux-gnu /usr/lib/../lib /lib /usr/lib
    libs=-lnsl -lgdbm -ldb -ldl -lm -lcrypt -lutil -lc -lgdbm_compat
    perllibs=-lnsl -ldl -lm -lcrypt -lutil -lc
    libc=, so=so, useshrplib=false, libperl=libperl.a
    gnulibc_version='2.15'
  Dynamic Linking:
    dlsrc=dl_dlopen.xs, dlext=so, d_dlsymun=undef, ccdlflags='-Wl,-E'
    cccdlflags='-fPIC', lddlflags='-shared -O2 -L/usr/local/lib -fstack-protector'


Characteristics of this binary (from libperl): 
  Compile-time options: PERL_DONT_CREATE_GVSV PERL_MALLOC_WRAP
                        PERL_PRESERVE_IVUV USE_64_BIT_ALL USE_64_BIT_INT
                        USE_LARGE_FILES USE_PERLIO USE_PERL_ATOF
  Built under linux
  Compiled at May 18 2012 21:46:08
  %ENV:
    PERL5LIB=":/opt/perl-5.14.2/.cpanplus/5.14.2/build/YohZNzQv5p/POE-Component-SmokeBox-Recent-1.54/blib/lib:/opt/perl-5.14.2/.cpanplus/5.14.2/build/YohZNzQv5p/POE-Component-SmokeBox-Recent-1.54/blib/arch"
    PERL5_CPANIDX_URL="http://cpanidx.org/cpanidx/"
    PERL5_CPANPLUS_HOME="/opt/perl-5.14.2/"
    PERL5_CPANPLUS_IS_RUNNING="8989"
    PERL5_CPANPLUS_IS_VERSION="0.9906"
    PERL_EXTUTILS_AUTOINSTALL="--defaultdeps"
    PERL_INSTALL_QUIET="1"
    PERL_MM_USE_DEFAULT="1"
  @INC:
    /opt/perl-5.14.2/.cpanplus/5.14.2/build/YohZNzQv5p/POE-Component-SmokeBox-Recent-1.54/blib/lib
    /opt/perl-5.14.2/.cpanplus/5.14.2/build/YohZNzQv5p/POE-Component-SmokeBox-Recent-1.54/blib/arch
    /opt/perl-5.14.2/lib/site_perl/5.14.2/x86_64-linux
    /opt/perl-5.14.2/lib/site_perl/5.14.2
    /opt/perl-5.14.2/lib/5.14.2/x86_64-linux
    /opt/perl-5.14.2/lib/5.14.2
    .