MooseX-RelClassTypes v0.02 Perl 5 v5.24.3 x86_64-linux-ld

Status
Pass
From
Andreas J. König (ANDK)
Dist
MooseX-RelClassTypes v0.02
Platform
Perl 5 v5.24.3 x86_64-linux-ld
Date
2018-03-26 07:02:37
ID
aa696ddc-30c3-11e8-a177-c9e6fb8fc88d
This distribution has been tested as part of the CPAN Testers
project, supporting the Perl programming language.  See
http://wiki.cpantesters.org/ for more information or email
questions to cpan-testers-discuss@perl.org


--
Dear Tom Gracey,

This is a computer-generated report for MooseX-RelClassTypes-0.02
on perl 5.24.3, created by CPAN-Reporter-1.2018.

Thank you for uploading your work to CPAN.  Congratulations!
All tests were successful.

Sections of this report:

    * Tester comments
    * Program output
    * Prerequisites
    * Environment and other context

------------------------------
TESTER COMMENTS
------------------------------

Additional comments from tester:

this report is from an automated smoke testing program
and was not reviewed by a human for accuracy

------------------------------
PROGRAM OUTPUT
------------------------------

Output from '/usr/bin/make test':

PERL_DL_NONLAZY=1 "/home/sand/src/perl/repoperls/installed-perls/host/k93stretch/v5.24.3/9a27/bin/perl" "-MExtUtils::Command::MM" "-MTest::Harness" "-e" "undef *Test::Harness::Switches; test_harness(0, 'blib/lib', 'blib/arch')" t/*.t
You are overwriting a accessor (child_rel_pack) for the child_rel_pack attribute (defined at t/00_set_isa.t line 45) with a new accessor method for the child_rel_pack attribute (defined at t/00_set_isa.t line 45) at /tmp/loop_over_bdir-13779-1adTph/Moose-2.2010-0/blib/lib/Moose/Meta/Attribute.pm line 1094.
	Moose::Meta::Attribute::_process_accessors(Moose::Meta::Attribute=HASH(0x55a7d6494750), "accessor", "child_rel_pack", undef) called at /tmp/loop_over_bdir-13779-1adTph/Moose-2.2010-0/blib/lib/Class/MOP/Attribute.pm line 446
	Class::MOP::Attribute::install_accessors(Moose::Meta::Attribute=HASH(0x55a7d6494750)) called at /tmp/loop_over_bdir-13779-1adTph/Moose-2.2010-0/blib/lib/Moose/Meta/Attribute.pm line 1014
	Moose::Meta::Attribute::install_accessors(Moose::Meta::Attribute=HASH(0x55a7d6494750)) called at /tmp/loop_over_bdir-13779-1adTph/MooseX-RelClassTypes-0.02-0/blib/lib/MooseX/RelClassTypes.pm line 70
	Class::MOP::Class:::before("Child") called at /tmp/loop_over_bdir-13779-1adTph/Moose-2.2010-0/blib/lib/Class/MOP/Method/Wrapped.pm line 43
	Child::_wrapped_BUILDARGS("Child") called at /tmp/loop_over_bdir-13779-1adTph/Moose-2.2010-0/blib/lib/Class/MOP/Method/Wrapped.pm line 95
	Child::BUILDARGS("Child") called at /tmp/loop_over_bdir-13779-1adTph/Moose-2.2010-0/blib/lib/Moose/Object.pm line 22
	Moose::Object::new("Child") called at t/00_set_isa.t line 99
You are overwriting a accessor (parent_rel_pack) for the parent_rel_pack attribute (defined at t/00_set_isa.t line 23) with a new accessor method for the parent_rel_pack attribute (defined at t/00_set_isa.t line 23) at /tmp/loop_over_bdir-13779-1adTph/Moose-2.2010-0/blib/lib/Moose/Meta/Attribute.pm line 1094.
	Moose::Meta::Attribute::_process_accessors(Moose::Meta::Attribute=HASH(0x55a7d6484c48), "accessor", "parent_rel_pack", undef) called at /tmp/loop_over_bdir-13779-1adTph/Moose-2.2010-0/blib/lib/Class/MOP/Attribute.pm line 446
	Class::MOP::Attribute::install_accessors(Moose::Meta::Attribute=HASH(0x55a7d6484c48)) called at /tmp/loop_over_bdir-13779-1adTph/Moose-2.2010-0/blib/lib/Moose/Meta/Attribute.pm line 1014
	Moose::Meta::Attribute::install_accessors(Moose::Meta::Attribute=HASH(0x55a7d6484c48)) called at /tmp/loop_over_bdir-13779-1adTph/MooseX-RelClassTypes-0.02-0/blib/lib/MooseX/RelClassTypes.pm line 70
	Class::MOP::Class:::before("Child") called at /tmp/loop_over_bdir-13779-1adTph/Moose-2.2010-0/blib/lib/Class/MOP/Method/Wrapped.pm line 43
	Child::_wrapped_BUILDARGS("Child") called at /tmp/loop_over_bdir-13779-1adTph/Moose-2.2010-0/blib/lib/Class/MOP/Method/Wrapped.pm line 95
	Child::BUILDARGS("Child") called at /tmp/loop_over_bdir-13779-1adTph/Moose-2.2010-0/blib/lib/Moose/Object.pm line 22
	Moose::Object::new("Child") called at t/00_set_isa.t line 99
t/00_set_isa.t ....... ok
You are overwriting a reader (rel_pack) for the rel_pack attribute (defined at t/01_auto_default.t line 71) with a new reader method for the rel_pack attribute (defined at t/01_auto_default.t line 71) at /tmp/loop_over_bdir-13779-1adTph/Moose-2.2010-0/blib/lib/Moose/Meta/Attribute.pm line 1094.
	Moose::Meta::Attribute::_process_accessors(Moose::Meta::Attribute=HASH(0x55a55eb742e8), "reader", "rel_pack", undef) called at /tmp/loop_over_bdir-13779-1adTph/Moose-2.2010-0/blib/lib/Class/MOP/Attribute.pm line 450
	Class::MOP::Attribute::install_accessors(Moose::Meta::Attribute=HASH(0x55a55eb742e8)) called at /tmp/loop_over_bdir-13779-1adTph/Moose-2.2010-0/blib/lib/Moose/Meta/Attribute.pm line 1014
	Moose::Meta::Attribute::install_accessors(Moose::Meta::Attribute=HASH(0x55a55eb742e8)) called at /tmp/loop_over_bdir-13779-1adTph/MooseX-RelClassTypes-0.02-0/blib/lib/MooseX/RelClassTypes.pm line 70
	Class::MOP::Class:::before("TestAD::WithAuto_WithDefault_NoBuilder") called at /tmp/loop_over_bdir-13779-1adTph/Moose-2.2010-0/blib/lib/Class/MOP/Method/Wrapped.pm line 43
	TestAD::WithAuto_WithDefault_NoBuilder::_wrapped_BUILDARGS("TestAD::WithAuto_WithDefault_NoBuilder") called at /tmp/loop_over_bdir-13779-1adTph/Moose-2.2010-0/blib/lib/Class/MOP/Method/Wrapped.pm line 95
	TestAD::WithAuto_WithDefault_NoBuilder::BUILDARGS("TestAD::WithAuto_WithDefault_NoBuilder") called at /tmp/loop_over_bdir-13779-1adTph/Moose-2.2010-0/blib/lib/Moose/Object.pm line 22
	Moose::Object::new("TestAD::WithAuto_WithDefault_NoBuilder") called at t/01_auto_default.t line 143
You are overwriting a reader (rel_pack) for the rel_pack attribute (defined at t/01_auto_default.t line 20) with a new reader method for the rel_pack attribute (defined at t/01_auto_default.t line 20) at /tmp/loop_over_bdir-13779-1adTph/Moose-2.2010-0/blib/lib/Moose/Meta/Attribute.pm line 1094.
	Moose::Meta::Attribute::_process_accessors(Moose::Meta::Attribute=HASH(0x55a55eb528a8), "reader", "rel_pack", undef) called at /tmp/loop_over_bdir-13779-1adTph/Moose-2.2010-0/blib/lib/Class/MOP/Attribute.pm line 450
	Class::MOP::Attribute::install_accessors(Moose::Meta::Attribute=HASH(0x55a55eb528a8)) called at /tmp/loop_over_bdir-13779-1adTph/Moose-2.2010-0/blib/lib/Moose/Meta/Attribute.pm line 1014
	Moose::Meta::Attribute::install_accessors(Moose::Meta::Attribute=HASH(0x55a55eb528a8)) called at /tmp/loop_over_bdir-13779-1adTph/MooseX-RelClassTypes-0.02-0/blib/lib/MooseX/RelClassTypes.pm line 70
	Class::MOP::Class:::before("TestAD::NoAuto_NoDefault_WithBuilder") called at /tmp/loop_over_bdir-13779-1adTph/Moose-2.2010-0/blib/lib/Class/MOP/Method/Wrapped.pm line 43
	TestAD::NoAuto_NoDefault_WithBuilder::_wrapped_BUILDARGS("TestAD::NoAuto_NoDefault_WithBuilder") called at /tmp/loop_over_bdir-13779-1adTph/Moose-2.2010-0/blib/lib/Class/MOP/Method/Wrapped.pm line 95
	TestAD::NoAuto_NoDefault_WithBuilder::BUILDARGS("TestAD::NoAuto_NoDefault_WithBuilder") called at /tmp/loop_over_bdir-13779-1adTph/Moose-2.2010-0/blib/lib/Moose/Object.pm line 22
	Moose::Object::new("TestAD::NoAuto_NoDefault_WithBuilder") called at t/01_auto_default.t line 143
You are overwriting a reader (rel_pack) for the rel_pack attribute (defined at t/01_auto_default.t line 45) with a new reader method for the rel_pack attribute (defined at t/01_auto_default.t line 45) at /tmp/loop_over_bdir-13779-1adTph/Moose-2.2010-0/blib/lib/Moose/Meta/Attribute.pm line 1094.
	Moose::Meta::Attribute::_process_accessors(Moose::Meta::Attribute=HASH(0x55a55eb66778), "reader", "rel_pack", undef) called at /tmp/loop_over_bdir-13779-1adTph/Moose-2.2010-0/blib/lib/Class/MOP/Attribute.pm line 450
	Class::MOP::Attribute::install_accessors(Moose::Meta::Attribute=HASH(0x55a55eb66778)) called at /tmp/loop_over_bdir-13779-1adTph/Moose-2.2010-0/blib/lib/Moose/Meta/Attribute.pm line 1014
	Moose::Meta::Attribute::install_accessors(Moose::Meta::Attribute=HASH(0x55a55eb66778)) called at /tmp/loop_over_bdir-13779-1adTph/MooseX-RelClassTypes-0.02-0/blib/lib/MooseX/RelClassTypes.pm line 70
	Class::MOP::Class:::before("TestAD::WithAuto_NoDefault_NoBuilder") called at /tmp/loop_over_bdir-13779-1adTph/Moose-2.2010-0/blib/lib/Class/MOP/Method/Wrapped.pm line 43
	TestAD::WithAuto_NoDefault_NoBuilder::_wrapped_BUILDARGS("TestAD::WithAuto_NoDefault_NoBuilder") called at /tmp/loop_over_bdir-13779-1adTph/Moose-2.2010-0/blib/lib/Class/MOP/Method/Wrapped.pm line 95
	TestAD::WithAuto_NoDefault_NoBuilder::BUILDARGS("TestAD::WithAuto_NoDefault_NoBuilder") called at /tmp/loop_over_bdir-13779-1adTph/Moose-2.2010-0/blib/lib/Moose/Object.pm line 22
	Moose::Object::new("TestAD::WithAuto_NoDefault_NoBuilder") called at t/01_auto_default.t line 143
You are overwriting a reader (rel_pack) for the rel_pack attribute (defined at t/01_auto_default.t line 11) with a new reader method for the rel_pack attribute (defined at t/01_auto_default.t line 11) at /tmp/loop_over_bdir-13779-1adTph/Moose-2.2010-0/blib/lib/Moose/Meta/Attribute.pm line 1094.
	Moose::Meta::Attribute::_process_accessors(Moose::Meta::Attribute=HASH(0x55a55eb4f988), "reader", "rel_pack", undef) called at /tmp/loop_over_bdir-13779-1adTph/Moose-2.2010-0/blib/lib/Class/MOP/Attribute.pm line 450
	Class::MOP::Attribute::install_accessors(Moose::Meta::Attribute=HASH(0x55a55eb4f988)) called at /tmp/loop_over_bdir-13779-1adTph/Moose-2.2010-0/blib/lib/Moose/Meta/Attribute.pm line 1014
	Moose::Meta::Attribute::install_accessors(Moose::Meta::Attribute=HASH(0x55a55eb4f988)) called at /tmp/loop_over_bdir-13779-1adTph/MooseX-RelClassTypes-0.02-0/blib/lib/MooseX/RelClassTypes.pm line 70
	Class::MOP::Class:::before("TestAD::NoAuto_NoDefault_NoBuilder") called at /tmp/loop_over_bdir-13779-1adTph/Moose-2.2010-0/blib/lib/Class/MOP/Method/Wrapped.pm line 43
	TestAD::NoAuto_NoDefault_NoBuilder::_wrapped_BUILDARGS("TestAD::NoAuto_NoDefault_NoBuilder") called at /tmp/loop_over_bdir-13779-1adTph/Moose-2.2010-0/blib/lib/Class/MOP/Method/Wrapped.pm line 95
	TestAD::NoAuto_NoDefault_NoBuilder::BUILDARGS("TestAD::NoAuto_NoDefault_NoBuilder") called at /tmp/loop_over_bdir-13779-1adTph/Moose-2.2010-0/blib/lib/Moose/Object.pm line 22
	Moose::Object::new("TestAD::NoAuto_NoDefault_NoBuilder") called at t/01_auto_default.t line 143
You are overwriting a reader (rel_pack) for the rel_pack attribute (defined at t/01_auto_default.t line 54) with a new reader method for the rel_pack attribute (defined at t/01_auto_default.t line 54) at /tmp/loop_over_bdir-13779-1adTph/Moose-2.2010-0/blib/lib/Moose/Meta/Attribute.pm line 1094.
	Moose::Meta::Attribute::_process_accessors(Moose::Meta::Attribute=HASH(0x55a55eb6cfc8), "reader", "rel_pack", undef) called at /tmp/loop_over_bdir-13779-1adTph/Moose-2.2010-0/blib/lib/Class/MOP/Attribute.pm line 450
	Class::MOP::Attribute::install_accessors(Moose::Meta::Attribute=HASH(0x55a55eb6cfc8)) called at /tmp/loop_over_bdir-13779-1adTph/Moose-2.2010-0/blib/lib/Moose/Meta/Attribute.pm line 1014
	Moose::Meta::Attribute::install_accessors(Moose::Meta::Attribute=HASH(0x55a55eb6cfc8)) called at /tmp/loop_over_bdir-13779-1adTph/MooseX-RelClassTypes-0.02-0/blib/lib/MooseX/RelClassTypes.pm line 70
	Class::MOP::Class:::before("TestAD::WithAuto_NoDefault_WithBuilder") called at /tmp/loop_over_bdir-13779-1adTph/Moose-2.2010-0/blib/lib/Class/MOP/Method/Wrapped.pm line 43
	TestAD::WithAuto_NoDefault_WithBuilder::_wrapped_BUILDARGS("TestAD::WithAuto_NoDefault_WithBuilder") called at /tmp/loop_over_bdir-13779-1adTph/Moose-2.2010-0/blib/lib/Class/MOP/Method/Wrapped.pm line 95
	TestAD::WithAuto_NoDefault_WithBuilder::BUILDARGS("TestAD::WithAuto_NoDefault_WithBuilder") called at /tmp/loop_over_bdir-13779-1adTph/Moose-2.2010-0/blib/lib/Moose/Object.pm line 22
	Moose::Object::new("TestAD::WithAuto_NoDefault_WithBuilder") called at t/01_auto_default.t line 143
You are overwriting a reader (rel_pack) for the rel_pack attribute (defined at t/01_auto_default.t line 37) with a new reader method for the rel_pack attribute (defined at t/01_auto_default.t line 37) at /tmp/loop_over_bdir-13779-1adTph/Moose-2.2010-0/blib/lib/Moose/Meta/Attribute.pm line 1094.
	Moose::Meta::Attribute::_process_accessors(Moose::Meta::Attribute=HASH(0x55a55eb60520), "reader", "rel_pack", undef) called at /tmp/loop_over_bdir-13779-1adTph/Moose-2.2010-0/blib/lib/Class/MOP/Attribute.pm line 450
	Class::MOP::Attribute::install_accessors(Moose::Meta::Attribute=HASH(0x55a55eb60520)) called at /tmp/loop_over_bdir-13779-1adTph/Moose-2.2010-0/blib/lib/Moose/Meta/Attribute.pm line 1014
	Moose::Meta::Attribute::install_accessors(Moose::Meta::Attribute=HASH(0x55a55eb60520)) called at /tmp/loop_over_bdir-13779-1adTph/MooseX-RelClassTypes-0.02-0/blib/lib/MooseX/RelClassTypes.pm line 70
	Class::MOP::Class:::before("TestAD::NoAuto_WithDefault_NoBuilder") called at /tmp/loop_over_bdir-13779-1adTph/Moose-2.2010-0/blib/lib/Class/MOP/Method/Wrapped.pm line 43
	TestAD::NoAuto_WithDefault_NoBuilder::_wrapped_BUILDARGS("TestAD::NoAuto_WithDefault_NoBuilder") called at /tmp/loop_over_bdir-13779-1adTph/Moose-2.2010-0/blib/lib/Class/MOP/Method/Wrapped.pm line 95
	TestAD::NoAuto_WithDefault_NoBuilder::BUILDARGS("TestAD::NoAuto_WithDefault_NoBuilder") called at /tmp/loop_over_bdir-13779-1adTph/Moose-2.2010-0/blib/lib/Moose/Object.pm line 22
	Moose::Object::new("TestAD::NoAuto_WithDefault_NoBuilder") called at t/01_auto_default.t line 143
t/01_auto_default.t .. ok
You are overwriting a reader (alt_pack) for the alt_pack attribute (defined at t/02_parser.t line 24) with a new reader method for the alt_pack attribute (defined at t/02_parser.t line 24) at /tmp/loop_over_bdir-13779-1adTph/Moose-2.2010-0/blib/lib/Moose/Meta/Attribute.pm line 1094.
	Moose::Meta::Attribute::_process_accessors(Moose::Meta::Attribute=HASH(0x55f8a7d07880), "reader", "alt_pack", undef) called at /tmp/loop_over_bdir-13779-1adTph/Moose-2.2010-0/blib/lib/Class/MOP/Attribute.pm line 450
	Class::MOP::Attribute::install_accessors(Moose::Meta::Attribute=HASH(0x55f8a7d07880)) called at /tmp/loop_over_bdir-13779-1adTph/Moose-2.2010-0/blib/lib/Moose/Meta/Attribute.pm line 1014
	Moose::Meta::Attribute::install_accessors(Moose::Meta::Attribute=HASH(0x55f8a7d07880)) called at /tmp/loop_over_bdir-13779-1adTph/MooseX-RelClassTypes-0.02-0/blib/lib/MooseX/RelClassTypes.pm line 70
	Class::MOP::Class:::before("TestParser::AngleBK") called at /tmp/loop_over_bdir-13779-1adTph/Moose-2.2010-0/blib/lib/Class/MOP/Method/Wrapped.pm line 43
	TestParser::AngleBK::_wrapped_BUILDARGS("TestParser::AngleBK") called at /tmp/loop_over_bdir-13779-1adTph/Moose-2.2010-0/blib/lib/Class/MOP/Method/Wrapped.pm line 95
	TestParser::AngleBK::BUILDARGS("TestParser::AngleBK") called at /tmp/loop_over_bdir-13779-1adTph/Moose-2.2010-0/blib/lib/Moose/Object.pm line 22
	Moose::Object::new("TestParser::AngleBK") called at t/02_parser.t line 87
You are overwriting a reader (rel_pack) for the rel_pack attribute (defined at t/02_parser.t line 19) with a new reader method for the rel_pack attribute (defined at t/02_parser.t line 19) at /tmp/loop_over_bdir-13779-1adTph/Moose-2.2010-0/blib/lib/Moose/Meta/Attribute.pm line 1094.
	Moose::Meta::Attribute::_process_accessors(Moose::Meta::Attribute=HASH(0x55f8a7d07220), "reader", "rel_pack", undef) called at /tmp/loop_over_bdir-13779-1adTph/Moose-2.2010-0/blib/lib/Class/MOP/Attribute.pm line 450
	Class::MOP::Attribute::install_accessors(Moose::Meta::Attribute=HASH(0x55f8a7d07220)) called at /tmp/loop_over_bdir-13779-1adTph/Moose-2.2010-0/blib/lib/Moose/Meta/Attribute.pm line 1014
	Moose::Meta::Attribute::install_accessors(Moose::Meta::Attribute=HASH(0x55f8a7d07220)) called at /tmp/loop_over_bdir-13779-1adTph/MooseX-RelClassTypes-0.02-0/blib/lib/MooseX/RelClassTypes.pm line 70
	Class::MOP::Class:::before("TestParser::AngleBK") called at /tmp/loop_over_bdir-13779-1adTph/Moose-2.2010-0/blib/lib/Class/MOP/Method/Wrapped.pm line 43
	TestParser::AngleBK::_wrapped_BUILDARGS("TestParser::AngleBK") called at /tmp/loop_over_bdir-13779-1adTph/Moose-2.2010-0/blib/lib/Class/MOP/Method/Wrapped.pm line 95
	TestParser::AngleBK::BUILDARGS("TestParser::AngleBK") called at /tmp/loop_over_bdir-13779-1adTph/Moose-2.2010-0/blib/lib/Moose/Object.pm line 22
	Moose::Object::new("TestParser::AngleBK") called at t/02_parser.t line 87
You are overwriting a reader (alt_pack) for the alt_pack attribute (defined at t/02_parser.t line 47) with a new reader method for the alt_pack attribute (defined at t/02_parser.t line 47) at /tmp/loop_over_bdir-13779-1adTph/Moose-2.2010-0/blib/lib/Moose/Meta/Attribute.pm line 1094.
	Moose::Meta::Attribute::_process_accessors(Moose::Meta::Attribute=HASH(0x55f8a7d19368), "reader", "alt_pack", undef) called at /tmp/loop_over_bdir-13779-1adTph/Moose-2.2010-0/blib/lib/Class/MOP/Attribute.pm line 450
	Class::MOP::Attribute::install_accessors(Moose::Meta::Attribute=HASH(0x55f8a7d19368)) called at /tmp/loop_over_bdir-13779-1adTph/Moose-2.2010-0/blib/lib/Moose/Meta/Attribute.pm line 1014
	Moose::Meta::Attribute::install_accessors(Moose::Meta::Attribute=HASH(0x55f8a7d19368)) called at /tmp/loop_over_bdir-13779-1adTph/MooseX-RelClassTypes-0.02-0/blib/lib/MooseX/RelClassTypes.pm line 70
	Class::MOP::Class:::before("TestParser::RoundBK") called at /tmp/loop_over_bdir-13779-1adTph/Moose-2.2010-0/blib/lib/Class/MOP/Method/Wrapped.pm line 43
	TestParser::RoundBK::_wrapped_BUILDARGS("TestParser::RoundBK") called at /tmp/loop_over_bdir-13779-1adTph/Moose-2.2010-0/blib/lib/Class/MOP/Method/Wrapped.pm line 95
	TestParser::RoundBK::BUILDARGS("TestParser::RoundBK") called at /tmp/loop_over_bdir-13779-1adTph/Moose-2.2010-0/blib/lib/Moose/Object.pm line 22
	Moose::Object::new("TestParser::RoundBK") called at t/02_parser.t line 87
You are overwriting a reader (rel_pack) for the rel_pack attribute (defined at t/02_parser.t line 42) with a new reader method for the rel_pack attribute (defined at t/02_parser.t line 42) at /tmp/loop_over_bdir-13779-1adTph/Moose-2.2010-0/blib/lib/Moose/Meta/Attribute.pm line 1094.
	Moose::Meta::Attribute::_process_accessors(Moose::Meta::Attribute=HASH(0x55f8a7d156d0), "reader", "rel_pack", undef) called at /tmp/loop_over_bdir-13779-1adTph/Moose-2.2010-0/blib/lib/Class/MOP/Attribute.pm line 450
	Class::MOP::Attribute::install_accessors(Moose::Meta::Attribute=HASH(0x55f8a7d156d0)) called at /tmp/loop_over_bdir-13779-1adTph/Moose-2.2010-0/blib/lib/Moose/Meta/Attribute.pm line 1014
	Moose::Meta::Attribute::install_accessors(Moose::Meta::Attribute=HASH(0x55f8a7d156d0)) called at /tmp/loop_over_bdir-13779-1adTph/MooseX-RelClassTypes-0.02-0/blib/lib/MooseX/RelClassTypes.pm line 70
	Class::MOP::Class:::before("TestParser::RoundBK") called at /tmp/loop_over_bdir-13779-1adTph/Moose-2.2010-0/blib/lib/Class/MOP/Method/Wrapped.pm line 43
	TestParser::RoundBK::_wrapped_BUILDARGS("TestParser::RoundBK") called at /tmp/loop_over_bdir-13779-1adTph/Moose-2.2010-0/blib/lib/Class/MOP/Method/Wrapped.pm line 95
	TestParser::RoundBK::BUILDARGS("TestParser::RoundBK") called at /tmp/loop_over_bdir-13779-1adTph/Moose-2.2010-0/blib/lib/Moose/Object.pm line 22
	Moose::Object::new("TestParser::RoundBK") called at t/02_parser.t line 87
t/02_parser.t ........ ok
You are overwriting a accessor (child_rel_pack) for the child_rel_pack attribute (defined at t/03_lazy.t line 32) with a new accessor method for the child_rel_pack attribute (defined at t/03_lazy.t line 32) at /tmp/loop_over_bdir-13779-1adTph/Moose-2.2010-0/blib/lib/Moose/Meta/Attribute.pm line 1094.
	Moose::Meta::Attribute::_process_accessors(Moose::Meta::Attribute=HASH(0x557bdba3d3e8), "accessor", "child_rel_pack", undef) called at /tmp/loop_over_bdir-13779-1adTph/Moose-2.2010-0/blib/lib/Class/MOP/Attribute.pm line 446
	Class::MOP::Attribute::install_accessors(Moose::Meta::Attribute=HASH(0x557bdba3d3e8)) called at /tmp/loop_over_bdir-13779-1adTph/Moose-2.2010-0/blib/lib/Moose/Meta/Attribute.pm line 1014
	Moose::Meta::Attribute::install_accessors(Moose::Meta::Attribute=HASH(0x557bdba3d3e8)) called at /tmp/loop_over_bdir-13779-1adTph/MooseX-RelClassTypes-0.02-0/blib/lib/MooseX/RelClassTypes.pm line 70
	Class::MOP::Class:::before("LazyParent::Child") called at /tmp/loop_over_bdir-13779-1adTph/Moose-2.2010-0/blib/lib/Class/MOP/Method/Wrapped.pm line 43
	LazyParent::Child::_wrapped_BUILDARGS("LazyParent::Child") called at /tmp/loop_over_bdir-13779-1adTph/Moose-2.2010-0/blib/lib/Class/MOP/Method/Wrapped.pm line 95
	LazyParent::Child::BUILDARGS("LazyParent::Child") called at /tmp/loop_over_bdir-13779-1adTph/Moose-2.2010-0/blib/lib/Moose/Object.pm line 22
	Moose::Object::new("LazyParent::Child") called at t/03_lazy.t line 248
You are overwriting a accessor (parent_rel_pack) for the parent_rel_pack attribute (defined at t/03_lazy.t line 22) with a new accessor method for the parent_rel_pack attribute (defined at t/03_lazy.t line 22) at /tmp/loop_over_bdir-13779-1adTph/Moose-2.2010-0/blib/lib/Moose/Meta/Attribute.pm line 1094.
	Moose::Meta::Attribute::_process_accessors(Moose::Meta::Attribute=HASH(0x557bdba30e90), "accessor", "parent_rel_pack", undef) called at /tmp/loop_over_bdir-13779-1adTph/Moose-2.2010-0/blib/lib/Class/MOP/Attribute.pm line 446
	Class::MOP::Attribute::install_accessors(Moose::Meta::Attribute=HASH(0x557bdba30e90)) called at /tmp/loop_over_bdir-13779-1adTph/Moose-2.2010-0/blib/lib/Moose/Meta/Attribute.pm line 1014
	Moose::Meta::Attribute::install_accessors(Moose::Meta::Attribute=HASH(0x557bdba30e90)) called at /tmp/loop_over_bdir-13779-1adTph/MooseX-RelClassTypes-0.02-0/blib/lib/MooseX/RelClassTypes.pm line 70
	Class::MOP::Class:::before("LazyParent::Child") called at /tmp/loop_over_bdir-13779-1adTph/Moose-2.2010-0/blib/lib/Class/MOP/Method/Wrapped.pm line 43
	LazyParent::Child::_wrapped_BUILDARGS("LazyParent::Child") called at /tmp/loop_over_bdir-13779-1adTph/Moose-2.2010-0/blib/lib/Class/MOP/Method/Wrapped.pm line 95
	LazyParent::Child::BUILDARGS("LazyParent::Child") called at /tmp/loop_over_bdir-13779-1adTph/Moose-2.2010-0/blib/lib/Moose/Object.pm line 22
	Moose::Object::new("LazyParent::Child") called at t/03_lazy.t line 248
You are overwriting a accessor (parent_rel_pack) for the parent_rel_pack attribute (defined at t/03_lazy.t line 66) with a new accessor method for the parent_rel_pack attribute (defined at t/03_lazy.t line 66) at /tmp/loop_over_bdir-13779-1adTph/Moose-2.2010-0/blib/lib/Moose/Meta/Attribute.pm line 1094.
	Moose::Meta::Attribute::_process_accessors(Moose::Meta::Attribute=HASH(0x557bdba4be18), "accessor", "parent_rel_pack", undef) called at /tmp/loop_over_bdir-13779-1adTph/Moose-2.2010-0/blib/lib/Class/MOP/Attribute.pm line 446
	Class::MOP::Attribute::install_accessors(Moose::Meta::Attribute=HASH(0x557bdba4be18)) called at /tmp/loop_over_bdir-13779-1adTph/Moose-2.2010-0/blib/lib/Moose/Meta/Attribute.pm line 1014
	Moose::Meta::Attribute::install_accessors(Moose::Meta::Attribute=HASH(0x557bdba4be18)) called at /tmp/loop_over_bdir-13779-1adTph/MooseX-RelClassTypes-0.02-0/blib/lib/MooseX/RelClassTypes.pm line 70
	Class::MOP::Class:::before("LazyChild::Child") called at /tmp/loop_over_bdir-13779-1adTph/Moose-2.2010-0/blib/lib/Class/MOP/Method/Wrapped.pm line 43
	LazyChild::Child::_wrapped_BUILDARGS("LazyChild::Child") called at /tmp/loop_over_bdir-13779-1adTph/Moose-2.2010-0/blib/lib/Class/MOP/Method/Wrapped.pm line 95
	LazyChild::Child::BUILDARGS("LazyChild::Child") called at /tmp/loop_over_bdir-13779-1adTph/Moose-2.2010-0/blib/lib/Moose/Object.pm line 22
	Moose::Object::new("LazyChild::Child") called at t/03_lazy.t line 248
You are overwriting a accessor (child_rel_pack) for the child_rel_pack attribute (defined at t/03_lazy.t line 86) with a new accessor method for the child_rel_pack attribute (defined at t/03_lazy.t line 86) at /tmp/loop_over_bdir-13779-1adTph/Moose-2.2010-0/blib/lib/Moose/Meta/Attribute.pm line 1094.
	Moose::Meta::Attribute::_process_accessors(Moose::Meta::Attribute=HASH(0x557bdba54aa8), "accessor", "child_rel_pack", undef) called at /tmp/loop_over_bdir-13779-1adTph/Moose-2.2010-0/blib/lib/Class/MOP/Attribute.pm line 446
	Class::MOP::Attribute::install_accessors(Moose::Meta::Attribute=HASH(0x557bdba54aa8)) called at /tmp/loop_over_bdir-13779-1adTph/Moose-2.2010-0/blib/lib/Moose/Meta/Attribute.pm line 1014
	Moose::Meta::Attribute::install_accessors(Moose::Meta::Attribute=HASH(0x557bdba54aa8)) called at /tmp/loop_over_bdir-13779-1adTph/MooseX-RelClassTypes-0.02-0/blib/lib/MooseX/RelClassTypes.pm line 70
	Class::MOP::Class:::before("LazyChild::Child") called at /tmp/loop_over_bdir-13779-1adTph/Moose-2.2010-0/blib/lib/Class/MOP/Method/Wrapped.pm line 43
	LazyChild::Child::_wrapped_BUILDARGS("LazyChild::Child") called at /tmp/loop_over_bdir-13779-1adTph/Moose-2.2010-0/blib/lib/Class/MOP/Method/Wrapped.pm line 95
	LazyChild::Child::BUILDARGS("LazyChild::Child") called at /tmp/loop_over_bdir-13779-1adTph/Moose-2.2010-0/blib/lib/Moose/Object.pm line 22
	Moose::Object::new("LazyChild::Child") called at t/03_lazy.t line 248
You are overwriting a accessor (parent_rel_pack) for the parent_rel_pack attribute (defined at t/03_lazy.t line 117) with a new accessor method for the parent_rel_pack attribute (defined at t/03_lazy.t line 117) at /tmp/loop_over_bdir-13779-1adTph/Moose-2.2010-0/blib/lib/Moose/Meta/Attribute.pm line 1094.
	Moose::Meta::Attribute::_process_accessors(Moose::Meta::Attribute=HASH(0x557bdba647d0), "accessor", "parent_rel_pack", undef) called at /tmp/loop_over_bdir-13779-1adTph/Moose-2.2010-0/blib/lib/Class/MOP/Attribute.pm line 446
	Class::MOP::Attribute::install_accessors(Moose::Meta::Attribute=HASH(0x557bdba647d0)) called at /tmp/loop_over_bdir-13779-1adTph/Moose-2.2010-0/blib/lib/Moose/Meta/Attribute.pm line 1014
	Moose::Meta::Attribute::install_accessors(Moose::Meta::Attribute=HASH(0x557bdba647d0)) called at /tmp/loop_over_bdir-13779-1adTph/MooseX-RelClassTypes-0.02-0/blib/lib/MooseX/RelClassTypes.pm line 70
	Class::MOP::Class:::before("LazyParam::Child") called at /tmp/loop_over_bdir-13779-1adTph/Moose-2.2010-0/blib/lib/Class/MOP/Method/Wrapped.pm line 43
	LazyParam::Child::_wrapped_BUILDARGS("LazyParam::Child") called at /tmp/loop_over_bdir-13779-1adTph/Moose-2.2010-0/blib/lib/Class/MOP/Method/Wrapped.pm line 95
	LazyParam::Child::BUILDARGS("LazyParam::Child") called at /tmp/loop_over_bdir-13779-1adTph/Moose-2.2010-0/blib/lib/Moose/Object.pm line 22
	Moose::Object::new("LazyParam::Child") called at t/03_lazy.t line 248
You are overwriting a accessor (child_rel_pack) for the child_rel_pack attribute (defined at t/03_lazy.t line 129) with a new accessor method for the child_rel_pack attribute (defined at t/03_lazy.t line 129) at /tmp/loop_over_bdir-13779-1adTph/Moose-2.2010-0/blib/lib/Moose/Meta/Attribute.pm line 1094.
	Moose::Meta::Attribute::_process_accessors(Moose::Meta::Attribute=HASH(0x557bdba68978), "accessor", "child_rel_pack", undef) called at /tmp/loop_over_bdir-13779-1adTph/Moose-2.2010-0/blib/lib/Class/MOP/Attribute.pm line 446
	Class::MOP::Attribute::install_accessors(Moose::Meta::Attribute=HASH(0x557bdba68978)) called at /tmp/loop_over_bdir-13779-1adTph/Moose-2.2010-0/blib/lib/Moose/Meta/Attribute.pm line 1014
	Moose::Meta::Attribute::install_accessors(Moose::Meta::Attribute=HASH(0x557bdba68978)) called at /tmp/loop_over_bdir-13779-1adTph/MooseX-RelClassTypes-0.02-0/blib/lib/MooseX/RelClassTypes.pm line 70
	Class::MOP::Class:::before("LazyParam::Child") called at /tmp/loop_over_bdir-13779-1adTph/Moose-2.2010-0/blib/lib/Class/MOP/Method/Wrapped.pm line 43
	LazyParam::Child::_wrapped_BUILDARGS("LazyParam::Child") called at /tmp/loop_over_bdir-13779-1adTph/Moose-2.2010-0/blib/lib/Class/MOP/Method/Wrapped.pm line 95
	LazyParam::Child::BUILDARGS("LazyParam::Child") called at /tmp/loop_over_bdir-13779-1adTph/Moose-2.2010-0/blib/lib/Moose/Object.pm line 22
	Moose::Object::new("LazyParam::Child") called at t/03_lazy.t line 248
You are overwriting a accessor (child_rel_pack) for the child_rel_pack attribute (defined at t/03_lazy.t line 194) with a new accessor method for the child_rel_pack attribute (defined at t/03_lazy.t line 194) at /tmp/loop_over_bdir-13779-1adTph/Moose-2.2010-0/blib/lib/Moose/Meta/Attribute.pm line 1094.
	Moose::Meta::Attribute::_process_accessors(Moose::Meta::Attribute=HASH(0x557bdba856c0), "accessor", "child_rel_pack", undef) called at /tmp/loop_over_bdir-13779-1adTph/Moose-2.2010-0/blib/lib/Class/MOP/Attribute.pm line 446
	Class::MOP::Attribute::install_accessors(Moose::Meta::Attribute=HASH(0x557bdba856c0)) called at /tmp/loop_over_bdir-13779-1adTph/Moose-2.2010-0/blib/lib/Moose/Meta/Attribute.pm line 1014
	Moose::Meta::Attribute::install_accessors(Moose::Meta::Attribute=HASH(0x557bdba856c0)) called at /tmp/loop_over_bdir-13779-1adTph/MooseX-RelClassTypes-0.02-0/blib/lib/MooseX/RelClassTypes.pm line 70
	Class::MOP::Class:::before("LazyAll::Child") called at /tmp/loop_over_bdir-13779-1adTph/Moose-2.2010-0/blib/lib/Class/MOP/Method/Wrapped.pm line 43
	LazyAll::Child::_wrapped_BUILDARGS("LazyAll::Child") called at /tmp/loop_over_bdir-13779-1adTph/Moose-2.2010-0/blib/lib/Class/MOP/Method/Wrapped.pm line 95
	LazyAll::Child::BUILDARGS("LazyAll::Child") called at /tmp/loop_over_bdir-13779-1adTph/Moose-2.2010-0/blib/lib/Moose/Object.pm line 22
	Moose::Object::new("LazyAll::Child") called at t/03_lazy.t line 248
You are overwriting a accessor (parent_rel_pack) for the parent_rel_pack attribute (defined at t/03_lazy.t line 177) with a new accessor method for the parent_rel_pack attribute (defined at t/03_lazy.t line 177) at /tmp/loop_over_bdir-13779-1adTph/Moose-2.2010-0/blib/lib/Moose/Meta/Attribute.pm line 1094.
	Moose::Meta::Attribute::_process_accessors(Moose::Meta::Attribute=HASH(0x557bdba7fc20), "accessor", "parent_rel_pack", undef) called at /tmp/loop_over_bdir-13779-1adTph/Moose-2.2010-0/blib/lib/Class/MOP/Attribute.pm line 446
	Class::MOP::Attribute::install_accessors(Moose::Meta::Attribute=HASH(0x557bdba7fc20)) called at /tmp/loop_over_bdir-13779-1adTph/Moose-2.2010-0/blib/lib/Moose/Meta/Attribute.pm line 1014
	Moose::Meta::Attribute::install_accessors(Moose::Meta::Attribute=HASH(0x557bdba7fc20)) called at /tmp/loop_over_bdir-13779-1adTph/MooseX-RelClassTypes-0.02-0/blib/lib/MooseX/RelClassTypes.pm line 70
	Class::MOP::Class:::before("LazyAll::Child") called at /tmp/loop_over_bdir-13779-1adTph/Moose-2.2010-0/blib/lib/Class/MOP/Method/Wrapped.pm line 43
	LazyAll::Child::_wrapped_BUILDARGS("LazyAll::Child") called at /tmp/loop_over_bdir-13779-1adTph/Moose-2.2010-0/blib/lib/Class/MOP/Method/Wrapped.pm line 95
	LazyAll::Child::BUILDARGS("LazyAll::Child") called at /tmp/loop_over_bdir-13779-1adTph/Moose-2.2010-0/blib/lib/Moose/Object.pm line 22
	Moose::Object::new("LazyAll::Child") called at t/03_lazy.t line 248
t/03_lazy.t .......... ok
All tests successful.
Files=4, Tests=56,  1 wallclock secs ( 0.02 usr  0.02 sys +  0.86 cusr  0.18 csys =  1.08 CPU)
Result: PASS

------------------------------
PREREQUISITES
------------------------------

Prerequisite modules loaded:

requires:

    Module                      Need Have    
    --------------------------- ---- --------
    Carp                        0    1.40    
    Clone                       0    0.39    
    Module::Runtime             0    0.016   
    Moose                       0    2.2010  
    MooseX::Role::Parameterized 0    1.10    

build_requires:

    Module                      Need Have    
    --------------------------- ---- --------
    ExtUtils::MakeMaker         0    7.30    
    Test::More                  0    1.302106

configure_requires:

    Module                      Need Have    
    --------------------------- ---- --------
    ExtUtils::MakeMaker         0    7.30    


------------------------------
ENVIRONMENT AND OTHER CONTEXT
------------------------------

Environment variables:

    AUTOMATED_TESTING = 1
    LANG = C
    PATH = /home/sand/bin:/usr/local/bin:/usr/bin:/bin:/usr/games:/usr/local/perl/bin:/usr/X11/bin:/sbin:/usr/sbin
    PERL5LIB = /tmp/loop_over_bdir-13779-1adTph/MooseX-Role-Parameterized-1.10-0/blib/arch:/tmp/loop_over_bdir-13779-1adTph/MooseX-Role-Parameterized-1.10-0/blib/lib:/tmp/loop_over_bdir-13779-1adTph/MooseX-Role-WithOverloading-0.17-0/blib/arch:/tmp/loop_over_bdir-13779-1adTph/MooseX-Role-WithOverloading-0.17-0/blib/lib:/tmp/loop_over_bdir-13779-1adTph/namespace-autoclean-0.28-0/blib/arch:/tmp/loop_over_bdir-13779-1adTph/namespace-autoclean-0.28-0/blib/lib:/tmp/loop_over_bdir-13779-1adTph/aliased-0.34-0/blib/arch:/tmp/loop_over_bdir-13779-1adTph/aliased-0.34-0/blib/lib:/tmp/loop_over_bdir-13779-1adTph/Module-Build-Tiny-0.039-0/blib/arch:/tmp/loop_over_bdir-13779-1adTph/Module-Build-Tiny-0.039-0/blib/lib:/tmp/loop_over_bdir-13779-1adTph/ExtUtils-InstallPaths-0.011-0/blib/arch:/tmp/loop_over_bdir-13779-1adTph/ExtUtils-InstallPaths-0.011-0/blib/lib:/tmp/loop_over_bdir-13779-1adTph/ExtUtils-Helpers-0.026-0/blib/arch:/tmp/loop_over_bdir-13779-1adTph/ExtUtils-Helpers-0.026-0/blib/lib:/tmp/loop_over_bdir-13779-1adTph/ExtUtils-Config-0.008-0/blib/arch:/tmp/loop_over_bdir-13779-1adTph/ExtUtils-Config-0.008-0/blib/lib:/tmp/loop_over_bdir-13779-1adTph/Moose-2.2010-0/blib/arch:/tmp/loop_over_bdir-13779-1adTph/Moose-2.2010-0/blib/lib:/tmp/loop_over_bdir-13779-1adTph/Test-CleanNamespaces-0.22-0/blib/arch:/tmp/loop_over_bdir-13779-1adTph/Test-CleanNamespaces-0.22-0/blib/lib:/tmp/loop_over_bdir-13779-1adTph/namespace-clean-0.27-0/blib/arch:/tmp/loop_over_bdir-13779-1adTph/namespace-clean-0.27-0/blib/lib:/tmp/loop_over_bdir-13779-1adTph/B-Hooks-EndOfScope-0.21-0/blib/arch:/tmp/loop_over_bdir-13779-1adTph/B-Hooks-EndOfScope-0.21-0/blib/lib:/tmp/loop_over_bdir-13779-1adTph/Variable-Magic-0.62-0/blib/arch:/tmp/loop_over_bdir-13779-1adTph/Variable-Magic-0.62-0/blib/lib:/tmp/loop_over_bdir-13779-1adTph/Devel-Hide-0.0009-0/blib/arch:/tmp/loop_over_bdir-13779-1adTph/Devel-Hide-0.0009-0/blib/lib:/tmp/loop_over_bdir-13779-1adTph/Package-DeprecationManager-0.17-0/blib/arch:/tmp/loop_over_bdir-13779-1adTph/Package-DeprecationManager-0.17-0/blib/lib:/tmp/loop_over_bdir-13779-1adTph/Test-Warnings-0.026-0/blib/arch:/tmp/loop_over_bdir-13779-1adTph/Test-Warnings-0.026-0/blib/lib:/tmp/loop_over_bdir-13779-1adTph/Sub-Name-0.21-0/blib/arch:/tmp/loop_over_bdir-13779-1adTph/Sub-Name-0.21-0/blib/lib:/tmp/loop_over_bdir-13779-1adTph/Module-Runtime-Conflicts-0.003-0/blib/arch:/tmp/loop_over_bdir-13779-1adTph/Module-Runtime-Conflicts-0.003-0/blib/lib:/tmp/loop_over_bdir-13779-1adTph/Scalar-List-Utils-1.50-0/blib/arch:/tmp/loop_over_bdir-13779-1adTph/Scalar-List-Utils-1.50-0/blib/lib:/tmp/loop_over_bdir-13779-1adTph/Eval-Closure-0.14-0/blib/arch:/tmp/loop_over_bdir-13779-1adTph/Eval-Closure-0.14-0/blib/lib:/tmp/loop_over_bdir-13779-1adTph/Devel-StackTrace-2.03-0/blib/arch:/tmp/loop_over_bdir-13779-1adTph/Devel-StackTrace-2.03-0/blib/lib:/tmp/loop_over_bdir-13779-1adTph/Devel-OverloadInfo-0.005-0/blib/arch:/tmp/loop_over_bdir-13779-1adTph/Devel-OverloadInfo-0.005-0/blib/lib:/tmp/loop_over_bdir-13779-1adTph/MRO-Compat-0.13-0/blib/arch:/tmp/loop_over_bdir-13779-1adTph/MRO-Compat-0.13-0/blib/lib:/tmp/loop_over_bdir-13779-1adTph/Devel-GlobalDestruction-0.14-0/blib/arch:/tmp/loop_over_bdir-13779-1adTph/Devel-GlobalDestruction-0.14-0/blib/lib:/tmp/loop_over_bdir-13779-1adTph/Sub-Exporter-Progressive-0.001013-0/blib/arch:/tmp/loop_over_bdir-13779-1adTph/Sub-Exporter-Progressive-0.001013-0/blib/lib:/tmp/loop_over_bdir-13779-1adTph/Class-Load-XS-0.10-0/blib/arch:/tmp/loop_over_bdir-13779-1adTph/Class-Load-XS-0.10-0/blib/lib:/tmp/loop_over_bdir-13779-1adTph/Class-Load-0.24-0/blib/arch:/tmp/loop_over_bdir-13779-1adTph/Class-Load-0.24-0/blib/lib:/tmp/loop_over_bdir-13779-1adTph/Package-Stash-0.37-0/blib/arch:/tmp/loop_over_bdir-13779-1adTph/Package-Stash-0.37-0/blib/lib:/tmp/loop_over_bdir-13779-1adTph/Package-Stash-XS-0.28-0/blib/arch:/tmp/loop_over_bdir-13779-1adTph/Package-Stash-XS-0.28-0/blib/lib:/tmp/loop_over_bdir-13779-1adTph/Module-Implementation-0.09-0/blib/arch:/tmp/loop_over_bdir-13779-1adTph/Module-Implementation-0.09-0/blib/lib:/tmp/loop_over_bdir-13779-1adTph/Test-Requires-0.10-0/blib/arch:/tmp/loop_over_bdir-13779-1adTph/Test-Requires-0.10-0/blib/lib:/tmp/loop_over_bdir-13779-1adTph/CPAN-Meta-Check-0.014-0/blib/arch:/tmp/loop_over_bdir-13779-1adTph/CPAN-Meta-Check-0.014-0/blib/lib:/tmp/loop_over_bdir-13779-1adTph/Test-Deep-1.127-0/blib/arch:/tmp/loop_over_bdir-13779-1adTph/Test-Deep-1.127-0/blib/lib:/tmp/loop_over_bdir-13779-1adTph/Dist-CheckConflicts-0.11-0/blib/arch:/tmp/loop_over_bdir-13779-1adTph/Dist-CheckConflicts-0.11-0/blib/lib:/tmp/loop_over_bdir-13779-1adTph/Module-Runtime-0.016-0/blib/arch:/tmp/loop_over_bdir-13779-1adTph/Module-Runtime-0.016-0/blib/lib:/tmp/loop_over_bdir-13779-1adTph/Clone-0.39-0/blib/arch:/tmp/loop_over_bdir-13779-1adTph/Clone-0.39-0/blib/lib
    PERL5OPT = 
    PERL5_CPANPLUS_IS_RUNNING = 28394
    PERL5_CPAN_IS_RUNNING = 28394
    PERL_CANARY_STABILITY_NOPROMPT = 1
    PERL_MM_USE_DEFAULT = 1
    PERL_USE_UNSAFE_INC = 1
    SHELL = /usr/bin/zsh
    TERM = screen

Perl special variables (and OS-specific diagnostics, for MSWin32):

    $^X = /home/sand/src/perl/repoperls/installed-perls/host/k93stretch/v5.24.3/9a27/bin/perl
    $UID/$EUID = 1005 / 1005
    $GID = 1005 1005
    $EGID = 1005 1005

Perl module toolchain versions installed:

    Module              Have      
    ------------------- ----------
    CPAN                2.18      
    CPAN::Meta          2.150010  
    Cwd                 3.63_01   
    ExtUtils::CBuilder  0.280226  
    ExtUtils::Command   7.30      
    ExtUtils::Install   2.06      
    ExtUtils::MakeMaker 7.30      
    ExtUtils::Manifest  1.70      
    ExtUtils::ParseXS   3.31      
    File::Spec          3.63_01   
    JSON                2.94      
    JSON::PP            2.27300_01
    Module::Build       0.4224    
    Module::Signature   0.81      
    Parse::CPAN::Meta   2.150010  
    Test::Harness       3.39      
    Test::More          1.302106  
    YAML                1.23      
    YAML::Syck          1.30      
    version             0.9916    


--

Summary of my perl5 (revision 5 version 24 subversion 3) configuration:
  Commit id: 9f1d3884c227a955e9ecaaadba4cba3280c47e3a
  Platform:
    osname=linux, osvers=4.9.0-3-amd64, archname=x86_64-linux-ld
    uname='linux k93stretch 4.9.0-3-amd64 #1 smp debian 4.9.30-2+deb9u5 (2017-09-19) x86_64 gnulinux '
    config_args='-Dprefix=/home/sand/src/perl/repoperls/installed-perls/host/k93stretch/v5.24.3/9a27 -Dmyhostname=k93stretch -Dinstallusrbinperl=n -Uversiononly -Dusedevel -des -Ui_db -Dlibswanted=cl pthread socket inet nsl gdbm dbm malloc dl ld sun m crypt sec util c cposix posix ucb BSD gdbm_compat -Uuseithreads -Duselongdouble -DDEBUGGING=-g'
    hint=recommended, useposix=true, d_sigaction=define
    useithreads=undef, usemultiplicity=undef
    use64bitint=define, use64bitall=define, uselongdouble=define
    usemymalloc=n, bincompat5005=undef
  Compiler:
    cc='cc', ccflags ='-fwrapv -fno-strict-aliasing -pipe -fstack-protector-strong -I/usr/local/include -D_LARGEFILE_SOURCE -D_FILE_OFFSET_BITS=64 -D_FORTIFY_SOURCE=2',
    optimize='-O2 -g',
    cppflags='-fwrapv -fno-strict-aliasing -pipe -fstack-protector-strong -I/usr/local/include'
    ccversion='', gccversion='6.3.0 20170516', gccosandvers=''
    intsize=4, longsize=8, ptrsize=8, doublesize=8, byteorder=12345678, doublekind=3
    d_longlong=define, longlongsize=8, d_longdbl=define, longdblsize=16, longdblkind=3
    ivtype='long', ivsize=8, nvtype='long double', nvsize=16, Off_t='off_t', lseeksize=8
    alignbytes=16, prototype=define
  Linker and Libraries:
    ld='cc', ldflags =' -fstack-protector-strong -L/usr/local/lib'
    libpth=/usr/local/lib /usr/lib/gcc/x86_64-linux-gnu/6/include-fixed /usr/include/x86_64-linux-gnu /usr/lib /lib/x86_64-linux-gnu /lib/../lib /usr/lib/x86_64-linux-gnu /usr/lib/../lib /lib
    libs=-lpthread -lnsl -ldl -lm -lcrypt -lutil -lc
    perllibs=-lpthread -lnsl -ldl -lm -lcrypt -lutil -lc
    libc=libc-2.24.so, so=so, useshrplib=false, libperl=libperl.a
    gnulibc_version='2.24'
  Dynamic Linking:
    dlsrc=dl_dlopen.xs, dlext=so, d_dlsymun=undef, ccdlflags='-Wl,-E'
    cccdlflags='-fPIC', lddlflags='-shared -O2 -g -L/usr/local/lib -fstack-protector-strong'


Characteristics of this binary (from libperl): 
  Compile-time options: HAS_TIMES PERLIO_LAYERS PERL_COPY_ON_WRITE
                        PERL_DONT_CREATE_GVSV
                        PERL_HASH_FUNC_ONE_AT_A_TIME_HARD PERL_MALLOC_WRAP
                        PERL_PRESERVE_IVUV PERL_USE_DEVEL USE_64_BIT_ALL
                        USE_64_BIT_INT USE_LARGE_FILES USE_LOCALE
                        USE_LOCALE_COLLATE USE_LOCALE_CTYPE
                        USE_LOCALE_NUMERIC USE_LOCALE_TIME USE_LONG_DOUBLE
                        USE_PERLIO USE_PERL_ATOF
  Built under linux
  Compiled at Sep 30 2017 02:48:50
  %ENV:
    PERL5LIB="/tmp/loop_over_bdir-13779-1adTph/MooseX-Role-Parameterized-1.10-0/blib/arch:/tmp/loop_over_bdir-13779-1adTph/MooseX-Role-Parameterized-1.10-0/blib/lib:/tmp/loop_over_bdir-13779-1adTph/MooseX-Role-WithOverloading-0.17-0/blib/arch:/tmp/loop_over_bdir-13779-1adTph/MooseX-Role-WithOverloading-0.17-0/blib/lib:/tmp/loop_over_bdir-13779-1adTph/namespace-autoclean-0.28-0/blib/arch:/tmp/loop_over_bdir-13779-1adTph/namespace-autoclean-0.28-0/blib/lib:/tmp/loop_over_bdir-13779-1adTph/aliased-0.34-0/blib/arch:/tmp/loop_over_bdir-13779-1adTph/aliased-0.34-0/blib/lib:/tmp/loop_over_bdir-13779-1adTph/Module-Build-Tiny-0.039-0/blib/arch:/tmp/loop_over_bdir-13779-1adTph/Module-Build-Tiny-0.039-0/blib/lib:/tmp/loop_over_bdir-13779-1adTph/ExtUtils-InstallPaths-0.011-0/blib/arch:/tmp/loop_over_bdir-13779-1adTph/ExtUtils-InstallPaths-0.011-0/blib/lib:/tmp/loop_over_bdir-13779-1adTph/ExtUtils-Helpers-0.026-0/blib/arch:/tmp/loop_over_bdir-13779-1adTph/ExtUtils-Helpers-0.026-0/blib/lib:/tmp/loop_over_bdir-13779-1adTph/ExtUtils-Config-0.008-0/blib/arch:/tmp/loop_over_bdir-13779-1adTph/ExtUtils-Config-0.008-0/blib/lib:/tmp/loop_over_bdir-13779-1adTph/Moose-2.2010-0/blib/arch:/tmp/loop_over_bdir-13779-1adTph/Moose-2.2010-0/blib/lib:/tmp/loop_over_bdir-13779-1adTph/Test-CleanNamespaces-0.22-0/blib/arch:/tmp/loop_over_bdir-13779-1adTph/Test-CleanNamespaces-0.22-0/blib/lib:/tmp/loop_over_bdir-13779-1adTph/namespace-clean-0.27-0/blib/arch:/tmp/loop_over_bdir-13779-1adTph/namespace-clean-0.27-0/blib/lib:/tmp/loop_over_bdir-13779-1adTph/B-Hooks-EndOfScope-0.21-0/blib/arch:/tmp/loop_over_bdir-13779-1adTph/B-Hooks-EndOfScope-0.21-0/blib/lib:/tmp/loop_over_bdir-13779-1adTph/Variable-Magic-0.62-0/blib/arch:/tmp/loop_over_bdir-13779-1adTph/Variable-Magic-0.62-0/blib/lib:/tmp/loop_over_bdir-13779-1adTph/Devel-Hide-0.0009-0/blib/arch:/tmp/loop_over_bdir-13779-1adTph/Devel-Hide-0.0009-0/blib/lib:/tmp/loop_over_bdir-13779-1adTph/Package-DeprecationManager-0.17-0/blib/arch:/tmp/loop_over_bdir-13779-1adTph/Package-DeprecationManager-0.17-0/blib/lib:/tmp/loop_over_bdir-13779-1adTph/Test-Warnings-0.026-0/blib/arch:/tmp/loop_over_bdir-13779-1adTph/Test-Warnings-0.026-0/blib/lib:/tmp/loop_over_bdir-13779-1adTph/Sub-Name-0.21-0/blib/arch:/tmp/loop_over_bdir-13779-1adTph/Sub-Name-0.21-0/blib/lib:/tmp/loop_over_bdir-13779-1adTph/Module-Runtime-Conflicts-0.003-0/blib/arch:/tmp/loop_over_bdir-13779-1adTph/Module-Runtime-Conflicts-0.003-0/blib/lib:/tmp/loop_over_bdir-13779-1adTph/Scalar-List-Utils-1.50-0/blib/arch:/tmp/loop_over_bdir-13779-1adTph/Scalar-List-Utils-1.50-0/blib/lib:/tmp/loop_over_bdir-13779-1adTph/Eval-Closure-0.14-0/blib/arch:/tmp/loop_over_bdir-13779-1adTph/Eval-Closure-0.14-0/blib/lib:/tmp/loop_over_bdir-13779-1adTph/Devel-StackTrace-2.03-0/blib/arch:/tmp/loop_over_bdir-13779-1adTph/Devel-StackTrace-2.03-0/blib/lib:/tmp/loop_over_bdir-13779-1adTph/Devel-OverloadInfo-0.005-0/blib/arch:/tmp/loop_over_bdir-13779-1adTph/Devel-OverloadInfo-0.005-0/blib/lib:/tmp/loop_over_bdir-13779-1adTph/MRO-Compat-0.13-0/blib/arch:/tmp/loop_over_bdir-13779-1adTph/MRO-Compat-0.13-0/blib/lib:/tmp/loop_over_bdir-13779-1adTph/Devel-GlobalDestruction-0.14-0/blib/arch:/tmp/loop_over_bdir-13779-1adTph/Devel-GlobalDestruction-0.14-0/blib/lib:/tmp/loop_over_bdir-13779-1adTph/Sub-Exporter-Progressive-0.001013-0/blib/arch:/tmp/loop_over_bdir-13779-1adTph/Sub-Exporter-Progressive-0.001013-0/blib/lib:/tmp/loop_over_bdir-13779-1adTph/Class-Load-XS-0.10-0/blib/arch:/tmp/loop_over_bdir-13779-1adTph/Class-Load-XS-0.10-0/blib/lib:/tmp/loop_over_bdir-13779-1adTph/Class-Load-0.24-0/blib/arch:/tmp/loop_over_bdir-13779-1adTph/Class-Load-0.24-0/blib/lib:/tmp/loop_over_bdir-13779-1adTph/Package-Stash-0.37-0/blib/arch:/tmp/loop_over_bdir-13779-1adTph/Package-Stash-0.37-0/blib/lib:/tmp/loop_over_bdir-13779-1adTph/Package-Stash-XS-0.28-0/blib/arch:/tmp/loop_over_bdir-13779-1adTph/Package-Stash-XS-0.28-0/blib/lib:/tmp/loop_over_bdir-13779-1adTph/Module-Implementation-0.09-0/blib/arch:/tmp/loop_over_bdir-13779-1adTph/Module-Implementation-0.09-0/blib/lib:/tmp/loop_over_bdir-13779-1adTph/Test-Requires-0.10-0/blib/arch:/tmp/loop_over_bdir-13779-1adTph/Test-Requires-0.10-0/blib/lib:/tmp/loop_over_bdir-13779-1adTph/CPAN-Meta-Check-0.014-0/blib/arch:/tmp/loop_over_bdir-13779-1adTph/CPAN-Meta-Check-0.014-0/blib/lib:/tmp/loop_over_bdir-13779-1adTph/Test-Deep-1.127-0/blib/arch:/tmp/loop_over_bdir-13779-1adTph/Test-Deep-1.127-0/blib/lib:/tmp/loop_over_bdir-13779-1adTph/Dist-CheckConflicts-0.11-0/blib/arch:/tmp/loop_over_bdir-13779-1adTph/Dist-CheckConflicts-0.11-0/blib/lib:/tmp/loop_over_bdir-13779-1adTph/Module-Runtime-0.016-0/blib/arch:/tmp/loop_over_bdir-13779-1adTph/Module-Runtime-0.016-0/blib/lib:/tmp/loop_over_bdir-13779-1adTph/Clone-0.39-0/blib/arch:/tmp/loop_over_bdir-13779-1adTph/Clone-0.39-0/blib/lib"
    PERL5OPT=""
    PERL5_CPANPLUS_IS_RUNNING="28394"
    PERL5_CPAN_IS_RUNNING="28394"
    PERL_CANARY_STABILITY_NOPROMPT="1"
    PERL_MM_USE_DEFAULT="1"
    PERL_USE_UNSAFE_INC="1"
  @INC:
    /tmp/loop_over_bdir-13779-1adTph/MooseX-Role-Parameterized-1.10-0/blib/arch
    /tmp/loop_over_bdir-13779-1adTph/MooseX-Role-Parameterized-1.10-0/blib/lib
    /tmp/loop_over_bdir-13779-1adTph/MooseX-Role-WithOverloading-0.17-0/blib/arch
    /tmp/loop_over_bdir-13779-1adTph/MooseX-Role-WithOverloading-0.17-0/blib/lib
    /tmp/loop_over_bdir-13779-1adTph/namespace-autoclean-0.28-0/blib/arch
    /tmp/loop_over_bdir-13779-1adTph/namespace-autoclean-0.28-0/blib/lib
    /tmp/loop_over_bdir-13779-1adTph/aliased-0.34-0/blib/arch
    /tmp/loop_over_bdir-13779-1adTph/aliased-0.34-0/blib/lib
    /tmp/loop_over_bdir-13779-1adTph/Module-Build-Tiny-0.039-0/blib/arch
    /tmp/loop_over_bdir-13779-1adTph/Module-Build-Tiny-0.039-0/blib/lib
    /tmp/loop_over_bdir-13779-1adTph/ExtUtils-InstallPaths-0.011-0/blib/arch
    /tmp/loop_over_bdir-13779-1adTph/ExtUtils-InstallPaths-0.011-0/blib/lib
    /tmp/loop_over_bdir-13779-1adTph/ExtUtils-Helpers-0.026-0/blib/arch
    /tmp/loop_over_bdir-13779-1adTph/ExtUtils-Helpers-0.026-0/blib/lib
    /tmp/loop_over_bdir-13779-1adTph/ExtUtils-Config-0.008-0/blib/arch
    /tmp/loop_over_bdir-13779-1adTph/ExtUtils-Config-0.008-0/blib/lib
    /tmp/loop_over_bdir-13779-1adTph/Moose-2.2010-0/blib/arch
    /tmp/loop_over_bdir-13779-1adTph/Moose-2.2010-0/blib/lib
    /tmp/loop_over_bdir-13779-1adTph/Test-CleanNamespaces-0.22-0/blib/arch
    /tmp/loop_over_bdir-13779-1adTph/Test-CleanNamespaces-0.22-0/blib/lib
    /tmp/loop_over_bdir-13779-1adTph/namespace-clean-0.27-0/blib/arch
    /tmp/loop_over_bdir-13779-1adTph/namespace-clean-0.27-0/blib/lib
    /tmp/loop_over_bdir-13779-1adTph/B-Hooks-EndOfScope-0.21-0/blib/arch
    /tmp/loop_over_bdir-13779-1adTph/B-Hooks-EndOfScope-0.21-0/blib/lib
    /tmp/loop_over_bdir-13779-1adTph/Variable-Magic-0.62-0/blib/arch
    /tmp/loop_over_bdir-13779-1adTph/Variable-Magic-0.62-0/blib/lib
    /tmp/loop_over_bdir-13779-1adTph/Devel-Hide-0.0009-0/blib/arch
    /tmp/loop_over_bdir-13779-1adTph/Devel-Hide-0.0009-0/blib/lib
    /tmp/loop_over_bdir-13779-1adTph/Package-DeprecationManager-0.17-0/blib/arch
    /tmp/loop_over_bdir-13779-1adTph/Package-DeprecationManager-0.17-0/blib/lib
    /tmp/loop_over_bdir-13779-1adTph/Test-Warnings-0.026-0/blib/arch
    /tmp/loop_over_bdir-13779-1adTph/Test-Warnings-0.026-0/blib/lib
    /tmp/loop_over_bdir-13779-1adTph/Sub-Name-0.21-0/blib/arch
    /tmp/loop_over_bdir-13779-1adTph/Sub-Name-0.21-0/blib/lib
    /tmp/loop_over_bdir-13779-1adTph/Module-Runtime-Conflicts-0.003-0/blib/arch
    /tmp/loop_over_bdir-13779-1adTph/Module-Runtime-Conflicts-0.003-0/blib/lib
    /tmp/loop_over_bdir-13779-1adTph/Scalar-List-Utils-1.50-0/blib/arch
    /tmp/loop_over_bdir-13779-1adTph/Scalar-List-Utils-1.50-0/blib/lib
    /tmp/loop_over_bdir-13779-1adTph/Eval-Closure-0.14-0/blib/arch
    /tmp/loop_over_bdir-13779-1adTph/Eval-Closure-0.14-0/blib/lib
    /tmp/loop_over_bdir-13779-1adTph/Devel-StackTrace-2.03-0/blib/arch
    /tmp/loop_over_bdir-13779-1adTph/Devel-StackTrace-2.03-0/blib/lib
    /tmp/loop_over_bdir-13779-1adTph/Devel-OverloadInfo-0.005-0/blib/arch
    /tmp/loop_over_bdir-13779-1adTph/Devel-OverloadInfo-0.005-0/blib/lib
    /tmp/loop_over_bdir-13779-1adTph/MRO-Compat-0.13-0/blib/arch
    /tmp/loop_over_bdir-13779-1adTph/MRO-Compat-0.13-0/blib/lib
    /tmp/loop_over_bdir-13779-1adTph/Devel-GlobalDestruction-0.14-0/blib/arch
    /tmp/loop_over_bdir-13779-1adTph/Devel-GlobalDestruction-0.14-0/blib/lib
    /tmp/loop_over_bdir-13779-1adTph/Sub-Exporter-Progressive-0.001013-0/blib/arch
    /tmp/loop_over_bdir-13779-1adTph/Sub-Exporter-Progressive-0.001013-0/blib/lib
    /tmp/loop_over_bdir-13779-1adTph/Class-Load-XS-0.10-0/blib/arch
    /tmp/loop_over_bdir-13779-1adTph/Class-Load-XS-0.10-0/blib/lib
    /tmp/loop_over_bdir-13779-1adTph/Class-Load-0.24-0/blib/arch
    /tmp/loop_over_bdir-13779-1adTph/Class-Load-0.24-0/blib/lib
    /tmp/loop_over_bdir-13779-1adTph/Package-Stash-0.37-0/blib/arch
    /tmp/loop_over_bdir-13779-1adTph/Package-Stash-0.37-0/blib/lib
    /tmp/loop_over_bdir-13779-1adTph/Package-Stash-XS-0.28-0/blib/arch
    /tmp/loop_over_bdir-13779-1adTph/Package-Stash-XS-0.28-0/blib/lib
    /tmp/loop_over_bdir-13779-1adTph/Module-Implementation-0.09-0/blib/arch
    /tmp/loop_over_bdir-13779-1adTph/Module-Implementation-0.09-0/blib/lib
    /tmp/loop_over_bdir-13779-1adTph/Test-Requires-0.10-0/blib/arch
    /tmp/loop_over_bdir-13779-1adTph/Test-Requires-0.10-0/blib/lib
    /tmp/loop_over_bdir-13779-1adTph/CPAN-Meta-Check-0.014-0/blib/arch
    /tmp/loop_over_bdir-13779-1adTph/CPAN-Meta-Check-0.014-0/blib/lib
    /tmp/loop_over_bdir-13779-1adTph/Test-Deep-1.127-0/blib/arch
    /tmp/loop_over_bdir-13779-1adTph/Test-Deep-1.127-0/blib/lib
    /tmp/loop_over_bdir-13779-1adTph/Dist-CheckConflicts-0.11-0/blib/arch
    /tmp/loop_over_bdir-13779-1adTph/Dist-CheckConflicts-0.11-0/blib/lib
    /tmp/loop_over_bdir-13779-1adTph/Module-Runtime-0.016-0/blib/arch
    /tmp/loop_over_bdir-13779-1adTph/Module-Runtime-0.016-0/blib/lib
    /tmp/loop_over_bdir-13779-1adTph/Clone-0.39-0/blib/arch
    /tmp/loop_over_bdir-13779-1adTph/Clone-0.39-0/blib/lib
    /home/sand/src/perl/repoperls/installed-perls/host/k93stretch/v5.24.3/9a27/lib/site_perl/5.24.3/x86_64-linux-ld
    /home/sand/src/perl/repoperls/installed-perls/host/k93stretch/v5.24.3/9a27/lib/site_perl/5.24.3
    /home/sand/src/perl/repoperls/installed-perls/host/k93stretch/v5.24.3/9a27/lib/5.24.3/x86_64-linux-ld
    /home/sand/src/perl/repoperls/installed-perls/host/k93stretch/v5.24.3/9a27/lib/5.24.3
    .