File-AptFetch vv0.1.15 Perl 5 v5.34.1 x86_64-linux-ld
- Status
- Pass
- From
- Andreas J. König (ANDK)
- Dist
-
File-AptFetch vv0.1.15
- Platform
- Perl 5 v5.34.1 x86_64-linux-ld
- Date
- 2023-01-13 19:29:58
- ID
- aa64d5c0-9378-11ed-b05e-ff31e11f177c
This distribution has been tested as part of the CPAN Testers
project, supporting the Perl programming language. See
http://wiki.cpantesters.org/ for more information or email
questions to cpan-testers-discuss@perl.org
--
Dear whynot@pozharski.name,
This is a computer-generated report for File-AptFetch-v0.1.15
on perl 5.34.1, created by CPAN-Reporter-1.2018.
Thank you for uploading your work to CPAN. Congratulations!
All tests were successful.
Sections of this report:
* Tester comments
* Program output
* Prerequisites
* Environment and other context
------------------------------
TESTER COMMENTS
------------------------------
Additional comments from tester:
this report is from an automated smoke testing program
and was not reviewed by a human for accuracy
------------------------------
PROGRAM OUTPUT
------------------------------
Output from './Build test':
# {{{TERM}}}
t/0.t ....................... ok
t/0/9raCtd.t ................ skipped: (5.34.1): Can't locate Module/Build.pm in @INC (you may need to install the Module::Build module) (@INC contains: ./blib/lib /tmp/loop_over_bdir-2030516-TjM9lg/File-AptFetch-v0.1.15-0/blib/lib /etc/perl /usr/local/lib/x86_64-linux-gnu/perl/5.36.0 /usr/local/share/perl/5.36.0 /usr/lib/x86_64-linux-gnu/perl5/5.36 /usr/share/perl5 /usr/lib/x86_64-linux-gnu/perl-base /usr/lib/x86_64-linux-gnu/perl/5.36 /usr/share/perl/5.36 /usr/local/lib/site_perl .) at t/TestSuite.pm line 20. # 200
t/0/EmMn8o.t ................ skipped: not Debian, or alike
t/copy/0.t .................. skipped: not Debian, or alike
t/copy/fail.t ............... skipped: not Debian, or alike
t/copy/one.t ................ skipped: not Debian, or alike
t/copy/perm.t ............... skipped: not Debian, or alike
t/copy/slow.t ............... skipped: not Debian, or alike
t/copy/two.t ................ skipped: not Debian, or alike
t/file/0.t .................. skipped: not Debian, or alike
t/file/fail.t ............... skipped: not Debian, or alike
t/file/one.t ................ skipped: not Debian, or alike
t/file/two.t ................ skipped: not Debian, or alike
t/ftp/0.t ................... skipped: not Debian, or alike
t/ftp/slow.t ................ skipped: not Debian, or alike
t/gain-callback/simple.t .... ok
t/read-callback/default.t ... ok
t/read-callback/simple.t .... ok
t/select-callback/simple.t .. ok
t/simple/0.t ................ skipped: not Debian, or alike
t/simple/copy.t ............. skipped: not Debian, or alike
t/simple/fail.t ............. skipped: not Debian, or alike
t/simple/file.t ............. skipped: not Debian, or alike
t/simple/wink.t ............. skipped: not Debian, or alike
t/void/aptconfig.t .......... ok
t/void/configure.t .......... ok
t/void/destroy.t ............ ok
t/void/fail.t ............... ok
t/void/handshake.t .......... ok
t/void/set_callback.t ....... ok
All tests successful.
Files=30, Tests=207, 131 wallclock secs ( 0.10 usr 0.04 sys + 4.73 cusr 1.75 csys = 6.62 CPU)
Result: PASS
------------------------------
PREREQUISITES
------------------------------
Prerequisite modules loaded:
requires:
Module Need Have
---------------- ------- --------
base 0 2.27
Carp 0 1.52
Cwd 0 3.80
IO::Pipe 0 1.46
List::Util 0 1.63
perl v5.8.0 5.034001
String::Truncate 0 1.100602
version v0.77.0 0.9929
build_requires:
Module Need Have
---------------- ------- --------
File::Temp 0 0.2311
POSIX 0 1.97
Test::More 0 1.302191
configure_requires:
Module Need Have
---------------- ------- --------
Module::Build 0.38 0.4231
------------------------------
ENVIRONMENT AND OTHER CONTEXT
------------------------------
Environment variables:
AUTOMATED_TESTING = 1
LANG = en_US.UTF-8
LANGUAGE = en_US:en
PATH = /home/sand/bin:/usr/local/bin:/usr/bin:/bin:/usr/games:/usr/local/perl/bin:/usr/X11/bin:/sbin:/usr/sbin
PERL5LIB =
PERL5OPT =
PERL5_CPANPLUS_IS_RUNNING = 2712216
PERL5_CPAN_IS_RUNNING = 2712216
PERL_CANARY_STABILITY_NOPROMPT = 1
PERL_MM_USE_DEFAULT = 1
PERL_USE_UNSAFE_INC = 1
SHELL = /usr/bin/zsh
TERM = screen
Perl special variables (and OS-specific diagnostics, for MSWin32):
$^X = /home/sand/src/perl/repoperls/installed-perls/host/k93msid/v5.34.1/af11/bin/perl
$UID/$EUID = 1005 / 1005
$GID = 1005 1005
$EGID = 1005 1005
Perl module toolchain versions installed:
Module Have
------------------- --------
CPAN 2.33
CPAN::Meta 2.150010
Cwd 3.80
ExtUtils::CBuilder 0.280236
ExtUtils::Command 7.65_02
ExtUtils::Install 2.20
ExtUtils::MakeMaker 7.65_02
ExtUtils::Manifest 1.73
ExtUtils::ParseXS 3.43
File::Spec 3.80
JSON 4.09
JSON::PP 4.11
Module::Build 0.4231
Module::Signature 0.88
Parse::CPAN::Meta 2.150010
Test::Harness 3.44
Test::More 1.302191
YAML 1.30
YAML::Syck 1.34
version 0.9929
--
Summary of my perl5 (revision 5 version 34 subversion 1) configuration:
Commit id: 1181cf72936404b890ef41362f533fe2c2626f9b
Platform:
osname=linux
osvers=5.15.0-2-amd64
archname=x86_64-linux-ld
uname='linux k93msid 5.15.0-2-amd64 #1 smp debian 5.15.5-2 (2021-12-18) x86_64 gnulinux '
config_args='-Dprefix=/home/sand/src/perl/repoperls/installed-perls/host/k93msid/v5.34.1/af11 -Dmyhostname=k93msid -Dinstallusrbinperl=n -Uversiononly -Dusedevel -des -Ui_db -Dlibswanted=cl pthread socket inet nsl gdbm dbm malloc dl ld sun m crypt sec util c cposix posix ucb BSD gdbm_compat -Uuseithreads -Duselongdouble -DEBUGGING=-g'
hint=recommended
useposix=true
d_sigaction=define
useithreads=undef
usemultiplicity=undef
use64bitint=define
use64bitall=define
uselongdouble=define
usemymalloc=n
default_inc_excludes_dot=define
Compiler:
cc='cc'
ccflags ='-fwrapv -fno-strict-aliasing -pipe -fstack-protector-strong -I/usr/local/include -D_LARGEFILE_SOURCE -D_FILE_OFFSET_BITS=64 -D_FORTIFY_SOURCE=2'
optimize='-O2 -g'
cppflags='-fwrapv -fno-strict-aliasing -pipe -fstack-protector-strong -I/usr/local/include'
ccversion=''
gccversion='11.2.0'
gccosandvers=''
intsize=4
longsize=8
ptrsize=8
doublesize=8
byteorder=12345678
doublekind=3
d_longlong=define
longlongsize=8
d_longdbl=define
longdblsize=16
longdblkind=3
ivtype='long'
ivsize=8
nvtype='long double'
nvsize=16
Off_t='off_t'
lseeksize=8
alignbytes=16
prototype=define
Linker and Libraries:
ld='cc'
ldflags =' -fstack-protector-strong -L/usr/local/lib'
libpth=/usr/local/lib /usr/lib/x86_64-linux-gnu /usr/lib /lib/x86_64-linux-gnu /lib
libs=-lpthread -lnsl -ldl -lm -lcrypt -lutil -lc
perllibs=-lpthread -lnsl -ldl -lm -lcrypt -lutil -lc
libc=libc-2.33.so
so=so
useshrplib=false
libperl=libperl.a
gnulibc_version='2.33'
Dynamic Linking:
dlsrc=dl_dlopen.xs
dlext=so
d_dlsymun=undef
ccdlflags='-Wl,-E'
cccdlflags='-fPIC'
lddlflags='-shared -O2 -g -L/usr/local/lib -fstack-protector-strong'
Characteristics of this binary (from libperl):
Compile-time options:
HAS_TIMES
PERLIO_LAYERS
PERL_COPY_ON_WRITE
PERL_DONT_CREATE_GVSV
PERL_MALLOC_WRAP
PERL_OP_PARENT
PERL_PRESERVE_IVUV
PERL_USE_DEVEL
USE_64_BIT_ALL
USE_64_BIT_INT
USE_LARGE_FILES
USE_LOCALE
USE_LOCALE_COLLATE
USE_LOCALE_CTYPE
USE_LOCALE_NUMERIC
USE_LOCALE_TIME
USE_LONG_DOUBLE
USE_PERLIO
USE_PERL_ATOF
Built under linux
Compiled at Mar 13 2022 11:05:32
%ENV:
PERL5LIB=""
PERL5OPT=""
PERL5_CPANPLUS_IS_RUNNING="2712216"
PERL5_CPAN_IS_RUNNING="2712216"
PERL_CANARY_STABILITY_NOPROMPT="1"
PERL_MM_USE_DEFAULT="1"
PERL_USE_UNSAFE_INC="1"
@INC:
/home/sand/src/perl/repoperls/installed-perls/host/k93msid/v5.34.1/af11/lib/site_perl/5.34.1/x86_64-linux-ld
/home/sand/src/perl/repoperls/installed-perls/host/k93msid/v5.34.1/af11/lib/site_perl/5.34.1
/home/sand/src/perl/repoperls/installed-perls/host/k93msid/v5.34.1/af11/lib/5.34.1/x86_64-linux-ld
/home/sand/src/perl/repoperls/installed-perls/host/k93msid/v5.34.1/af11/lib/5.34.1
.