Dist-Zilla-Plugin-CheckIssues v0.011 Perl 5 v5.28.2 MSWin32-x64-multi-thread
- Status
- Pass
- From
- LNATION
- Dist
-
Dist-Zilla-Plugin-CheckIssues v0.011
- Platform
- Perl 5 v5.28.2 MSWin32-x64-multi-thread
- Date
- 2025-05-18 15:55:48
- ID
- aa50bfe1-6d53-1014-896b-9704c40dd683
This distribution has been tested as part of the CPAN Testers
project, supporting the Perl programming language. See
http://wiki.cpantesters.org/ for more information or email
questions to cpan-testers-discuss@perl.org
--
Dear Karen Etheridge,
This is a computer-generated report for Dist-Zilla-Plugin-CheckIssues-0.011
on perl 5.28.2, created by CPAN-Reporter-1.2020.
Thank you for uploading your work to CPAN. Congratulations!
All tests were successful.
Sections of this report:
* Tester comments
* Program output
* Prerequisites
* Environment and other context
------------------------------
TESTER COMMENTS
------------------------------
Additional comments from tester:
this report is from an automated smoke testing program
and was not reviewed by a human for accuracy
------------------------------
PROGRAM OUTPUT
------------------------------
Output from 'C:\STRAWB~1\c\bin\gmake.exe test':
"C:\Strawberry\perl\bin\perl.exe" "-MExtUtils::Command::MM" "-MTest::Harness" "-e" "undef *Test::Harness::Switches; test_harness(0, 'blib\lib', 'blib\arch')" t/*.t
#
# Versions for all modules listed in MYMETA.json (including optional ones):
#
# === Configure Requires ===
#
# Module Want Have
# ------------------------ -------- --------
# CPAN::Meta::Requirements 2.120620 2.143
# ExtUtils::MakeMaker any 7.74
# Module::Metadata any 1.000036
#
# === Build Requires ===
#
# Module Want Have
# ------------------- ---- ----
# ExtUtils::MakeMaker any 7.74
#
# === Test Requires ===
#
# Module Want Have
# ------------------------------- ---- --------
# Dist::Zilla::App::Tester any 6.033
# Dist::Zilla::Role::MetaProvider any 6.033
# ExtUtils::MakeMaker any 7.74
# File::Spec any 3.75
# File::pushd any 1.016
# Moose::Util any 2.2011
# Path::Tiny any 0.148
# Test::DZil any 6.033
# Test::Deep any 1.128
# Test::Fatal any 0.017
# Test::More 0.88 1.302212
# if any 0.0608
# lib any 0.64
#
# === Test Recommends ===
#
# Module Want Have
# ---------- -------- --------
# CPAN::Meta 2.120900 2.150010
#
# === Runtime Requires ===
#
# Module Want Have
# -------------------------------- -------- --------
# Dist::Zilla 4.300039 6.033
# Dist::Zilla::App any 6.033
# Dist::Zilla::Role::BeforeRelease any 6.033
# Encode any 3.21
# HTTP::Headers any 7.00
# HTTP::Tiny any 0.076
# JSON::MaybeXS 1.001000 1.004000
# List::Util 1.33 1.69
# Log::Dispatch 2.49 2.71
# Moose any 2.2011
# Term::ANSIColor 3.00 5.01
# namespace::autoclean any 0.28
# strict any 1.11
# warnings any 1.42
#
# === Other Modules ===
#
# Module Have
# --------------- ------
# App::Cmd 0.337
# Encode 3.21
# File::Temp 0.2311
# JSON::PP 4.16
# Log::Dispatch 2.71
# Module::Runtime 0.016
# Pod::Coverage 0.23
# Sub::Name 0.21
# YAML 1.28
# autodie 2.29
#
t/00-report-prereqs.t .. ok
t/01-basic.t ........... ok
t/02-no-rt.t ........... ok
t/03-no-repo.t ......... ok
t/04-command.t ......... ok
t/zzz-check-breaks.t ... ok
All tests successful.
Files=6, Tests=20, 9 wallclock secs ( 0.05 usr + 0.03 sys = 0.08 CPU)
Result: PASS
------------------------------
PREREQUISITES
------------------------------
Prerequisite modules loaded:
requires:
Module Need Have
-------------------------------- -------- --------
Dist::Zilla 4.300039 6.033
Dist::Zilla::App 0 6.033
Dist::Zilla::Role::BeforeRelease 0 6.033
Encode 0 3.21
HTTP::Headers 0 7.00
HTTP::Tiny 0 0.076
JSON::MaybeXS 1.001000 1.004000
List::Util 1.33 1.69
Log::Dispatch 2.49 2.71
Moose 0 2.2011
namespace::autoclean 0 0.28
perl 5.006 5.028002
strict 0 1.11
Term::ANSIColor 3.00 5.01
warnings 0 1.42
build_requires:
Module Need Have
-------------------------------- -------- --------
Dist::Zilla::App::Tester 0 6.033
Dist::Zilla::Role::MetaProvider 0 6.033
ExtUtils::MakeMaker 0 7.74
File::pushd 0 1.016
File::Spec 0 3.75
if 0 0.0608
lib 0 0.64
Moose::Util 0 2.2011
Path::Tiny 0 0.148
Test::Deep 0 1.128
Test::DZil 0 6.033
Test::Fatal 0 0.017
Test::More 0.88 1.302212
configure_requires:
Module Need Have
-------------------------------- -------- --------
CPAN::Meta::Requirements 2.120620 2.143
ExtUtils::MakeMaker 0 7.74
Module::Metadata 0 1.000036
perl 5.006 5.028002
opt_build_requires:
Module Need Have
-------------------------------- -------- --------
CPAN::Meta 2.120900 2.150010
------------------------------
ENVIRONMENT AND OTHER CONTEXT
------------------------------
Environment variables:
AUTOMATED_TESTING = 1
COMSPEC = C:\Windows\system32\cmd.exe
NUMBER_OF_PROCESSORS = 2
PATH = C:\Windows\system32;C:\Windows;C:\Windows\System32\Wbem;C:\Windows\System32\WindowsPowerShell\v1.0\;C:\Windows\System32\OpenSSH\;C:\Program Files\Amazon\cfn-bootstrap\;C:\Strawberry\c\bin;C:\Strawberry\perl\site\bin;C:\Strawberry\perl\bin;C:\Users\Administrator\AppData\Local\Microsoft\WindowsApps;C:\Users\Administrator\AppData\Local\Microsoft\WinGet\Links;
PERL5LIB =
PERL5OPT =
PERL5_CPANPLUS_IS_RUNNING = 4452
PERL5_CPAN_IS_RUNNING = 4452
PERL5_CPAN_IS_RUNNING_IN_RECURSION = 5460,4452
PERL_CR_SMOKER_CURRENT = Dist-Zilla-PluginBundle-Author-GTERMARS-0.06
PERL_EXTUTILS_AUTOINSTALL = --defaultdeps
PERL_MM_USE_DEFAULT = 1
PERL_USE_UNSAFE_INC = 1
PROCESSOR_IDENTIFIER = Intel64 Family 6 Model 85 Stepping 7, GenuineIntel
TEMP = C:\Users\ADMINI~1\AppData\Local\Temp\2
Perl special variables (and OS-specific diagnostics, for MSWin32):
$^X = C:\Strawberry\perl\bin\perl.exe
$UID/$EUID = 0 / 0
$GID = 0
$EGID = 0
Win32::GetOSName = Win10
Win32::GetOSVersion = , 10, 0, 26100, 2, 0, 0, 400, 3
Win32::FsType = NTFS
Win32::IsAdminUser = 1
Perl module toolchain versions installed:
Module Have
------------------- --------
CPAN 2.26
CPAN::Meta 2.150010
Cwd 3.75
ExtUtils::CBuilder 0.280236
ExtUtils::Command 7.74
ExtUtils::Install 2.14
ExtUtils::MakeMaker 7.74
ExtUtils::Manifest 1.75
ExtUtils::ParseXS 3.57
File::Spec 3.75
JSON 4.02
JSON::PP 4.16
Module::Build 0.4229
Module::Signature n/a
Parse::CPAN::Meta 2.150010
Test2 1.302212
Test::Harness 3.52
Test::More 1.302212
YAML 1.28
YAML::Syck 1.34
version 0.9924
--
Summary of my perl5 (revision 5 version 28 subversion 2) configuration:
Platform:
osname=MSWin32
osvers=10.0.17763.437
archname=MSWin32-x64-multi-thread
uname='Win32 strawberry-perl 5.28.2.1 #1 Wed May 1 21:18:04 2019 x64'
config_args='undef'
hint=recommended
useposix=true
d_sigaction=undef
useithreads=define
usemultiplicity=define
use64bitint=define
use64bitall=undef
uselongdouble=undef
usemymalloc=n
default_inc_excludes_dot=define
bincompat5005=undef
Compiler:
cc='gcc'
ccflags =' -s -O2 -DWIN32 -DWIN64 -DCONSERVATIVE -D__USE_MINGW_ANSI_STDIO -DPERL_TEXTMODE_SCRIPTS -DPERL_IMPLICIT_CONTEXT -DPERL_IMPLICIT_SYS -DUSE_PERLIO -fwrapv -fno-strict-aliasing -mms-bitfields'
optimize='-s -O2'
cppflags='-DWIN32'
ccversion=''
gccversion='7.1.0'
gccosandvers=''
intsize=4
longsize=4
ptrsize=8
doublesize=8
byteorder=12345678
doublekind=3
d_longlong=define
longlongsize=8
d_longdbl=define
longdblsize=16
longdblkind=3
ivtype='long long'
ivsize=8
nvtype='double'
nvsize=8
Off_t='long long'
lseeksize=8
alignbytes=8
prototype=define
Linker and Libraries:
ld='g++'
ldflags ='-s -L"C:\STRAWB~1\perl\lib\CORE" -L"C:\STRAWB~1\c\lib"'
libpth=C:\STRAWB~1\c\lib C:\STRAWB~1\c\x86_64-w64-mingw32\lib C:\STRAWB~1\c\lib\gcc\x86_64-w64-mingw32\7.1.0
libs= -lmoldname -lkernel32 -luser32 -lgdi32 -lwinspool -lcomdlg32 -ladvapi32 -lshell32 -lole32 -loleaut32 -lnetapi32 -luuid -lws2_32 -lmpr -lwinmm -lversion -lodbc32 -lodbccp32 -lcomctl32
perllibs= -lmoldname -lkernel32 -luser32 -lgdi32 -lwinspool -lcomdlg32 -ladvapi32 -lshell32 -lole32 -loleaut32 -lnetapi32 -luuid -lws2_32 -lmpr -lwinmm -lversion -lodbc32 -lodbccp32 -lcomctl32
libc=
so=dll
useshrplib=true
libperl=libperl528.a
gnulibc_version=''
Dynamic Linking:
dlsrc=dl_win32.xs
dlext=xs.dll
d_dlsymun=undef
ccdlflags=' '
cccdlflags=' '
lddlflags='-mdll -s -L"C:\STRAWB~1\perl\lib\CORE" -L"C:\STRAWB~1\c\lib"'
Characteristics of this binary (from libperl):
Compile-time options:
HAS_TIMES
HAVE_INTERP_INTERN
MULTIPLICITY
PERLIO_LAYERS
PERL_COPY_ON_WRITE
PERL_DONT_CREATE_GVSV
PERL_IMPLICIT_CONTEXT
PERL_IMPLICIT_SYS
PERL_MALLOC_WRAP
PERL_OP_PARENT
PERL_PRESERVE_IVUV
USE_64_BIT_INT
USE_ITHREADS
USE_LARGE_FILES
USE_LOCALE
USE_LOCALE_COLLATE
USE_LOCALE_CTYPE
USE_LOCALE_NUMERIC
USE_LOCALE_TIME
USE_PERLIO
USE_PERL_ATOF
Built under MSWin32
Compiled at May 1 2019 21:42:15
%ENV:
PERL5_CPANPLUS_IS_RUNNING="4452"
PERL5_CPAN_IS_RUNNING="4452"
PERL5_CPAN_IS_RUNNING_IN_RECURSION="5460,4452"
PERL_CR_SMOKER_CURRENT="Dist-Zilla-PluginBundle-Author-GTERMARS-0.06"
PERL_EXTUTILS_AUTOINSTALL="--defaultdeps"
PERL_MM_USE_DEFAULT="1"
PERL_USE_UNSAFE_INC="1"
@INC:
C:/Strawberry/perl/site/lib
C:/Strawberry/perl/vendor/lib
C:/Strawberry/perl/lib
.