Back
From: metabase:user:320bfe00-2aae-11df-837a-5e0a49663a4f
Subject: PASS Regexp-Common-2016052901 v5.22.2 GNU/Linux
Date: 2016-05-29T22:42:47Z
This distribution has been tested as part of the CPAN Testers
project, supporting the Perl programming language. See
http://wiki.cpantesters.org/ for more information or email
questions to cpan-testers-discuss@perl.org
--
Dear Abigail,
This is a computer-generated report for Regexp-Common-2016052901
on perl 5.22.2, created by CPAN-Reporter-1.2017.
Thank you for uploading your work to CPAN. Congratulations!
All tests were successful.
Sections of this report:
* Tester comments
* Program output
* Prerequisites
* Environment and other context
------------------------------
TESTER COMMENTS
------------------------------
Additional comments from tester:
this report is from an automated smoke testing program
and was not reviewed by a human for accuracy
------------------------------
PROGRAM OUTPUT
------------------------------
Output from '/usr/bin/make test':
PERL_DL_NONLAZY=1 "/home/sand/src/perl/repoperls/installed-perls/perl/v5.22.2/f7bf/bin/perl" "-MExtUtils::Command::MM" "-MTest::Harness" "-e" "undef *Test::Harness::Switches; test_harness(0, 'blib/lib', 'blib/arch')" t/*.t t/*/*.t
t/comment/delimited.t .................. ok
t/comment/html.t ....................... ok
t/comment/nested.t ..................... ok
t/comment/pascal.t ..................... ok
t/comment/single_line.t ................ ok
t/comment/single_or_multiline.t ........ ok
t/delimited/101_delimited.t ............ ok
t/delimited/111_bquoted.t .............. ok
t/net/101_ipv4.t ....................... ok
t/net/102_ipv4_strict.t ................ ok
t/net/111_ipv6.t ....................... ok
t/net/121_mac.t ........................ ok
t/net/131_domain.t ..................... ok
t/number/101_integer.t ................. ok
t/number/111_integer_base.t ............ ok
t/number/121_integer_places.t .......... ok
t/number/122_integer_places.t .......... ok
t/number/123_integer_places.t .......... ok
t/number/131_integer_sep.t ............. ok
t/number/141_integer_group.t ........... ok
t/number/801_roman.t ................... ok
t/number/decimal.t ..................... ok
t/number/number.t ...................... ok
t/SEN/usa_ssn.t ........................ ok
t/test___luhn.t ........................ ok
t/test_balanced.t ...................... ok
t/test_bases.t ......................... ok
t/test_bases_sep.t ..................... ok
t/test_comments.t ...................... ok
t/test_curry.t ......................... ok
t/test_i.t ............................. ok
t/test_keep.t .......................... ok
t/test_lingua_palindrome.t ............. ok
t/test_list.t .......................... ok
t/test_no_import.t ..................... ok
t/test_profanity.t ..................... ok
t/test_squares.t ....................... ok
t/test_sub.t ........................... ok
t/test_sub_named.t ..................... ok
t/test_ws.t ............................ ok
t/URI/any.t ............................ ok
t/URI/fax.t ............................ ok
t/URI/file.t ........................... ok
t/URI/ftp.t ............................ ok
t/URI/gopher.t ......................... ok
t/URI/http.t ........................... ok
t/URI/news.t ........................... ok
t/URI/nntp.t ........................... ok
t/URI/pop.t ............................ ok
t/URI/prospero.t ....................... ok
t/URI/tel.t ............................ ok
t/URI/telnet.t ......................... ok
t/URI/tv.t ............................. ok
t/URI/wais.t ........................... ok
t/zip/australia.t ...................... ok
t/zip/belgium.t ........................ ok
t/zip/denmark.t ........................ ok
t/zip/france.t ......................... ok
t/zip/germany.t ........................ ok
t/zip/greenland.t ...................... ok
t/zip/italy.t .......................... ok
t/zip/netherlands.t .................... ok
t/zip/norway.t ......................... ok
t/zip/spain.t .......................... ok
t/zip/us.t ............................. ok
t/zip/zip.t ............................ ok
t/zzz_author_tests/101_pod.t ........... skipped: AUTHOR test
t/zzz_author_tests/102_pod_coverage.t .. skipped: AUTHOR test
t/zzz_author_tests/120_versions.t ...... skipped: AUTHOR test
t/zzz_author_tests/130_permissions.t ... skipped: AUTHOR test
t/zzz_author_tests/140_git.t ........... skipped: AUTHOR test
All tests successful.
Files=71, Tests=392978, 78 wallclock secs (25.31 usr 2.13 sys + 53.97 cusr 2.51 csys = 83.92 CPU)
Result: PASS
------------------------------
PREREQUISITES
------------------------------
Prerequisite modules loaded:
requires:
Module Need Have
------------------- ------- --------
perl 5.00473 5.022002
strict 0 1.09
vars 0 1.03
build_requires:
Module Need Have
------------------- ------- --------
ExtUtils::MakeMaker 0 7.18
configure_requires:
Module Need Have
------------------- ------- --------
ExtUtils::MakeMaker 0 7.18
strict 0 1.09
------------------------------
ENVIRONMENT AND OTHER CONTEXT
------------------------------
Environment variables:
AUTOMATED_TESTING = 1
LANG = en_US.UTF-8
LANGUAGE = en_US:en
PATH = /usr/lib/ccache:/home/sand/bin:/usr/local/bin:/usr/bin:/bin:/usr/games:/usr/local/perl/bin:/usr/X11/bin:/sbin:/usr/sbin
PERL5LIB =
PERL5OPT =
PERL5_CPANPLUS_IS_RUNNING = 18306
PERL5_CPAN_IS_RUNNING = 18306
PERL_CANARY_STABILITY_NOPROMPT = 1
PERL_MM_USE_DEFAULT = 1
SHELL = /usr/bin/zsh
TERM = screen
Perl special variables (and OS-specific diagnostics, for MSWin32):
$^X = /home/sand/src/perl/repoperls/installed-perls/perl/v5.22.2/f7bf/bin/perl
$UID/$EUID = 1005 / 1005
$GID = 1005 1005
$EGID = 1005 1005
Perl module toolchain versions installed:
Module Have
------------------- --------
CPAN 2.13
CPAN::Meta 2.150005
Cwd 3.62
ExtUtils::CBuilder 0.280224
ExtUtils::Command 7.18
ExtUtils::Install 2.04
ExtUtils::MakeMaker 7.18
ExtUtils::Manifest 1.70
ExtUtils::ParseXS 3.28
File::Spec 3.62
JSON 2.90
JSON::PP 2.27300
Module::Build 0.4218
Module::Signature 0.79
Parse::CPAN::Meta 1.4417
Test::Harness 3.36
Test::More 1.302022
YAML 1.15
YAML::Syck 1.29
version 0.9916
--
Summary of my perl5 (revision 5 version 22 subversion 2) configuration:
Commit id: 9cbffb38735712e3a34e6f537892b6ef06fb815f
Platform:
osname=linux, osvers=4.3.0-1-amd64, archname=x86_64-linux-thread-multi
uname='linux k83 4.3.0-1-amd64 #1 smp debian 4.3.3-7 (2016-01-19) x86_64 gnulinux '
config_args='-Dprefix=/home/sand/src/perl/repoperls/installed-perls/perl/v5.22.2/f7bf -Dmyhostname=k83 -Dinstallusrbinperl=n -Uversiononly -Dusedevel -des -Ui_db -Dlibswanted=cl pthread socket inet nsl gdbm dbm malloc dl ld sun m crypt sec util c cposix posix ucb BSD gdbm_compat -Duseithreads -Uuselongdouble -DDEBUGGING=-g'
hint=recommended, useposix=true, d_sigaction=define
useithreads=define, usemultiplicity=define
use64bitint=define, use64bitall=define, uselongdouble=undef
usemymalloc=n, bincompat5005=undef
Compiler:
cc='cc', ccflags ='-D_REENTRANT -D_GNU_SOURCE -fwrapv -fno-strict-aliasing -pipe -fstack-protector-strong -I/usr/local/include -D_LARGEFILE_SOURCE -D_FILE_OFFSET_BITS=64 -D_FORTIFY_SOURCE=2',
optimize='-O2 -g',
cppflags='-D_REENTRANT -D_GNU_SOURCE -fwrapv -fno-strict-aliasing -pipe -fstack-protector-strong -I/usr/local/include'
ccversion='', gccversion='5.3.1 20160121', gccosandvers=''
intsize=4, longsize=8, ptrsize=8, doublesize=8, byteorder=12345678, doublekind=3
d_longlong=define, longlongsize=8, d_longdbl=define, longdblsize=16, longdblkind=3
ivtype='long', ivsize=8, nvtype='double', nvsize=8, Off_t='off_t', lseeksize=8
alignbytes=8, prototype=define
Linker and Libraries:
ld='cc', ldflags =' -fstack-protector-strong -L/usr/local/lib'
libpth=/usr/local/lib /usr/lib/gcc/x86_64-linux-gnu/5/include-fixed /usr/include/x86_64-linux-gnu /usr/lib /lib/x86_64-linux-gnu /lib/../lib /usr/lib/x86_64-linux-gnu /usr/lib/../lib /lib
libs=-lpthread -lnsl -lgdbm -ldl -lm -lcrypt -lutil -lc -lgdbm_compat
perllibs=-lpthread -lnsl -ldl -lm -lcrypt -lutil -lc
libc=libc-2.21.so, so=so, useshrplib=false, libperl=libperl.a
gnulibc_version='2.21'
Dynamic Linking:
dlsrc=dl_dlopen.xs, dlext=so, d_dlsymun=undef, ccdlflags='-Wl,-E'
cccdlflags='-fPIC', lddlflags='-shared -O2 -g -L/usr/local/lib -fstack-protector-strong'
Characteristics of this binary (from libperl):
Compile-time options: HAS_TIMES MULTIPLICITY PERLIO_LAYERS
PERL_DONT_CREATE_GVSV
PERL_HASH_FUNC_ONE_AT_A_TIME_HARD
PERL_IMPLICIT_CONTEXT PERL_MALLOC_WRAP
PERL_NEW_COPY_ON_WRITE PERL_PRESERVE_IVUV
PERL_USE_DEVEL USE_64_BIT_ALL USE_64_BIT_INT
USE_ITHREADS USE_LARGE_FILES USE_LOCALE
USE_LOCALE_COLLATE USE_LOCALE_CTYPE
USE_LOCALE_NUMERIC USE_LOCALE_TIME USE_PERLIO
USE_PERL_ATOF USE_REENTRANT_API
Built under linux
Compiled at Apr 30 2016 19:49:09
%ENV:
PERL5LIB=""
PERL5OPT=""
PERL5_CPANPLUS_IS_RUNNING="18306"
PERL5_CPAN_IS_RUNNING="18306"
PERL_CANARY_STABILITY_NOPROMPT="1"
PERL_MM_USE_DEFAULT="1"
@INC:
/home/sand/src/perl/repoperls/installed-perls/perl/v5.22.2/f7bf/lib/site_perl/5.22.2/x86_64-linux-thread-multi
/home/sand/src/perl/repoperls/installed-perls/perl/v5.22.2/f7bf/lib/site_perl/5.22.2
/home/sand/src/perl/repoperls/installed-perls/perl/v5.22.2/f7bf/lib/5.22.2/x86_64-linux-thread-multi
/home/sand/src/perl/repoperls/installed-perls/perl/v5.22.2/f7bf/lib/5.22.2
.