HTTP-Router v0.05 Perl 5 v5.43.3 OpenBSD.amd64-openbsd
- Status
- Pass
- From
- Carlos Guevara
- Dist
-
HTTP-Router v0.05
- Platform
- Perl 5 v5.43.3 OpenBSD.amd64-openbsd
- Date
- 2025-09-23 22:50:13
- ID
- aa45ba64-98cf-11f0-bbe6-f2d6b30fdb5e
This distribution has been tested as part of the CPAN Testers
project, supporting the Perl programming language. See
http://wiki.cpantesters.org/ for more information or email
questions to cpan-testers-discuss@perl.org
--
Dear NAKAGAWA Masaki,
This is a computer-generated report for HTTP-Router-0.05
on perl 5.43.3, created by CPAN-Reporter-1.2020.
Thank you for uploading your work to CPAN. Congratulations!
All tests were successful.
Sections of this report:
* Tester comments
* Program output
* Prerequisites
* Environment and other context
------------------------------
TESTER COMMENTS
------------------------------
Additional comments from tester:
this report is from an automated smoke testing program
and was not reviewed by a human for accuracy
------------------------------
PROGRAM OUTPUT
------------------------------
Output from '/usr/bin/make test':
PERL_DL_NONLAZY=1 "/home/cpan/bin/perl/bin/perl5.43.3" "-MExtUtils::Command::MM" "-MTest::Harness" "-e" "undef *Test::Harness::Switches; test_harness(0, 'inc', 'blib/lib', 'blib/arch')" t/*.t t/*/*.t
Possible precedence issue with control flow operator (return) at /home/cpan/.cpan/build/HTTP-Router-0.05-0/inc/Test/Builder.pm line 858.
t/00_compile.t .................. ok
Possible precedence issue with control flow operator (return) at /home/cpan/.cpan/build/HTTP-Router-0.05-0/inc/Test/Builder.pm line 858.
Redundant argument in sprintf at /home/cpan/.cpan/build/HTTP-Router-0.05-0/inc/Spiffy.pm line 225.
Redundant argument in sprintf at /home/cpan/.cpan/build/HTTP-Router-0.05-0/inc/Spiffy.pm line 225.
Redundant argument in sprintf at /home/cpan/.cpan/build/HTTP-Router-0.05-0/inc/Spiffy.pm line 225.
Redundant argument in sprintf at /home/cpan/.cpan/build/HTTP-Router-0.05-0/inc/Spiffy.pm line 225.
t/10_route/captures.t ........... ok
Possible precedence issue with control flow operator (return) at /home/cpan/.cpan/build/HTTP-Router-0.05-0/inc/Test/Builder.pm line 858.
Redundant argument in sprintf at /home/cpan/.cpan/build/HTTP-Router-0.05-0/inc/Spiffy.pm line 225.
Redundant argument in sprintf at /home/cpan/.cpan/build/HTTP-Router-0.05-0/inc/Spiffy.pm line 225.
Redundant argument in sprintf at /home/cpan/.cpan/build/HTTP-Router-0.05-0/inc/Spiffy.pm line 225.
Redundant argument in sprintf at /home/cpan/.cpan/build/HTTP-Router-0.05-0/inc/Spiffy.pm line 225.
t/10_route/conditions.t ......... ok
Possible precedence issue with control flow operator (return) at /home/cpan/.cpan/build/HTTP-Router-0.05-0/inc/Test/Builder.pm line 858.
Redundant argument in sprintf at /home/cpan/.cpan/build/HTTP-Router-0.05-0/inc/Spiffy.pm line 225.
Redundant argument in sprintf at /home/cpan/.cpan/build/HTTP-Router-0.05-0/inc/Spiffy.pm line 225.
Redundant argument in sprintf at /home/cpan/.cpan/build/HTTP-Router-0.05-0/inc/Spiffy.pm line 225.
Redundant argument in sprintf at /home/cpan/.cpan/build/HTTP-Router-0.05-0/inc/Spiffy.pm line 225.
t/10_route/match.t .............. ok
Possible precedence issue with control flow operator (return) at /home/cpan/.cpan/build/HTTP-Router-0.05-0/inc/Test/Builder.pm line 858.
Redundant argument in sprintf at /home/cpan/.cpan/build/HTTP-Router-0.05-0/inc/Spiffy.pm line 225.
Redundant argument in sprintf at /home/cpan/.cpan/build/HTTP-Router-0.05-0/inc/Spiffy.pm line 225.
Redundant argument in sprintf at /home/cpan/.cpan/build/HTTP-Router-0.05-0/inc/Spiffy.pm line 225.
Redundant argument in sprintf at /home/cpan/.cpan/build/HTTP-Router-0.05-0/inc/Spiffy.pm line 225.
t/10_route/uri_for.t ............ ok
Possible precedence issue with control flow operator (return) at /home/cpan/.cpan/build/HTTP-Router-0.05-0/inc/Test/Builder.pm line 858.
t/20_router/basic.t ............. ok
Possible precedence issue with control flow operator (return) at /home/cpan/.cpan/build/HTTP-Router-0.05-0/inc/Test/Builder.pm line 858.
t/20_router/capture.t ........... ok
Possible precedence issue with control flow operator (return) at /home/cpan/.cpan/build/HTTP-Router-0.05-0/inc/Test/Builder.pm line 858.
t/20_router/debug.t ............. ok
Possible precedence issue with control flow operator (return) at /home/cpan/.cpan/build/HTTP-Router-0.05-0/inc/Test/Builder.pm line 858.
t/20_router/freeze.t ............ ok
Possible precedence issue with control flow operator (return) at /home/cpan/.cpan/build/HTTP-Router-0.05-0/inc/Test/Builder.pm line 858.
t/20_router/reset.t ............. ok
Possible precedence issue with control flow operator (return) at /home/cpan/.cpan/build/HTTP-Router-0.05-0/inc/Test/Builder.pm line 858.
t/30_declare/match-block.t ...... ok
Possible precedence issue with control flow operator (return) at /home/cpan/.cpan/build/HTTP-Router-0.05-0/inc/Test/Builder.pm line 858.
t/30_declare/match.t ............ ok
Possible precedence issue with control flow operator (return) at /home/cpan/.cpan/build/HTTP-Router-0.05-0/inc/Test/Builder.pm line 858.
t/30_declare/resource-args.t .... ok
Possible precedence issue with control flow operator (return) at /home/cpan/.cpan/build/HTTP-Router-0.05-0/inc/Test/Builder.pm line 858.
t/30_declare/resource-block.t ... ok
Possible precedence issue with control flow operator (return) at /home/cpan/.cpan/build/HTTP-Router-0.05-0/inc/Test/Builder.pm line 858.
t/30_declare/resource.t ......... ok
Possible precedence issue with control flow operator (return) at /home/cpan/.cpan/build/HTTP-Router-0.05-0/inc/Test/Builder.pm line 858.
t/30_declare/resources-args.t ... ok
Possible precedence issue with control flow operator (return) at /home/cpan/.cpan/build/HTTP-Router-0.05-0/inc/Test/Builder.pm line 858.
t/30_declare/resources-block.t .. ok
Possible precedence issue with control flow operator (return) at /home/cpan/.cpan/build/HTTP-Router-0.05-0/inc/Test/Builder.pm line 858.
t/30_declare/resources.t ........ ok
Possible precedence issue with control flow operator (return) at /home/cpan/.cpan/build/HTTP-Router-0.05-0/inc/Test/Builder.pm line 858.
t/30_declare/with.t ............. ok
All tests successful.
Files=19, Tests=132, 2 wallclock secs ( 0.07 usr 0.06 sys + 1.21 cusr 0.21 csys = 1.55 CPU)
Result: PASS
------------------------------
PREREQUISITES
------------------------------
Prerequisite modules loaded:
requires:
Module Need Have
--------------------------- -------- ----------
Carp 0 1.54
Class::Accessor::Fast 0 0.51
Devel::Caller::Perl 0 1.4
Filter::Util::Call 0 1.65
Hash::AsObject 0 0.13
Lingua::EN::Inflect::Number 0 1.12
List::MoreUtils 0 0.430
perl 5.008001 5.043003
Scalar::Util 1.14 1.70
Storable 0 3.39
String::CamelCase 0 0.04
Text::SimpleTable 0 2.07
URI::Template::Restrict 0.05 0.06
build_requires:
Module Need Have
--------------------------- -------- ----------
ExtUtils::MakeMaker 6.42 7.76
Test::Deep 0 1.205
Test::MockObject 0 1.20200122
Test::More 0 1.302214
Test::UseAllModules 0 0.17
configure_requires:
Module Need Have
--------------------------- -------- ----------
ExtUtils::MakeMaker 6.42 7.76
------------------------------
ENVIRONMENT AND OTHER CONTEXT
------------------------------
Environment variables:
AUTOMATED_TESTING = 1
DATE_MANIP_TEST_DM5 = 1
LC_ALL = C
NONINTERACTIVE_TESTING = 1
NO_NETWORK_TESTING = 1
PATH = /home/cpan/bin/perl/bin:/home/cpan/bin:/home/cpan/bin:/bin:/sbin:/usr/bin:/usr/sbin:/usr/X11R6/bin:/usr/local/bin:/usr/local/sbin
PERL5LIB =
PERL5OPT =
PERL5_CPANPLUS_IS_RUNNING = 80492
PERL5_CPAN_IS_RUNNING = 80492
PERL_MM_USE_DEFAULT = 1
PERL_PERTURB_KEYS = 0
PERL_USE_UNSAFE_INC = 1
SHELL = /usr/local/bin/bash
TERM = screen
TMPDIR = /home/cpan/tmp
Perl special variables (and OS-specific diagnostics, for MSWin32):
$^X = /home/cpan/bin/perl/bin/perl5.43.3
$UID/$EUID = 1001 / 1001
$GID = 1001 1001
$EGID = 1001 1001
Perl module toolchain versions installed:
Module Have
------------------- --------
CPAN 2.38
CPAN::Meta 2.150010
Cwd 3.94
ExtUtils::CBuilder 0.280242
ExtUtils::Command 7.76
ExtUtils::Install 2.22
ExtUtils::MakeMaker 7.76
ExtUtils::Manifest 1.75
ExtUtils::ParseXS 3.60
File::Spec 3.94
JSON 4.10
JSON::PP 4.16
Module::Build 0.4234
Module::Signature n/a
Parse::CPAN::Meta 2.150010
Test2 1.302214
Test::Harness 3.52
Test::More 1.302214
YAML 1.31
YAML::Syck 1.34
version 0.9933
--
Summary of my perl5 (revision 5 version 43 subversion 3) configuration:
Commit id: 765f0a6432589bba058315e9d9c8b69f86161635
Platform:
osname=openbsd
osvers=7.7
archname=OpenBSD.amd64-openbsd
uname='openbsd cjg-openbsd7 7.7 generic#2 amd64 '
config_args='-des -Dprefix=/home/cpan/bin/perl -Dscriptdir=/home/cpan/bin/perl/bin -Dusedevel -Duse64bitall'
hint=recommended
useposix=true
d_sigaction=define
useithreads=undef
usemultiplicity=undef
use64bitint=define
use64bitall=define
uselongdouble=undef
usemymalloc=n
default_inc_excludes_dot=define
Compiler:
cc='cc'
ccflags ='-DNO_LOCALE_NUMERIC -DNO_LOCALE_COLLATE -DNO_LOCALE_MONETARY -DNO_LOCALE_TIME -DNO_LOCALE_MESSAGES -DLIBC_HANDLES_MISMATCHED_CTYPE -fno-strict-aliasing -pipe -fstack-protector-strong -I/usr/local/include'
optimize='-O2'
cppflags='-DNO_LOCALE_NUMERIC -DNO_LOCALE_COLLATE -DNO_LOCALE_MONETARY -DNO_LOCALE_TIME -DNO_LOCALE_MESSAGES -DLIBC_HANDLES_MISMATCHED_CTYPE -fno-strict-aliasing -pipe -fstack-protector-strong -I/usr/local/include'
ccversion=''
gccversion='OpenBSD Clang 16.0.6'
gccosandvers=''
intsize=4
longsize=8
ptrsize=8
doublesize=8
byteorder=12345678
doublekind=3
d_longlong=define
longlongsize=8
d_longdbl=define
longdblsize=16
longdblkind=3
ivtype='long'
ivsize=8
nvtype='double'
nvsize=8
Off_t='off_t'
lseeksize=8
alignbytes=8
prototype=define
Linker and Libraries:
ld='cc'
ldflags ='-Wl,-E -fstack-protector-strong -L/usr/local/lib'
libpth=/usr/lib/clang/16/lib /usr/lib /usr/local/lib
libs=-lpthread -lm -lutil -lc
perllibs=-lpthread -lm -lutil -lc
libc=/usr/lib/libc.so.100.3
so=so
useshrplib=false
libperl=libperl.a
gnulibc_version=''
Dynamic Linking:
dlsrc=dl_dlopen.xs
dlext=so
d_dlsymun=undef
ccdlflags=' '
cccdlflags='-DPIC -fPIC '
lddlflags='-shared -fPIC -L/usr/local/lib -fstack-protector-strong'
Characteristics of this binary (from libperl):
Compile-time options:
HAS_LONG_DOUBLE
HAS_STRTOLD
HAS_TIMES
PERLIO_LAYERS
PERL_COPY_ON_WRITE
PERL_DONT_CREATE_GVSV
PERL_HASH_FUNC_SIPHASH13
PERL_HASH_USE_SBOX32
PERL_MALLOC_WRAP
PERL_OP_PARENT
PERL_PRESERVE_IVUV
PERL_USE_DEVEL
PERL_USE_SAFE_PUTENV
USE_64_BIT_ALL
USE_64_BIT_INT
USE_LARGE_FILES
USE_LOCALE
USE_LOCALE_CTYPE
USE_PERLIO
USE_PERL_ATOF
Built under openbsd
Compiled at Sep 22 2025 22:19:41
%ENV:
PERL5LIB=""
PERL5OPT=""
PERL5_CPANPLUS_IS_RUNNING="80492"
PERL5_CPAN_IS_RUNNING="80492"
PERL_MM_USE_DEFAULT="1"
PERL_PERTURB_KEYS="0"
PERL_USE_UNSAFE_INC="1"
@INC:
/home/cpan/bin/perl/lib/site_perl/5.43.3/OpenBSD.amd64-openbsd
/home/cpan/bin/perl/lib/site_perl/5.43.3
/home/cpan/bin/perl/lib/5.43.3/OpenBSD.amd64-openbsd
/home/cpan/bin/perl/lib/5.43.3
.