Report for IO-Iron-0.11

Back
From: metabase:user:30ae4450-2aae-11df-837a-5e0a49663a4f
Subject: PASS IO-Iron-0.11 v5.18.1 GNU/Linux
Date: 2014-12-06T13:27:45Z

This distribution has been tested as part of the CPAN Testers
project, supporting the Perl programming language.  See
http://wiki.cpantesters.org/ for more information or email
questions to cpan-testers-discuss@perl.org


--
Dear Mikko Koivunalho,

This is a computer-generated report for IO-Iron-0.11
on perl 5.18.1, created by CPAN-Reporter-1.2010.

Thank you for uploading your work to CPAN.  Congratulations!
All tests were successful.

Sections of this report:

    * Tester comments
    * Program output
    * Prerequisites
    * Environment and other context

------------------------------
TESTER COMMENTS
------------------------------

Additional comments from tester:

this report is from an automated smoke testing program
and was not reviewed by a human for accuracy

------------------------------
PROGRAM OUTPUT
------------------------------

Output from '/usr/bin/make test':

PERL_DL_NONLAZY=1 /home/c/perl5/perlbrew/perls/18.1i/bin/perl "-MExtUtils::Command::MM" "-MTest::Harness" "-e" "undef *Test::Harness::Switches; test_harness(0, 'blib/lib', 'blib/arch')" t/Iron/*.t t/IronCache/*.t t/IronMQ/*.t t/IronWorker/*.t
# Testing IO::Iron::IronMQ 0.11, Perl 5.018001, /home/c/perl5/perlbrew/perls/18.1i/bin/perl
# test ReadIronMQConfig
# Current dir config filename: ./iron.json
# Extra config filename: t/.IronMQTestConfig.json
t/Iron/client_readconfig.t ... ok
# Testing IO::Iron 0.11, Perl 5.018001, /home/c/perl5/perlbrew/perls/18.1i/bin/perl
t/Iron/load.t ................ ok
# Testing IO::Iron::IronCache::Client with policies, Perl 5.018001, /home/c/perl5/perlbrew/perls/18.1i/bin/perl
t/IronCache/cache_policy.t ... ok
# Testing IO::Iron::IronCache::Client with policies, Perl 5.018001, /home/c/perl5/perlbrew/perls/18.1i/bin/perl
t/IronCache/cache_policy2.t .. ok
# Testing IO::Iron::IronCache, Perl 5.018001, /home/c/perl5/perlbrew/perls/18.1i/bin/perl
t/IronCache/load.t ........... ok
# Testing IO::Iron::IronMQ 0.11, Perl 5.018001, /home/c/perl5/perlbrew/perls/18.1i/bin/perl
t/IronMQ/load.t .............. ok
# Testing IO::Iron::IronWorker 0.11, Perl 5.018001, /home/c/perl5/perlbrew/perls/18.1i/bin/perl
t/IronWorker/load.t .......... ok
All tests successful.
Files=7, Tests=92,  2 wallclock secs ( 0.05 usr  0.02 sys +  0.73 cusr  0.13 csys =  0.93 CPU)
Result: PASS

------------------------------
PREREQUISITES
------------------------------

Prerequisite modules loaded:

requires:

    Module             Need Have    
    ------------------ ---- --------
    Carp               0    1.29    
    Carp::Assert       0    0.20    
    Carp::Assert::More 0    1.14    
    constant           0    1.27    
    Data::Dumper       0    2.145   
    Data::UUID         0    1.219   
    English            0    1.06    
    Exception::Class   0    1.37    
    Exporter           0    5.68    
    File::HomeDir      0    1.00    
    File::Slurp        0    9999.19 
    File::Spec         0    3.40    
    Hash::Util         0.06 0.16    
    JSON::MaybeXS      0    1.001000
    Log::Any           0    0.15    
    Params::Validate   0    1.08    
    parent             0    0.225   
    REST::Client       0    272     
    Scalar::Util       0    1.35    
    strict             0    1.07    
    Try::Tiny          0    0.18    
    URI::Escape        0    3.31    
    warnings           0    1.18    

build_requires:

    Module             Need Have    
    ------------------ ---- --------
    File::Copy         0    2.26    
    File::Remove       0    1.52    
    lib                0    0.63    
    Log::Any::Test     0    0.15    
    Test::Exception    0    0.32    
    Test::More         0    1.001002


------------------------------
ENVIRONMENT AND OTHER CONTEXT
------------------------------

Environment variables:

    AUTOMATED_TESTING = 1
    LANG = ru_RU.utf8
    PATH = /home/c/perl5/perlbrew/bin:/home/c/perl5/perlbrew/perls/18.1i/bin:/usr/local/bin:/usr/bin:/bin:/usr/local/games:/usr/games
    PERL5LIB = /home/c/.cpan/build/REST-Client-272-AIlPWO/blib/arch:/home/c/.cpan/build/REST-Client-272-AIlPWO/blib/lib
    PERL5OPT = 
    PERL5_CPANPLUS_IS_RUNNING = 9622
    PERL5_CPAN_IS_RUNNING = 9622
    PERL5_CPAN_IS_RUNNING_IN_RECURSION = 4535,9622
    PERLBREW_MANPATH = /home/c/perl5/perlbrew/perls/18.1i/man
    PERLBREW_PATH = /home/c/perl5/perlbrew/bin:/home/c/perl5/perlbrew/perls/18.1i/bin
    PERLBREW_PERL = 18.1i
    PERLBREW_ROOT = /home/c/perl5/perlbrew
    PERLBREW_SKIP_INIT = 1
    PERLBREW_VERSION = 0.67
    PERL_CR_SMOKER_CURRENT = IO-Iron-0.11
    PERL_EXTUTILS_AUTOINSTALL = --defaultdeps
    PERL_MM_USE_DEFAULT = 1
    SHELL = /bin/bash
    TERM = xterm

Perl special variables (and OS-specific diagnostics, for MSWin32):

    $^X = /home/c/perl5/perlbrew/perls/18.1i/bin/perl
    $UID/$EUID = 1000 / 1000
    $GID = 1000 24 25 29 30 44 46 103 105 108 110 1000
    $EGID = 1000 24 25 29 30 44 46 103 105 108 110 1000

Perl module toolchain versions installed:

    Module              Have    
    ------------------- --------
    CPAN                2.00    
    CPAN::Meta          2.133380
    Cwd                 3.40    
    ExtUtils::CBuilder  0.280210
    ExtUtils::Command   1.17    
    ExtUtils::Install   1.59    
    ExtUtils::MakeMaker 6.86    
    ExtUtils::Manifest  1.63    
    ExtUtils::ParseXS   3.22    
    File::Spec          3.40    
    JSON                2.90    
    JSON::PP            2.27203 
    Module::Build       0.4204  
    Module::Signature   n/a     
    Parse::CPAN::Meta   1.4405  
    Test::Harness       3.30    
    Test::More          1.001002
    YAML                0.88    
    YAML::Syck          1.27    
    version             0.9907  


--

Summary of my perl5 (revision 5 version 18 subversion 1) configuration:
   
  Platform:
    osname=linux, osvers=3.2.0-4-486, archname=i686-linux-thread-multi
    uname='linux deb7 3.2.0-4-486 #1 debian 3.2.51-1 i686 gnulinux '
    config_args='-de -Dprefix=/home/c/perl5/perlbrew/perls/18.1i -Dusethreads -Aeval:scriptdir=/home/c/perl5/perlbrew/perls/18.1i/bin'
    hint=recommended, useposix=true, d_sigaction=define
    useithreads=define, usemultiplicity=define
    useperlio=define, d_sfio=undef, uselargefiles=define, usesocks=undef
    use64bitint=undef, use64bitall=undef, uselongdouble=undef
    usemymalloc=n, bincompat5005=undef
  Compiler:
    cc='cc', ccflags ='-D_REENTRANT -D_GNU_SOURCE -fno-strict-aliasing -pipe -fstack-protector -I/usr/local/include -D_LARGEFILE_SOURCE -D_FILE_OFFSET_BITS=64',
    optimize='-O2',
    cppflags='-D_REENTRANT -D_GNU_SOURCE -fno-strict-aliasing -pipe -fstack-protector -I/usr/local/include'
    ccversion='', gccversion='4.7.2', gccosandvers=''
    intsize=4, longsize=4, ptrsize=4, doublesize=8, byteorder=1234
    d_longlong=define, longlongsize=8, d_longdbl=define, longdblsize=12
    ivtype='long', ivsize=4, nvtype='double', nvsize=8, Off_t='off_t', lseeksize=8
    alignbytes=4, prototype=define
  Linker and Libraries:
    ld='cc', ldflags =' -fstack-protector -L/usr/local/lib'
    libpth=/usr/local/lib /lib/i386-linux-gnu /lib/../lib /usr/lib/i386-linux-gnu /usr/lib/../lib /lib /usr/lib
    libs=-lnsl -lgdbm -ldb -ldl -lm -lcrypt -lutil -lpthread -lc -lgdbm_compat
    perllibs=-lnsl -ldl -lm -lcrypt -lutil -lpthread -lc
    libc=, so=so, useshrplib=false, libperl=libperl.a
    gnulibc_version='2.13'
  Dynamic Linking:
    dlsrc=dl_dlopen.xs, dlext=so, d_dlsymun=undef, ccdlflags='-Wl,-E'
    cccdlflags='-fPIC', lddlflags='-shared -O2 -L/usr/local/lib -fstack-protector'


Characteristics of this binary (from libperl): 
  Compile-time options: HAS_TIMES MULTIPLICITY PERLIO_LAYERS
                        PERL_DONT_CREATE_GVSV
                        PERL_HASH_FUNC_ONE_AT_A_TIME_HARD
                        PERL_IMPLICIT_CONTEXT PERL_MALLOC_WRAP
                        PERL_PRESERVE_IVUV PERL_SAWAMPERSAND USE_ITHREADS
                        USE_LARGE_FILES USE_LOCALE USE_LOCALE_COLLATE
                        USE_LOCALE_CTYPE USE_LOCALE_NUMERIC USE_PERLIO
                        USE_PERL_ATOF USE_REENTRANT_API
  Built under linux
  Compiled at Jan 14 2014 14:37:40
  %ENV:
    PERL5LIB="/home/c/.cpan/build/REST-Client-272-AIlPWO/blib/arch:/home/c/.cpan/build/REST-Client-272-AIlPWO/blib/lib"
    PERL5OPT=""
    PERL5_CPANPLUS_IS_RUNNING="9622"
    PERL5_CPAN_IS_RUNNING="9622"
    PERL5_CPAN_IS_RUNNING_IN_RECURSION="4535,9622"
    PERLBREW_MANPATH="/home/c/perl5/perlbrew/perls/18.1i/man"
    PERLBREW_PATH="/home/c/perl5/perlbrew/bin:/home/c/perl5/perlbrew/perls/18.1i/bin"
    PERLBREW_PERL="18.1i"
    PERLBREW_ROOT="/home/c/perl5/perlbrew"
    PERLBREW_SKIP_INIT="1"
    PERLBREW_VERSION="0.67"
    PERL_CR_SMOKER_CURRENT="IO-Iron-0.11"
    PERL_EXTUTILS_AUTOINSTALL="--defaultdeps"
    PERL_MM_USE_DEFAULT="1"
  @INC:
    /home/c/.cpan/build/REST-Client-272-AIlPWO/blib/arch
    /home/c/.cpan/build/REST-Client-272-AIlPWO/blib/lib
    /home/c/perl5/perlbrew/perls/18.1i/lib/site_perl/5.18.1/i686-linux-thread-multi
    /home/c/perl5/perlbrew/perls/18.1i/lib/site_perl/5.18.1
    /home/c/perl5/perlbrew/perls/18.1i/lib/5.18.1/i686-linux-thread-multi
    /home/c/perl5/perlbrew/perls/18.1i/lib/5.18.1
    .