Report for Path-FindDev-0.5.0

Back
From: metabase:user:8286d1fc-3d52-11e2-9ec4-cb9cdd236785
Subject: PASS Path-FindDev-0.5.0 v5.10.1 GNU/Linux
Date: 2014-03-28T07:43:33Z

This distribution has been tested as part of the CPAN Testers
project, supporting the Perl programming language.  See
http://wiki.cpantesters.org/ for more information or email
questions to cpan-testers-discuss@perl.org


--
Dear Kent Fredric,

This is a computer-generated report for Path-FindDev-0.5.0
on perl 5.10.1, created by CPAN-Reporter-1.2010.

Thank you for uploading your work to CPAN.  Congratulations!
All tests were successful.

Sections of this report:

    * Tester comments
    * Program output
    * Prerequisites
    * Environment and other context

------------------------------
TESTER COMMENTS
------------------------------

Additional comments from tester:

none provided

------------------------------
PROGRAM OUTPUT
------------------------------

Output from '/usr/local/bin/make test':

PERL_DL_NONLAZY=1 /opt/perl443-26-5.10.1/bin/perl "-MExtUtils::Command::MM" "-MTest::Harness" "-e" "undef *Test::Harness::Switches; test_harness(0, 'blib/lib', 'blib/arch')" t/*.t t/00-compile/*.t
t/00-compile/lib_Path_FindDev_Object_pm.t .. ok
t/00-compile/lib_Path_FindDev_pm.t ......... ok
# 
# Versions for all modules listed in MYMETA.json (including optional ones):
#    Version Module                  
#   -------- ------------------------
#   2.140640 CPAN::Meta              
#      2.125 CPAN::Meta::Requirements
#       1.33 Carp                    
#      0.010 Class::Tiny             
#       6.94 ExtUtils::MakeMaker     
#       3.40 File::Spec::Functions   
#       1.50 FindBin                 
#       1.38 List::Util              
#      0.3.1 Path::IsDev             
#      0.3.1 Path::IsDev::Object     
#      0.038 Path::Tiny              
#       1.38 Scalar::Util            
#      0.986 Sub::Exporter           
#   1.001003 Test::More              
#       1.04 strict                  
#       1.07 utf8                    
#     0.9908 version                 
#       1.06 warnings                
t/00-report-prereqs.t ...................... ok
# System path sanity check skipped due to potential security risks, set ENV{SYSTEM_PATH_TEST} if you wish to run this test
t/basic.t .................................. ok
All tests successful.
Files=4, Tests=5,  2 wallclock secs ( 0.10 usr  0.03 sys +  1.73 cusr  0.13 csys =  1.99 CPU)
Result: PASS

------------------------------
PREREQUISITES
------------------------------

Prerequisite modules loaded:

requires:

    Module                Need   Have    
    --------------------- ------ --------
    Carp                  0      1.33    
    Class::Tiny           0.010  0.010   
    Path::IsDev           v0.2.2 0.3.1   
    Path::IsDev::Object   0      0.3.1   
    Path::Tiny            0.038  0.038   
    Scalar::Util          0      1.38    
    strict                0      1.04    
    Sub::Exporter         0      0.986   
    utf8                  0      1.07    
    warnings              0      1.06    

build_requires:

    Module                Need   Have    
    --------------------- ------ --------
    ExtUtils::MakeMaker   0      6.94    
    File::Spec::Functions 0      3.40    
    FindBin               0      1.50    
    List::Util            0      1.38    
    Test::More            0.89   1.001003
    version               0      0.9908  

configure_requires:

    Module                Need   Have    
    --------------------- ------ --------
    ExtUtils::MakeMaker   6.30   6.94    


------------------------------
ENVIRONMENT AND OTHER CONTEXT
------------------------------

Environment variables:

    LANG = en_US.UTF-8
    LD_LIBRARY_PATH = /usr/local/lib
    PATH = /usr/lib/qt-3.3/bin:/usr/kerberos/sbin:/usr/kerberos/bin:/usr/lib/ccache:/usr/local/sbin:/usr/local/bin:/sbin:/bin:/usr/sbin:/usr/bin:/usr/X11R6/bin:/usr/lib/alliance/bin:/opt/real/RealPlayer:/root/bin:/usr/lib/alliance/bin:/opt/real/RealPlayer
    PERL5LIB = /root/.cpan/build/AnyEvent-7.07-oTFmFc/blib/arch:/root/.cpan/build/AnyEvent-7.07-oTFmFc/blib/lib
    PERL5OPT = 
    PERL5_CPANPLUS_IS_RUNNING = 12628
    PERL5_CPAN_IS_RUNNING = 12628
    PERL_ANYEVENT_LOOP_TESTS = 1
    SHELL = /bin/bash
    TERM = xterm

Perl special variables (and OS-specific diagnostics, for MSWin32):

    $^X = /opt/perl443-26-5.10.1/bin/perl
    $UID/$EUID = 0 / 0
    $GID = 0 0 1 2 3 4 6 10
    $EGID = 0 0 1 2 3 4 6 10

Perl module toolchain versions installed:

    Module              Have    
    ------------------- --------
    CPAN                2.00    
    CPAN::Meta          2.140640
    Cwd                 3.40    
    ExtUtils::CBuilder  0.280216
    ExtUtils::Command   1.18    
    ExtUtils::Install   1.63    
    ExtUtils::MakeMaker 6.94    
    ExtUtils::Manifest  1.63    
    ExtUtils::ParseXS   3.24    
    File::Spec          3.40    
    JSON                2.59    
    JSON::PP            2.27203 
    Module::Build       0.4205  
    Module::Signature   0.73    
    Parse::CPAN::Meta   1.4414  
    Test::Harness       3.30    
    Test::More          1.001003
    YAML                0.84    
    YAML::Syck          1.27    
    version             0.9908  


--

Summary of my perl5 (revision 5 version 10 subversion 1) configuration:
   
  Platform:
    osname=linux, osvers=2.6.26-gogol.1, archname=i686-linux-thread-multi-64int-ld
    uname='linux localhost.localdomain 2.6.26-gogol.1 #1 smp fri dec 25 22:04:40 msk 2009 i686 i686 i386 gnulinux '
    config_args='-Dcc=/opt/443/bin/gcc/bin/gcc -Doptimize=-g -DDMALLOC=/usr/local/bin/dmalloc -Dprefix=/opt/perl443-26-5.10.1 -DDEBUGGING'
    hint=recommended, useposix=true, d_sigaction=define
    useithreads=define, usemultiplicity=define
    useperlio=define, d_sfio=undef, uselargefiles=define, usesocks=undef
    use64bitint=define, use64bitall=undef, uselongdouble=define
    usemymalloc=n, bincompat5005=undef
  Compiler:
    cc='/opt/443/bin/gcc/bin/gcc', ccflags ='-DDMALLOC -D_LARGEFILE_SOURCE -D_FILE_OFFSET_BITS=64',
    optimize='-g',
    cppflags='-DDMALLOC'
    ccversion='', gccversion='4.4.3', gccosandvers=''
    intsize=4, longsize=4, ptrsize=4, doublesize=8, byteorder=12345678
    d_longlong=define, longlongsize=8, d_longdbl=define, longdblsize=12
    ivtype='long long', ivsize=8, nvtype='long double', nvsize=12, Off_t='off_t', lseeksize=8
    alignbytes=4, prototype=define
  Linker and Libraries:
    ld='/opt/443/bin/gcc/bin/gcc', ldflags =' -L/usr/local/lib'
    libpth=/usr/local/lib /lib /usr/lib
    libs=-lnsl -lgdbm -ldb -ldl -lm -lcrypt -lutil -lpthread -lc
    perllibs=-lnsl -ldl -lm -lcrypt -lutil -lpthread -lc
    libc=/lib/libc-2.5.so, so=so, useshrplib=true, libperl=libperl.so
    gnulibc_version='2.5'
  Dynamic Linking:
    dlsrc=dl_dlopen.xs, dlext=so, d_dlsymun=undef, ccdlflags='-Wl,-E -Wl,-rpath,/opt/perl443-26-5.10.1/lib/5.10.1/i686-linux-thread-multi-64int-ld/CORE'
    cccdlflags='-fPIC', lddlflags='-shared -g -L/usr/local/lib'


Characteristics of this binary (from libperl): 
  Compile-time options: MULTIPLICITY PERL_DONT_CREATE_GVSV
                        PERL_IMPLICIT_CONTEXT PERL_MAD PERL_MALLOC_WRAP
                        USE_64_BIT_INT USE_FAST_STDIO USE_ITHREADS
                        USE_LARGE_FILES USE_LONG_DOUBLE USE_PERLIO
                        USE_REENTRANT_API
  Built under linux
  Compiled at Sep 18 2013 12:08:58
  %ENV:
    PERL5LIB="/root/.cpan/build/AnyEvent-7.07-oTFmFc/blib/arch:/root/.cpan/build/AnyEvent-7.07-oTFmFc/blib/lib"
    PERL5OPT=""
    PERL5_CPANPLUS_IS_RUNNING="12628"
    PERL5_CPAN_IS_RUNNING="12628"
    PERL_ANYEVENT_LOOP_TESTS="1"
  @INC:
    /root/.cpan/build/AnyEvent-7.07-oTFmFc/blib/arch
    /root/.cpan/build/AnyEvent-7.07-oTFmFc/blib/lib
    /opt/perl443-26-5.10.1/lib/5.10.1/i686-linux-thread-multi-64int-ld
    /opt/perl443-26-5.10.1/lib/5.10.1
    /opt/perl443-26-5.10.1/lib/site_perl/5.10.1/i686-linux-thread-multi-64int-ld
    /opt/perl443-26-5.10.1/lib/site_perl/5.10.1
    .