CGI-Cache v1.4207 Perl 5 v5.28.0 amd64-freebsd

Status
Pass
From
Michele Beltrame
Dist
CGI-Cache v1.4207
Platform
Perl 5 v5.28.0 amd64-freebsd
Date
2018-06-29 14:35:26
ID
aa05585c-7ba9-11e8-aae4-c12c2e4d8488
This distribution has been tested as part of the CPAN Testers
project, supporting the Perl programming language.  See
http://wiki.cpantesters.org/ for more information or email
questions to cpan-testers-discuss@perl.org


--
Dear David Coppit,

This is a computer-generated report for CGI-Cache-1.4207
on perl 5.28.0, created by CPAN-Reporter-1.2018.

Thank you for uploading your work to CPAN.  Congratulations!
All tests were successful.

Sections of this report:

    * Tester comments
    * Program output
    * Prerequisites
    * Environment and other context

------------------------------
TESTER COMMENTS
------------------------------

Additional comments from tester:

none provided

------------------------------
PROGRAM OUTPUT
------------------------------

Output from '/usr/bin/make test':

PERL_DL_NONLAZY=1 "/usr/home/italpro/perl5/perlbrew/perls/perl-5.28.0/bin/perl" "-MExtUtils::Command::MM" "-MTest::Harness" "-e" "undef *Test::Harness::Switches; test_harness(0, 'inc', 'blib/lib', 'blib/arch')" t/*.t
t/000_standard__compile.t ....... ok
t/000_standard__perl_critic.t ... skipped: Author test. Set $ENV{TEST_AUTHOR} to a true value to run.
t/000_standard__pod.t ........... ok
t/000_standard__pod_coverage.t .. ok
t/basic.t ....................... ok
t/buffer.t ...................... ok
t/cgi_carp.t .................... ok
t/disabled_ouput.t .............. ok
t/invalidate_cache_entry.t ...... ok
t/non-caching.t ................. ok
t/pause_continue.t .............. ok
t/stop.t ........................ ok
t/user_specified_filehandle.t ... ok
All tests successful.
Files=13, Tests=69, 14 wallclock secs ( 0.05 usr  0.05 sys +  4.04 cusr  0.97 csys =  5.11 CPU)
Result: PASS

------------------------------
PREREQUISITES
------------------------------

Prerequisite modules loaded:

requires:

    Module              Need  Have    
    ------------------- ----- --------
    Cache::Cache        0     1.08    
    File::Path          0     2.15    
    File::Spec          0     3.74    
    perl                5.005 5.028000
    Storable            0     3.08    
    Tie::Restore        0     0.11    

build_requires:

    Module              Need  Have    
    ------------------- ----- --------
    Error               0     0.17026 
    ExtUtils::MakeMaker 6.36  7.34    
    File::Slurp         0     9999.19 
    Test::Compile       0     v1.3.0  
    Test::More          0     1.302133
    UNIVERSAL::require  0     0.18    
    URI::Escape         0     3.31    

configure_requires:

    Module              Need  Have    
    ------------------- ----- --------
    ExtUtils::MakeMaker 6.36  7.34    
    URI::Escape         0     3.31    


------------------------------
ENVIRONMENT AND OTHER CONTEXT
------------------------------

Environment variables:

    LANG = en_US.UTF-8
    LC_ALL = en_US.UTF-8
    NONINTERACTIVE_TESTING = 1
    PATH = /usr/home/italpro/perl5/perlbrew/bin:/usr/home/italpro/perl5/perlbrew/perls/perl-5.28.0/bin:/home/italpro/bin:/home/italpro/p5101/bin:/sbin:/bin:/usr/sbin:/usr/bin:/usr/games:/usr/local/sbin:/usr/local/bin:/usr/home/italpro/bin
    PERL5LIB = 
    PERL5OPT = 
    PERL5_CPANPLUS_IS_RUNNING = 36996
    PERL5_CPAN_IS_RUNNING = 36996
    PERLBREW_HOME = /usr/home/italpro/.perlbrew
    PERLBREW_MANPATH = /usr/home/italpro/perl5/perlbrew/perls/perl-5.28.0/man
    PERLBREW_PATH = /usr/home/italpro/perl5/perlbrew/bin:/usr/home/italpro/perl5/perlbrew/perls/perl-5.28.0/bin
    PERLBREW_PERL = perl-5.28.0
    PERLBREW_ROOT = /usr/home/italpro/perl5/perlbrew
    PERLBREW_SHELLRC_VERSION = 0.84
    PERLBREW_VERSION = 0.84
    PERL_MM_USE_DEFAULT = 1
    PERL_USE_UNSAFE_INC = 1
    SHELL = /usr/local/bin/bash
    TERM = xterm-256color

Perl special variables (and OS-specific diagnostics, for MSWin32):

    $^X = /usr/home/italpro/perl5/perlbrew/perls/perl-5.28.0/bin/perl
    $UID/$EUID = 3001 / 3001
    $GID = 1000 1000 861
    $EGID = 1000 1000 861

Perl module toolchain versions installed:

    Module              Have    
    ------------------- --------
    CPAN                2.20    
    CPAN::Meta          2.150010
    Cwd                 3.74    
    ExtUtils::CBuilder  0.280230
    ExtUtils::Command   7.34    
    ExtUtils::Install   2.14    
    ExtUtils::MakeMaker 7.34    
    ExtUtils::Manifest  1.70    
    ExtUtils::ParseXS   3.39    
    File::Spec          3.74    
    JSON                2.97001 
    JSON::PP            2.97001 
    Module::Build       0.4224  
    Module::Signature   n/a     
    Parse::CPAN::Meta   2.150010
    Test::Harness       3.42    
    Test::More          1.302133
    YAML                n/a     
    YAML::Syck          n/a     
    version             0.9923  


--

Summary of my perl5 (revision 5 version 28 subversion 0) configuration:
   
  Platform:
    osname=freebsd
    osvers=10.4-release-p9
    archname=amd64-freebsd
    uname='freebsd qs3470.pair.com 10.4-release-p9 freebsd 10.4-release-p9 #1: fri may 18 12:54:27 edt 2018 erik5@bsdtena.pair.net:usrobjusrsrcsys10pairu-amd64 amd64 '
    config_args='-de -Dprefix=/usr/home/italpro/perl5/perlbrew/perls/perl-5.28.0 -Aeval:scriptdir=/usr/home/italpro/perl5/perlbrew/perls/perl-5.28.0/bin'
    hint=recommended
    useposix=true
    d_sigaction=define
    useithreads=undef
    usemultiplicity=undef
    use64bitint=define
    use64bitall=define
    uselongdouble=undef
    usemymalloc=n
    default_inc_excludes_dot=define
    bincompat5005=undef
  Compiler:
    cc='cc'
    ccflags ='-DHAS_FPSETMASK -DHAS_FLOATINGPOINT_H -fno-strict-aliasing -pipe -fstack-protector -I/usr/local/include -D_FORTIFY_SOURCE=2'
    optimize='-O'
    cppflags='-DHAS_FPSETMASK -DHAS_FLOATINGPOINT_H -fno-strict-aliasing -pipe -fstack-protector -I/usr/local/include'
    ccversion=''
    gccversion='4.2.1 Compatible FreeBSD Clang 3.4.1 (tags/RELEASE_34/dot1-final 208032)'
    gccosandvers=''
    intsize=4
    longsize=8
    ptrsize=8
    doublesize=8
    byteorder=12345678
    doublekind=3
    d_longlong=define
    longlongsize=8
    d_longdbl=define
    longdblsize=16
    longdblkind=3
    ivtype='long'
    ivsize=8
    nvtype='double'
    nvsize=8
    Off_t='off_t'
    lseeksize=8
    alignbytes=8
    prototype=define
  Linker and Libraries:
    ld='cc'
    ldflags ='-Wl,-E  -fstack-protector -L/usr/local/lib'
    libpth=/usr/lib /usr/local/lib /usr/include/clang/3.4.1 /usr/lib
    libs=-lpthread -lgdbm -lm -lcrypt -lutil -lc -lelf
    perllibs=-lpthread -lm -lcrypt -lutil -lc -lelf
    libc=
    so=so
    useshrplib=false
    libperl=libperl.a
    gnulibc_version=''
  Dynamic Linking:
    dlsrc=dl_dlopen.xs
    dlext=so
    d_dlsymun=undef
    ccdlflags=' '
    cccdlflags='-DPIC -fPIC'
    lddlflags='-shared  -L/usr/local/lib -fstack-protector'


Characteristics of this binary (from libperl): 
  Compile-time options:
    HAS_TIMES
    PERLIO_LAYERS
    PERL_COPY_ON_WRITE
    PERL_DONT_CREATE_GVSV
    PERL_MALLOC_WRAP
    PERL_OP_PARENT
    PERL_PRESERVE_IVUV
    USE_64_BIT_ALL
    USE_64_BIT_INT
    USE_LARGE_FILES
    USE_LOCALE
    USE_LOCALE_COLLATE
    USE_LOCALE_CTYPE
    USE_LOCALE_NUMERIC
    USE_LOCALE_TIME
    USE_PERLIO
    USE_PERL_ATOF
  Locally applied patches:
    Devel::PatchPerl 1.48
  Built under freebsd
  Compiled at Jun 29 2018 06:24:58
  %ENV:
    PERL5LIB=""
    PERL5OPT=""
    PERL5_CPANPLUS_IS_RUNNING="36996"
    PERL5_CPAN_IS_RUNNING="36996"
    PERLBREW_HOME="/usr/home/italpro/.perlbrew"
    PERLBREW_MANPATH="/usr/home/italpro/perl5/perlbrew/perls/perl-5.28.0/man"
    PERLBREW_PATH="/usr/home/italpro/perl5/perlbrew/bin:/usr/home/italpro/perl5/perlbrew/perls/perl-5.28.0/bin"
    PERLBREW_PERL="perl-5.28.0"
    PERLBREW_ROOT="/usr/home/italpro/perl5/perlbrew"
    PERLBREW_SHELLRC_VERSION="0.84"
    PERLBREW_VERSION="0.84"
    PERL_MM_USE_DEFAULT="1"
    PERL_USE_UNSAFE_INC="1"
  @INC:
    /usr/home/italpro/perl5/perlbrew/perls/perl-5.28.0/lib/site_perl/5.28.0/amd64-freebsd
    /usr/home/italpro/perl5/perlbrew/perls/perl-5.28.0/lib/site_perl/5.28.0
    /usr/home/italpro/perl5/perlbrew/perls/perl-5.28.0/lib/5.28.0/amd64-freebsd
    /usr/home/italpro/perl5/perlbrew/perls/perl-5.28.0/lib/5.28.0
    .