Back
From: metabase:user:c1859b88-af6d-11df-b000-ae20fb0c70d3
Subject: PASS Pod-2-DocBook-0.03 v5.10.1 OpenBSD
Date: 2010-10-15T03:45:33Z
This distribution has been tested as part of the CPAN Testers
project, supporting the Perl programming language. See
http://wiki.cpantesters.org/ for more information or email
questions to cpan-testers-discuss@perl.org
--
Dear Jozef Kutej,
This is a computer-generated report for Pod-2-DocBook-0.03
on perl 5.10.1, created by CPAN-Reporter-1.18.
Thank you for uploading your work to CPAN. Congratulations!
All tests were successful.
Sections of this report:
* Tester comments
* Program output
* Prerequisites
* Environment and other context
------------------------------
TESTER COMMENTS
------------------------------
Additional comments from tester:
this report is from an automated smoke testing program
and was not reviewed by a human for accuracy
------------------------------
PROGRAM OUTPUT
------------------------------
Output from './Build test':
t/00-compile.t ................ skipped: Test::Compile 0.08 required for testing compilation
t/02-Pod-2-DocBook-make_id.t .. ok
t/Pod-2-DocBook.t ............. ok
t/distribution.t .............. skipped: Test::Distribution not installed
t/make_id.t ................... ok
t/perlcritic.t ................ skipped: Author test. Set $ENV{TEST_AUTHOR} to a true value to run.
t/pod-coverage.t .............. skipped: Test::Pod::Coverage 1.08 required for testing POD coverage
t/pod-spell.t ................. skipped: Set the environment variable TEST_SPELLING to enable this test.
t/pod.t ....................... ok
t/refentry.t .................. ok
t/signature.t ................. skipped: Set the environment variable TEST_SIGNATURE to enable this test.
t/valid_xml.t ................. ok
All tests successful.
Files=12, Tests=34, 14 wallclock secs ( 0.60 usr 0.59 sys + 9.10 cusr 2.50 csys = 12.79 CPU)
Result: PASS
------------------------------
PREREQUISITES
------------------------------
Prerequisite modules loaded:
requires:
Module Need Have
---------------- ---- ---------
CPAN::Version 0 5.5
Digest::MD5 0 2.40
List::MoreUtils 0 0.22
Pod::ParseLink 0 1.10
Pod::Parser 0 1.37
Text::ParseWords 0 3.27
Text::Wrap 0 2009.0305
build_requires:
Module Need Have
---------------- ---- ---------
Test::More 0 0.96
XML::LibXML 0 1.70
------------------------------
ENVIRONMENT AND OTHER CONTEXT
------------------------------
Environment variables:
AUTOMATED_TESTING = 1
PATH = /home/tester/bin:/bin:/sbin:/usr/bin:/usr/sbin:/usr/X11R6/bin:/usr/local/bin:/usr/local/sbin:/usr/games:.
PERL5LIB = /home/tester/.cpan/build/XML-SAX-0.96-eY1MYJ/blib/arch:/home/tester/.cpan/build/XML-SAX-0.96-eY1MYJ/blib/lib:/home/tester/.cpan/build/XML-NamespaceSupport-1.11-OPStwy/blib/arch:/home/tester/.cpan/build/XML-NamespaceSupport-1.11-OPStwy/blib/lib:/home/tester/.cpan/build/XML-LibXML-1.70-pWJ4SX/blib/arch:/home/tester/.cpan/build/XML-LibXML-1.70-pWJ4SX/blib/lib
PERL5OPT =
PERL5_CPANPLUS_IS_RUNNING = 24407
PERL5_CPAN_IS_RUNNING = 24407
PERL5_CPAN_IS_RUNNING_IN_RECURSION = 6388,24407
PERL_CR_SMOKER_CURRENT = Pod-2-DocBook-0.03
PERL_EXTUTILS_AUTOINSTALL = --defaultdeps
PERL_MM_USE_DEFAULT = 1
SHELL = /bin/ksh
TERM = rxvt
Perl special variables (and OS-specific diagnostics, for MSWin32):
$^X = /usr/bin/perl
$UID/$EUID = 2000 / 2000
$GID = 2000 2000 0
$EGID = 2000 2000 0
Perl module toolchain versions installed:
Module Have
------------------- ------
CPAN 1.9402
Cwd 3.31
ExtUtils::CBuilder 0.2703
ExtUtils::Command 1.16
ExtUtils::Install 1.54
ExtUtils::MakeMaker 6.56
ExtUtils::Manifest 1.58
ExtUtils::ParseXS 2.2206
File::Spec 3.31
Module::Build 0.3607
Module::Signature n/a
Test::Harness 3.22
Test::More 0.96
YAML 0.71
YAML::Syck 1.12
version 0.82
--
Summary of my perl5 (revision 5 version 10 subversion 1) configuration:
Platform:
osname=openbsd, osvers=4.8, archname=sparc64-openbsd
uname='openbsd'
config_args='-dsE -Dopenbsd_distribution=defined -Dmksymlinks'
hint=recommended, useposix=true, d_sigaction=define
useithreads=undef, usemultiplicity=undef
useperlio=define, d_sfio=undef, uselargefiles=define, usesocks=undef
use64bitint=define, use64bitall=define, uselongdouble=undef
usemymalloc=n, bincompat5005=undef
Compiler:
cc='cc', ccflags ='-fno-strict-aliasing -fno-delete-null-pointer-checks -pipe -fstack-protector -I/usr/local/include',
optimize='-O2',
cppflags='-fno-strict-aliasing -fno-delete-null-pointer-checks -pipe -fstack-protector -I/usr/local/include'
ccversion='', gccversion='4.2.1 20070719 ', gccosandvers='openbsd4.8'
intsize=4, longsize=8, ptrsize=8, doublesize=8, byteorder=87654321
d_longlong=define, longlongsize=8, d_longdbl=define, longdblsize=16
ivtype='long', ivsize=8, nvtype='double', nvsize=8, Off_t='off_t', lseeksize=8
alignbytes=8, prototype=define
Linker and Libraries:
ld='cc', ldflags ='-Wl,-E -fstack-protector'
libpth=/usr/lib
libs=-lm -lutil -lc
perllibs=-lm -lutil -lc
libc=/usr/lib/libc.a, so=so, useshrplib=true, libperl=libperl.so.11.1
gnulibc_version=''
Dynamic Linking:
dlsrc=dl_dlopen.xs, dlext=so, d_dlsymun=undef, ccdlflags='-Wl,-R/usr/libdata/perl5/sparc64-openbsd/5.10.1/CORE'
cccdlflags='-DPIC -fPIC ', lddlflags='-shared -fPIC -fstack-protector'
Characteristics of this binary (from libperl):
Compile-time options: PERL_DONT_CREATE_GVSV PERL_MALLOC_WRAP USE_64_BIT_ALL
USE_64_BIT_INT USE_LARGE_FILES USE_PERLIO
Built under OpenBSD
%ENV:
PERL5LIB="/home/tester/.cpan/build/XML-SAX-0.96-eY1MYJ/blib/arch:/home/tester/.cpan/build/XML-SAX-0.96-eY1MYJ/blib/lib:/home/tester/.cpan/build/XML-NamespaceSupport-1.11-OPStwy/blib/arch:/home/tester/.cpan/build/XML-NamespaceSupport-1.11-OPStwy/blib/lib:/home/tester/.cpan/build/XML-LibXML-1.70-pWJ4SX/blib/arch:/home/tester/.cpan/build/XML-LibXML-1.70-pWJ4SX/blib/lib"
PERL5OPT=""
PERL5_CPANPLUS_IS_RUNNING="24407"
PERL5_CPAN_IS_RUNNING="24407"
PERL5_CPAN_IS_RUNNING_IN_RECURSION="6388,24407"
PERL_CR_SMOKER_CURRENT="Pod-2-DocBook-0.03"
PERL_EXTUTILS_AUTOINSTALL="--defaultdeps"
PERL_MM_USE_DEFAULT="1"
@INC:
/home/tester/.cpan/build/XML-SAX-0.96-eY1MYJ/blib/arch
/home/tester/.cpan/build/XML-SAX-0.96-eY1MYJ/blib/lib
/home/tester/.cpan/build/XML-NamespaceSupport-1.11-OPStwy/blib/arch
/home/tester/.cpan/build/XML-NamespaceSupport-1.11-OPStwy/blib/lib
/home/tester/.cpan/build/XML-LibXML-1.70-pWJ4SX/blib/arch
/home/tester/.cpan/build/XML-LibXML-1.70-pWJ4SX/blib/lib
/usr/libdata/perl5/sparc64-openbsd/5.10.1
/usr/local/libdata/perl5/sparc64-openbsd/5.10.1
/usr/libdata/perl5
/usr/local/libdata/perl5
/usr/local/libdata/perl5/site_perl/sparc64-openbsd
/usr/libdata/perl5/site_perl/sparc64-openbsd
/usr/local/libdata/perl5/site_perl
/usr/libdata/perl5/site_perl
.