Report for Module-Install-ReadmeFromPod-0.30

Back
From: metabase:user:30f4dfbe-2aae-11df-837a-5e0a49663a4f
Subject: PASS Module-Install-ReadmeFromPod-0.30 v5.14.2 Mac OS X
Date: 2017-04-06T22:30:40Z

This distribution has been tested as part of the CPAN Testers
project, supporting the Perl programming language.  See
http://wiki.cpantesters.org/ for more information or email
questions to cpan-testers-discuss@perl.org


--
Dear Chris Williams,

This is a computer-generated report for Module-Install-ReadmeFromPod-0.30
on perl 5.14.2, created by CPAN-Reporter-1.2018.

Thank you for uploading your work to CPAN.  Congratulations!
All tests were successful.

Sections of this report:

    * Tester comments
    * Program output
    * Prerequisites
    * Environment and other context

------------------------------
TESTER COMMENTS
------------------------------

Additional comments from tester:

this report is from an automated smoke testing program
and was not reviewed by a human for accuracy

------------------------------
PROGRAM OUTPUT
------------------------------

Output from '/sw/bin/make test':

PERL_DL_NONLAZY=1 "/Users/hornenj/perl5/perlbrew/perls/perl-5.14.2/bin/perl5.14.2" "-MExtUtils::Command::MM" "-MTest::Harness" "-e" "undef *Test::Harness::Switches; test_harness(0, 'inc', 'blib/lib', 'blib/arch')" t/*.t
# Testing Module::Install::ReadmeFromPod 0.30, Perl 5.014002, /Users/hornenj/perl5/perlbrew/perls/perl-5.14.2/bin/perl5.14.2
t/00_compile.t ....... ok
# Subroutine Module::Install::ReadmeFromPod::io redefined at /Users/hornenj/perl5/perlbrew/perls/perl-5.14.2/lib/site_perl/5.14.2/IO/All/Base.pm line 24.
# include /Users/hornenj/.cpan/build/Module-Install-ReadmeFromPod-0.30-0/dist/dlhNKGDbRK/inc/Module/Install.pm
# include inc/Module/Install/Metadata.pm
# include inc/Module/Install/Base.pm
# include inc/Module/Install/ReadmeFromPod.pm
# readme_from README.pm to txt
# readme_from README.pm to htm
# Subroutine Module::Install::ReadmeFromPod::io redefined at /Users/hornenj/perl5/perlbrew/perls/perl-5.14.2/lib/site_perl/5.14.2/IO/All/Base.pm line 24.
# Subroutine Module::Install::ReadmeFromPod::io redefined at /Users/hornenj/perl5/perlbrew/perls/perl-5.14.2/lib/site_perl/5.14.2/IO/All/Base.pm line 24.
# readme_from README.pm to man
# readme_from README.pm to md
# include inc/Module/Install/WriteAll.pm
# include inc/Module/Install/Makefile.pm
# include inc/Module/Install/Win32.pm
# include inc/Module/Install/Can.pm
# include inc/Module/Install/Fetch.pm
# Generating a Unix-style Makefile
# Writing Makefile for Foo::Bar
# Writing MYMETA.yml and MYMETA.json
# Writing META.yml
# make[1]: Entering directory '/Users/hornenj/.cpan/build/Module-Install-ReadmeFromPod-0.30-0/dist/dlhNKGDbRK'
# rm -f \
#   Bar.bso Bar.def \
#   Bar.exp Bar.x \
#    blib/arch/auto/Foo/Bar/extralibs.all \
#   blib/arch/auto/Foo/Bar/extralibs.ld Makefile.aperl \
#   *.a *.o \
#   *perl.core MYMETA.json \
#   MYMETA.yml blibdirs.ts \
#   core core.*perl.*.? \
#   core.[0-9] core.[0-9][0-9] \
#   core.[0-9][0-9][0-9] core.[0-9][0-9][0-9][0-9] \
#   core.[0-9][0-9][0-9][0-9][0-9] libBar.def \
#   mon.out perl \
#   perl perl.exe \
#   perlmain.c pm_to_blib \
#   pm_to_blib.ts so_locations \
#   tmon.out 
# rm -rf \
#   blib 
# mv Makefile Makefile.old > /dev/null 2>&1
# rm -f \
#   Makefile Makefile.old 
# rm -rf \
#   Foo-Bar-0.01 MYMETA.yml 
# rm -f Foo-Bar-0.01.tar.gz
# rm -f MANIFEST.bak _build
# "/Users/hornenj/perl5/perlbrew/perls/perl-5.14.2/bin/perl5.14.2" "-Iinc" "-Ilib" "-MModule::Install::Admin" -e "remove_meta()"
# rm -rf inc
# "/Users/hornenj/perl5/perlbrew/perls/perl-5.14.2/bin/perl5.14.2" "-Iinc" "-MExtUtils::Manifest=fullcheck" -e fullcheck
# Problem opening MANIFEST: No such file or directory at /Users/hornenj/perl5/perlbrew/perls/perl-5.14.2/lib/site_perl/5.14.2/ExtUtils/Manifest.pm line 349.
# Problem opening MANIFEST: No such file or directory at /Users/hornenj/perl5/perlbrew/perls/perl-5.14.2/lib/site_perl/5.14.2/ExtUtils/Manifest.pm line 349.
# Not in MANIFEST: Makefile.PL
# Not in MANIFEST: README
# Not in MANIFEST: README.1
# Not in MANIFEST: README.htm
# Not in MANIFEST: README.md
# Not in MANIFEST: README.pm
# make[1]: Leaving directory '/Users/hornenj/.cpan/build/Module-Install-ReadmeFromPod-0.30-0/dist/dlhNKGDbRK'
t/01_dist.t .......... ok
# Subroutine Module::Install::ReadmeFromPod::io redefined at /Users/hornenj/perl5/perlbrew/perls/perl-5.14.2/lib/site_perl/5.14.2/IO/All/Base.pm line 24.
# include /Users/hornenj/.cpan/build/Module-Install-ReadmeFromPod-0.30-0/dist/MbsDlszVvq/inc/Module/Install.pm
# include inc/Module/Install/Metadata.pm
# include inc/Module/Install/Base.pm
# include inc/Module/Install/ReadmeFromPod.pm
# readme_from README.pm to text
# include inc/Module/Install/Makefile.pm
# readme_from README.pm to html
# Subroutine Module::Install::ReadmeFromPod::io redefined at /Users/hornenj/perl5/perlbrew/perls/perl-5.14.2/lib/site_perl/5.14.2/IO/All/Base.pm line 24.
# Subroutine Module::Install::ReadmeFromPod::io redefined at /Users/hornenj/perl5/perlbrew/perls/perl-5.14.2/lib/site_perl/5.14.2/IO/All/Base.pm line 24.
# readme_from README.pm to md
# readme_from README.pm to man
# include inc/Module/Install/WriteAll.pm
# include inc/Module/Install/Win32.pm
# include inc/Module/Install/Can.pm
# include inc/Module/Install/Fetch.pm
# Generating a Unix-style Makefile
# Writing Makefile for Foo::Bar
# Writing MYMETA.yml and MYMETA.json
# Writing META.yml
# make[1]: Entering directory '/Users/hornenj/.cpan/build/Module-Install-ReadmeFromPod-0.30-0/dist/MbsDlszVvq'
# rm -f \
#   Bar.bso Bar.def \
#   Bar.exp Bar.x \
#    blib/arch/auto/Foo/Bar/extralibs.all \
#   blib/arch/auto/Foo/Bar/extralibs.ld Makefile.aperl \
#   *.a *.o \
#   *perl.core MYMETA.json \
#   MYMETA.yml blibdirs.ts \
#   core core.*perl.*.? \
#   core.[0-9] core.[0-9][0-9] \
#   core.[0-9][0-9][0-9] core.[0-9][0-9][0-9][0-9] \
#   core.[0-9][0-9][0-9][0-9][0-9] libBar.def \
#   mon.out perl \
#   perl perl.exe \
#   perlmain.c pm_to_blib \
#   pm_to_blib.ts so_locations \
#   tmon.out 
# rm -rf \
#   Foobar.htm Foobar.man \
#   Foobar.md Foobar.txt \
#   blib 
# mv Makefile Makefile.old > /dev/null 2>&1
# rm -f \
#   Makefile Makefile.old 
# rm -rf \
#   Foo-Bar-0.01 MYMETA.yml 
# rm -f Foo-Bar-0.01.tar.gz
# rm -f MANIFEST.bak _build
# "/Users/hornenj/perl5/perlbrew/perls/perl-5.14.2/bin/perl5.14.2" "-Iinc" "-Ilib" "-MModule::Install::Admin" -e "remove_meta()"
# rm -rf inc
# "/Users/hornenj/perl5/perlbrew/perls/perl-5.14.2/bin/perl5.14.2" "-Iinc" "-MExtUtils::Manifest=fullcheck" -e fullcheck
# Problem opening MANIFEST: No such file or directory at /Users/hornenj/perl5/perlbrew/perls/perl-5.14.2/lib/site_perl/5.14.2/ExtUtils/Manifest.pm line 349.
# Problem opening MANIFEST: No such file or directory at /Users/hornenj/perl5/perlbrew/perls/perl-5.14.2/lib/site_perl/5.14.2/ExtUtils/Manifest.pm line 349.
# Not in MANIFEST: Makefile.PL
# Not in MANIFEST: README.pm
# make[1]: Leaving directory '/Users/hornenj/.cpan/build/Module-Install-ReadmeFromPod-0.30-0/dist/MbsDlszVvq'
t/02_clean.t ......... ok
# include /Users/hornenj/.cpan/build/Module-Install-ReadmeFromPod-0.30-0/dist/WOlfTUBFgn/inc/Module/Install.pm
# include inc/Module/Install/Metadata.pm
# include inc/Module/Install/Base.pm
# include inc/Module/Install/Makefile.pm
# include inc/Module/Install/ReadmeFromPod.pm
# readme_from README.pm to txt
# include inc/Module/Install/WriteAll.pm
# include inc/Module/Install/Win32.pm
# include inc/Module/Install/Can.pm
# include inc/Module/Install/Fetch.pm
# Generating a Unix-style Makefile
# Writing Makefile for Foo::Bar
# Writing MYMETA.yml and MYMETA.json
# Writing META.yml
# make[1]: Entering directory '/Users/hornenj/.cpan/build/Module-Install-ReadmeFromPod-0.30-0/dist/WOlfTUBFgn'
# rm -f \
#   Bar.bso Bar.def \
#   Bar.exp Bar.x \
#    blib/arch/auto/Foo/Bar/extralibs.all \
#   blib/arch/auto/Foo/Bar/extralibs.ld Makefile.aperl \
#   *.a *.o \
#   *perl.core MYMETA.json \
#   MYMETA.yml blibdirs.ts \
#   core core.*perl.*.? \
#   core.[0-9] core.[0-9][0-9] \
#   core.[0-9][0-9][0-9] core.[0-9][0-9][0-9][0-9] \
#   core.[0-9][0-9][0-9][0-9][0-9] libBar.def \
#   mon.out perl \
#   perl perl.exe \
#   perlmain.c pm_to_blib \
#   pm_to_blib.ts so_locations \
#   tmon.out 
# rm -rf \
#   blib 
# mv Makefile Makefile.old > /dev/null 2>&1
# rm -f \
#   Makefile Makefile.old 
# rm -rf \
#   Foo-Bar-0.01 MYMETA.yml 
# rm -f Foo-Bar-0.01.tar.gz
# rm -f MANIFEST.bak _build
# "/Users/hornenj/perl5/perlbrew/perls/perl-5.14.2/bin/perl5.14.2" "-Iinc" "-Ilib" "-MModule::Install::Admin" -e "remove_meta()"
# rm -rf inc
# "/Users/hornenj/perl5/perlbrew/perls/perl-5.14.2/bin/perl5.14.2" "-Iinc" "-MExtUtils::Manifest=fullcheck" -e fullcheck
# Problem opening MANIFEST: No such file or directory at /Users/hornenj/perl5/perlbrew/perls/perl-5.14.2/lib/site_perl/5.14.2/ExtUtils/Manifest.pm line 349.
# Problem opening MANIFEST: No such file or directory at /Users/hornenj/perl5/perlbrew/perls/perl-5.14.2/lib/site_perl/5.14.2/ExtUtils/Manifest.pm line 349.
# Not in MANIFEST: Makefile.PL
# Not in MANIFEST: README
# Not in MANIFEST: README.pm
# make[1]: Leaving directory '/Users/hornenj/.cpan/build/Module-Install-ReadmeFromPod-0.30-0/dist/WOlfTUBFgn'
t/03_all_from.t ...... ok
t/04_distpdf.t ....... skipped: App::pod2pdf not installed
t/05_cleanpdf.t ...... skipped: App::pod2pdf not installed
t/99_pod.t ........... ok
t/99_pod_coverage.t .. ok
All tests successful.
Files=8, Tests=33,  1 wallclock secs ( 0.03 usr  0.01 sys +  1.02 cusr  0.42 csys =  1.48 CPU)
Result: PASS

------------------------------
PREREQUISITES
------------------------------

Prerequisite modules loaded:

requires:

    Module              Need  Have    
    ------------------- ----- --------
    IO::All             0     0.86    
    Module::Install     1     1.18    
    perl                5.006 5.014002
    Pod::Html           0     1.11    
    Pod::Man            0     4.09    
    Pod::Markdown       2     3.005   
    Pod::Text           3.13  4.09    

build_requires:

    Module              Need  Have    
    ------------------- ----- --------
    Capture::Tiny       0.05  0.46    
    ExtUtils::MakeMaker 6.59  7.24    
    File::Temp          0     0.2304  
    Test::InDistDir     0     1.112071
    Test::More          0.47  1.001014

configure_requires:

    Module              Need  Have    
    ------------------- ----- --------
    ExtUtils::MakeMaker 6.59  7.24    


------------------------------
ENVIRONMENT AND OTHER CONTEXT
------------------------------

Environment variables:

    AUTOMATED_TESTING = 1
    LANG = en_US.UTF-8
    LC_ALL = POSIX
    LDFLAGS = 
    PATH = /Users/hornenj/perl5/perlbrew/bin:/Users/hornenj/perl5/perlbrew/perls/perl-5.14.2/bin:/Users/hornenj/perl5/perlbrew/bin:/Users/hornenj/bin:/sw/lib/perl5/ExtUtils:/sw/bin:/am/ncbiapdata/bin:/usr/bin:/bin:/usr/X11R6/bin:/netopt/ncbi_tools/bin:/usr/local/ncbi/blast/bin:/net/traces01.be-md.ncbi.nlm.nih.gov/trace_software/vdb/mac/release/x86_64/bin
    PERL5LIB = /Users/hornenj/.cpan/build/Test-InDistDir-1.112071-0/blib/arch:/Users/hornenj/.cpan/build/Test-InDistDir-1.112071-0/blib/lib:/Users/hornenj/.cpan/build/Module-Install-NoAutomatedTesting-0.08-0/blib/arch:/Users/hornenj/.cpan/build/Module-Install-NoAutomatedTesting-0.08-0/blib/lib:/Users/hornenj/.cpan/build/Module-Install-GithubMeta-0.30-0/blib/arch:/Users/hornenj/.cpan/build/Module-Install-GithubMeta-0.30-0/blib/lib:/Users/hornenj/.cpan/build/Module-Install-CheckLib-0.12-0/blib/arch:/Users/hornenj/.cpan/build/Module-Install-CheckLib-0.12-0/blib/lib:/Users/hornenj/.cpan/build/Devel-CheckLib-1.09-18/blib/arch:/Users/hornenj/.cpan/build/Devel-CheckLib-1.09-18/blib/lib:/Users/hornenj/.cpan/build/Module-Install-AutomatedTester-0.04-0/blib/arch:/Users/hornenj/.cpan/build/Module-Install-AutomatedTester-0.04-0/blib/lib:/Users/hornenj/.cpan/build/Module-Install-AutoLicense-0.10-0/blib/arch:/Users/hornenj/.cpan/build/Module-Install-AutoLicense-0.10-0/blib/lib:/Users/hornenj/.cpan/build/Module-Install-AssertOS-0.12-0/blib/arch:/Users/hornenj/.cpan/build/Module-Install-AssertOS-0.12-0/blib/lib
    PERL5OPT = 
    PERL5_CPANPLUS_IS_RUNNING = 3173
    PERL5_CPAN_IS_RUNNING = 3173
    PERL5_MINISMOKEBOX = 0.64
    PERLBREW_BASHRC_VERSION = 0.77
    PERLBREW_HOME = /Users/hornenj/.perlbrew
    PERLBREW_LIB = 
    PERLBREW_MANPATH = /Users/hornenj/perl5/perlbrew/perls/perl-5.14.2/man
    PERLBREW_PATH = /Users/hornenj/perl5/perlbrew/bin:/Users/hornenj/perl5/perlbrew/perls/perl-5.14.2/bin
    PERLBREW_PERL = perl-5.14.2
    PERLBREW_ROOT = /Users/hornenj/perl5/perlbrew
    PERLBREW_VERSION = 0.77
    PERL_EXTUTILS_AUTOINSTALL = --defaultdeps
    PERL_LOCAL_LIB_ROOT = 
    PERL_MM_USE_DEFAULT = 1
    SHELL = /bin/bash
    TERM = xterm-256color
    TMPDIR = /var/folders/pz/pd7y1qjs6s3cbk170cw50fjc000c61/T/
    ac_cv_path_INTLTOOL_PERL = /usr/bin/perl

Perl special variables (and OS-specific diagnostics, for MSWin32):

    $^X = /Users/hornenj/perl5/perlbrew/perls/perl-5.14.2/bin/perl5.14.2
    $UID/$EUID = 12481 / 12481
    $GID = 14 14 5344 37191 527 37223 241
    $EGID = 14 14 5344 37191 527 37223 241

Perl module toolchain versions installed:

    Module              Have    
    ------------------- --------
    CPAN                2.16    
    CPAN::Meta          2.150010
    Cwd                 3.62    
    ExtUtils::CBuilder  0.280224
    ExtUtils::Command   7.24    
    ExtUtils::Install   2.04    
    ExtUtils::MakeMaker 7.24    
    ExtUtils::Manifest  1.70    
    ExtUtils::ParseXS   3.30    
    File::Spec          3.62    
    JSON                2.90    
    JSON::PP            2.27400 
    Module::Build       0.4222  
    Module::Signature   n/a     
    Parse::CPAN::Meta   2.150010
    Test::Harness       3.38    
    Test::More          1.001014
    YAML                1.23    
    YAML::Syck          1.29    
    version             0.9917  


--

Summary of my perl5 (revision 5 version 14 subversion 2) configuration:
   
  Platform:
    osname=darwin, osvers=14.3.0, archname=darwin-thread-multi-2level
    uname='darwin ncbimac2027.ncbi.nlm.nih.gov 14.3.0 darwin kernel version 14.3.0: mon mar 23 11:59:05 pdt 2015; root:xnu-2782.20.48~5release_x86_64 x86_64 '
    config_args='-de -Dprefix=/Users/hornenj/perl5/perlbrew/perls/perl-5.14.2 -Duseithreads -Dusemultiplicity -Dusedevel -Accflags=-O2 -W -Wformat=2 -Wswitch -Wshadow -Wwrite-strings -Wuninitialized -Wall -pipe -mtune=native -march=native -fomit-frame-pointer -msse2 -msse -mmmx -pedantic -D_FORTIFY_SOURCE=2 -Wpointer-arith -Wstrict-prototypes -fstack-protector -Wstack-protector -Wextra -Wbad-function-cast -Wcast-align -Wcast-qual -Wdisabled-optimization -Wendif-labels -Wfloat-equal -Wformat-nonliteral -Winline -Wmissing-declarations -Wmissing-prototypes -Wnested-externs -Wpointer-arith -Wundef -Wformat-security -fassociative-math -Acc=cc -Aeval:scriptdir=/Users/hornenj/perl5/perlbrew/perls/perl-5.14.2/bin'
    hint=recommended, useposix=true, d_sigaction=define
    useithreads=define, usemultiplicity=define
    useperlio=define, d_sfio=undef, uselargefiles=define, usesocks=undef
    use64bitint=define, use64bitall=define, uselongdouble=undef
    usemymalloc=n, bincompat5005=undef
  Compiler:
    cc='cc', ccflags ='-fno-common -DPERL_DARWIN -O2 -W -Wformat=2 -Wswitch -Wshadow -Wwrite-strings -Wuninitialized -Wall -pipe -mtune=native -march=native -fomit-frame-pointer -msse2 -msse -mmmx -pedantic -D_FORTIFY_SOURCE=2 -Wpointer-arith -Wstrict-prototypes -fstack-protector -Wstack-protector -Wextra -Wbad-function-cast -Wcast-align -Wcast-qual -Wdisabled-optimization -Wendif-labels -Wfloat-equal -Wformat-nonliteral -Winline -Wmissing-declarations -Wmissing-prototypes -Wnested-externs -Wpointer-arith -Wundef -Wformat-security -fassociative-math -fno-strict-aliasing -I/usr/local/include',
    optimize='-O3',
    cppflags='-fno-common -DPERL_DARWIN -O2 -W -Wformat=2 -Wswitch -Wshadow -Wwrite-strings -Wuninitialized -Wall -pipe -mtune=native -march=native -fomit-frame-pointer -msse2 -msse -mmmx -pedantic -D_FORTIFY_SOURCE=2 -Wpointer-arith -Wstrict-prototypes -fstack-protector -Wstack-protector -Wextra -Wbad-function-cast -Wcast-align -Wcast-qual -Wdisabled-optimization -Wendif-labels -Wfloat-equal -Wformat-nonliteral -Winline -Wmissing-declarations -Wmissing-prototypes -Wnested-externs -Wpointer-arith -Wundef -Wformat-security -fassociative-math -fno-strict-aliasing -I/usr/local/include'
    ccversion='', gccversion='4.2.1 Compatible Apple LLVM 6.0 (clang-600.0.56)', gccosandvers=''
    intsize=4, longsize=8, ptrsize=8, doublesize=8, byteorder=12345678
    d_longlong=define, longlongsize=8, d_longdbl=define, longdblsize=16
    ivtype='long', ivsize=8, nvtype='double', nvsize=8, Off_t='off_t', lseeksize=8
    alignbytes=8, prototype=define
  Linker and Libraries:
    ld='env MACOSX_DEPLOYMENT_TARGET=10.3 cc', ldflags =' -fstack-protector -L/usr/local/lib'
    libpth=/usr/local/lib /usr/lib
    libs=-ldbm -ldl -lm -lutil -lc
    perllibs=-ldl -lm -lutil -lc
    libc=, so=dylib, useshrplib=false, libperl=libperl.a
    gnulibc_version=''
  Dynamic Linking:
    dlsrc=dl_dlopen.xs, dlext=bundle, d_dlsymun=undef, ccdlflags=' '
    cccdlflags=' ', lddlflags=' -bundle -undefined dynamic_lookup -L/usr/local/lib -fstack-protector'


Characteristics of this binary (from libperl): 
  Compile-time options: MULTIPLICITY PERL_DONT_CREATE_GVSV
                        PERL_IMPLICIT_CONTEXT PERL_MALLOC_WRAP
                        PERL_PRESERVE_IVUV PERL_USE_DEVEL USE_64_BIT_ALL
                        USE_64_BIT_INT USE_ITHREADS USE_LARGE_FILES
                        USE_PERLIO USE_PERL_ATOF USE_REENTRANT_API
  Locally applied patches:
	Devel::PatchPerl 1.30
  Built under darwin
  Compiled at Apr 20 2015 09:52:37
  %ENV:
    PERL5LIB="/Users/hornenj/.cpan/build/Test-InDistDir-1.112071-0/blib/arch:/Users/hornenj/.cpan/build/Test-InDistDir-1.112071-0/blib/lib:/Users/hornenj/.cpan/build/Module-Install-NoAutomatedTesting-0.08-0/blib/arch:/Users/hornenj/.cpan/build/Module-Install-NoAutomatedTesting-0.08-0/blib/lib:/Users/hornenj/.cpan/build/Module-Install-GithubMeta-0.30-0/blib/arch:/Users/hornenj/.cpan/build/Module-Install-GithubMeta-0.30-0/blib/lib:/Users/hornenj/.cpan/build/Module-Install-CheckLib-0.12-0/blib/arch:/Users/hornenj/.cpan/build/Module-Install-CheckLib-0.12-0/blib/lib:/Users/hornenj/.cpan/build/Devel-CheckLib-1.09-18/blib/arch:/Users/hornenj/.cpan/build/Devel-CheckLib-1.09-18/blib/lib:/Users/hornenj/.cpan/build/Module-Install-AutomatedTester-0.04-0/blib/arch:/Users/hornenj/.cpan/build/Module-Install-AutomatedTester-0.04-0/blib/lib:/Users/hornenj/.cpan/build/Module-Install-AutoLicense-0.10-0/blib/arch:/Users/hornenj/.cpan/build/Module-Install-AutoLicense-0.10-0/blib/lib:/Users/hornenj/.cpan/build/Module-Install-AssertOS-0.12-0/blib/arch:/Users/hornenj/.cpan/build/Module-Install-AssertOS-0.12-0/blib/lib"
    PERL5OPT=""
    PERL5_CPANPLUS_IS_RUNNING="3173"
    PERL5_CPAN_IS_RUNNING="3173"
    PERL5_MINISMOKEBOX="0.64"
    PERLBREW_BASHRC_VERSION="0.77"
    PERLBREW_HOME="/Users/hornenj/.perlbrew"
    PERLBREW_LIB=""
    PERLBREW_MANPATH="/Users/hornenj/perl5/perlbrew/perls/perl-5.14.2/man"
    PERLBREW_PATH="/Users/hornenj/perl5/perlbrew/bin:/Users/hornenj/perl5/perlbrew/perls/perl-5.14.2/bin"
    PERLBREW_PERL="perl-5.14.2"
    PERLBREW_ROOT="/Users/hornenj/perl5/perlbrew"
    PERLBREW_VERSION="0.77"
    PERL_EXTUTILS_AUTOINSTALL="--defaultdeps"
    PERL_LOCAL_LIB_ROOT=""
    PERL_MM_USE_DEFAULT="1"
  @INC:
    /Users/hornenj/.cpan/build/Test-InDistDir-1.112071-0/blib/arch
    /Users/hornenj/.cpan/build/Test-InDistDir-1.112071-0/blib/lib
    /Users/hornenj/.cpan/build/Module-Install-NoAutomatedTesting-0.08-0/blib/arch
    /Users/hornenj/.cpan/build/Module-Install-NoAutomatedTesting-0.08-0/blib/lib
    /Users/hornenj/.cpan/build/Module-Install-GithubMeta-0.30-0/blib/arch
    /Users/hornenj/.cpan/build/Module-Install-GithubMeta-0.30-0/blib/lib
    /Users/hornenj/.cpan/build/Module-Install-CheckLib-0.12-0/blib/arch
    /Users/hornenj/.cpan/build/Module-Install-CheckLib-0.12-0/blib/lib
    /Users/hornenj/.cpan/build/Devel-CheckLib-1.09-18/blib/arch
    /Users/hornenj/.cpan/build/Devel-CheckLib-1.09-18/blib/lib
    /Users/hornenj/.cpan/build/Module-Install-AutomatedTester-0.04-0/blib/arch
    /Users/hornenj/.cpan/build/Module-Install-AutomatedTester-0.04-0/blib/lib
    /Users/hornenj/.cpan/build/Module-Install-AutoLicense-0.10-0/blib/arch
    /Users/hornenj/.cpan/build/Module-Install-AutoLicense-0.10-0/blib/lib
    /Users/hornenj/.cpan/build/Module-Install-AssertOS-0.12-0/blib/arch
    /Users/hornenj/.cpan/build/Module-Install-AssertOS-0.12-0/blib/lib
    /Users/hornenj/perl5/perlbrew/perls/perl-5.14.2/lib/site_perl/5.14.2/darwin-thread-multi-2level
    /Users/hornenj/perl5/perlbrew/perls/perl-5.14.2/lib/site_perl/5.14.2
    /Users/hornenj/perl5/perlbrew/perls/perl-5.14.2/lib/5.14.2/darwin-thread-multi-2level
    /Users/hornenj/perl5/perlbrew/perls/perl-5.14.2/lib/5.14.2
    .