Back
From: metabase:user:30f4dfbe-2aae-11df-837a-5e0a49663a4f
Subject: PASS Set-Object-1.35 v5.22.0 Mac OS X
Date: 2015-11-23T04:50:05Z
This distribution has been tested as part of the CPAN Testers
project, supporting the Perl programming language. See
http://wiki.cpantesters.org/ for more information or email
questions to cpan-testers-discuss@perl.org
--
Dear Reini Urban,
This is a computer-generated report for Set-Object-1.35
on perl 5.22.0, created by CPAN-Reporter-1.2015.
Thank you for uploading your work to CPAN. Congratulations!
All tests were successful.
Sections of this report:
* Tester comments
* Program output
* Prerequisites
* Environment and other context
------------------------------
TESTER COMMENTS
------------------------------
Additional comments from tester:
this report is from an automated smoke testing program
and was not reviewed by a human for accuracy
------------------------------
PROGRAM OUTPUT
------------------------------
Output from '/sw/bin/make test':
Running Mkbootstrap for Set::Object ()
chmod 644 "Object.bs"
PERL_DL_NONLAZY=1 "/Users/hornenj/perl5/perlbrew/perls/perl-5.22.0/bin/perl5.22.0" "-MExtUtils::Command::MM" "-MTest::Harness" "-e" "undef *Test::Harness::Switches; test_harness(0, 'blib/lib', 'blib/arch')" t/ingy/arrayref.t t/misc/kwalitee.t t/misc/leaks.t t/misc/leaktrace.t t/misc/manifest.t t/misc/meta.t t/misc/more_leaks.t t/misc/perl_minimum_version.t t/misc/pod.t t/misc/pod_coverage.t t/misc/segfault.t t/misc/threads.t t/misc/undef.t t/object/abuse.t t/object/clear.t t/object/difference.t t/object/equal.t t/object/flags.t t/object/includes.t t/object/insert.t t/object/intersection.t t/object/members.t t/object/properties.t t/object/refcount.t t/object/remove.t t/object/set_subclass.t t/object/storable.t t/object/subsuper.t t/object/symmetric_difference.t t/object/union.t t/object/weakref.t t/scalar/basic.t t/scalar/basic_overload.t t/scalar/boolean.t t/scalar/clear.t t/scalar/compare.t t/scalar/custom_display.t t/scalar/difference.t t/scalar/each.t t/scalar/has.t t/scalar/intersection.t t/scalar/member.t t/scalar/misc.t t/scalar/set_set.t t/scalar/storable.t t/scalar/symmdiff.t t/scalar/union.t t/scalar/unique.t
t/ingy/arrayref.t ................ ok
t/misc/kwalitee.t ................ skipped: This test is only run for the module author
t/misc/leaks.t ................... ok
t/misc/leaktrace.t ............... ok
t/misc/manifest.t ................ skipped: Author tests not required for installation
t/misc/meta.t .................... skipped: This test is only run for the module author
t/misc/more_leaks.t .............. ok
t/misc/perl_minimum_version.t .... skipped: Author tests not required for installation
t/misc/pod.t ..................... ok
t/misc/pod_coverage.t ............ ok
t/misc/segfault.t ................ ok
Attempt to free nonexistent shared string '3', Perl interpreter: 0x7f9b5b2d6c00 at t/misc/threads.t line 51.
Attempt to free nonexistent shared string '4', Perl interpreter: 0x7f9b5b2d6c00 at t/misc/threads.t line 51.
Attempt to free nonexistent shared string '5', Perl interpreter: 0x7f9b5b2d6c00 at t/misc/threads.t line 51.
Attempt to free nonexistent shared string '6', Perl interpreter: 0x7f9b5b2d6c00 at t/misc/threads.t line 51.
Attempt to free nonexistent shared string '7', Perl interpreter: 0x7f9b5b2d6c00 at t/misc/threads.t line 51.
Attempt to free nonexistent shared string '8', Perl interpreter: 0x7f9b5b2d6c00 at t/misc/threads.t line 51.
Attempt to free nonexistent shared string '9', Perl interpreter: 0x7f9b5b2d6c00 at t/misc/threads.t line 51.
Unbalanced string table refcount: (1) for "5" during global destruction.
Unbalanced string table refcount: (1) for "6" during global destruction.
Unbalanced string table refcount: (1) for "3" during global destruction.
Unbalanced string table refcount: (1) for "4" during global destruction.
Unbalanced string table refcount: (1) for "9" during global destruction.
Unbalanced string table refcount: (1) for "8" during global destruction.
Unbalanced string table refcount: (1) for "7" during global destruction.
t/misc/threads.t ................. ok
t/misc/undef.t ................... ok
t/object/abuse.t ................. ok
t/object/clear.t ................. ok
t/object/difference.t ............ ok
t/object/equal.t ................. ok
t/object/flags.t ................. ok
t/object/includes.t .............. ok
t/object/insert.t ................ ok
t/object/intersection.t .......... ok
t/object/members.t ............... ok
t/object/properties.t ............ ok
t/object/refcount.t .............. ok
t/object/remove.t ................ ok
t/object/set_subclass.t .......... ok
t/object/storable.t .............. ok
t/object/subsuper.t .............. ok
t/object/symmetric_difference.t .. ok
t/object/union.t ................. ok
t/object/weakref.t ............... ok
t/scalar/basic.t ................. ok
t/scalar/basic_overload.t ........ ok
t/scalar/boolean.t ............... ok
t/scalar/clear.t ................. ok
t/scalar/compare.t ............... ok
t/scalar/custom_display.t ........ ok
t/scalar/difference.t ............ ok
t/scalar/each.t .................. skipped: TO-DO
t/scalar/has.t ................... ok
t/scalar/intersection.t .......... ok
t/scalar/member.t ................ ok
t/scalar/misc.t .................. ok
t/scalar/set_set.t ............... ok
t/scalar/storable.t .............. ok
t/scalar/symmdiff.t .............. ok
t/scalar/union.t ................. ok
t/scalar/unique.t ................ ok
All tests successful.
Files=48, Tests=460, 1 wallclock secs ( 0.10 usr 0.07 sys + 0.81 cusr 0.27 csys = 1.25 CPU)
Result: PASS
------------------------------
PREREQUISITES
------------------------------
Prerequisite modules loaded:
requires:
Module Need Have
------------------- ---- --------
Scalar::Util 0 1.42
Test::More 0 1.001014
build_requires:
Module Need Have
------------------- ---- --------
ExtUtils::MakeMaker 0 7.10
configure_requires:
Module Need Have
------------------- ---- --------
ExtUtils::MakeMaker 0 7.10
------------------------------
ENVIRONMENT AND OTHER CONTEXT
------------------------------
Environment variables:
AUTOMATED_TESTING = 1
LANG = en_US.UTF-8
LC_ALL = POSIX
LD_LIBRARY_PATH = :/net/traces01.be-md.ncbi.nlm.nih.gov/trace_software/vdb/mac/release/x86_64/lib
NO_NETWORK_TESTING = 1
PATH = /Users/hornenj/perl5/perlbrew/bin:/Users/hornenj/perl5/perlbrew/perls/perl-5.22.0/bin:/Users/hornenj/perl5/perlbrew/bin:/Users/hornenj/perl5/perlbrew/perls/perl-5.23.3/bin:/Users/hornenj/bin:/sw/lib/perl5/ExtUtils:/sw/bin:/am/ncbiapdata/bin:/usr/bin:/bin:/usr/X11R6/bin:/netopt/ncbi_tools/bin:/usr/local/ncbi/blast/bin:/net/traces01.be-md.ncbi.nlm.nih.gov/trace_software/vdb/mac/release/x86_64/bin
PERL5LIB = /Users/hornenj/.cpan/build/Array-Set-0.02-Wy4joN/blib/arch:/Users/hornenj/.cpan/build/Array-Set-0.02-Wy4joN/blib/lib:/Users/hornenj/.cpan/build/Array-Utils-0.5-yDDsk2/blib/arch:/Users/hornenj/.cpan/build/Array-Utils-0.5-yDDsk2/blib/lib:/Users/hornenj/.cpan/build/Array-AsObject-1.02-YA9yCW/blib/arch:/Users/hornenj/.cpan/build/Array-AsObject-1.02-YA9yCW/blib/lib:/Users/hornenj/.cpan/build/Sort-DataTypes-3.01-DBMltN/blib/arch:/Users/hornenj/.cpan/build/Sort-DataTypes-3.01-DBMltN/blib/lib:/Users/hornenj/.cpan/build/Set-Tiny-0.03-hTnOJH/blib/arch:/Users/hornenj/.cpan/build/Set-Tiny-0.03-hTnOJH/blib/lib
PERL5OPT =
PERL5_CPANPLUS_IS_RUNNING = 14929
PERL5_CPAN_IS_RUNNING = 14929
PERL5_MINISMOKEBOX = 0.58
PERLBREW_BASHRC_VERSION = 0.73
PERLBREW_HOME = /Users/hornenj/.perlbrew
PERLBREW_LIB =
PERLBREW_MANPATH = /Users/hornenj/perl5/perlbrew/perls/perl-5.22.0/man
PERLBREW_PATH = /Users/hornenj/perl5/perlbrew/bin:/Users/hornenj/perl5/perlbrew/perls/perl-5.22.0/bin
PERLBREW_PERL = perl-5.22.0
PERLBREW_ROOT = /Users/hornenj/perl5/perlbrew
PERLBREW_VERSION = 0.73
PERL_EXTUTILS_AUTOINSTALL = --defaultdeps
PERL_LOCAL_LIB_ROOT =
PERL_MM_USE_DEFAULT = 1
SHELL = /bin/bash
TERM = xterm-256color
TMPDIR = /var/folders/pz/pd7y1qjs6s3cbk170cw50fjc000c61/T/
VERSIONER_PERL_PREFER_32_BIT = no
VERSIONER_PERL_VERSION = 5.18
ac_cv_path_INTLTOOL_PERL = /usr/bin/perl
Perl special variables (and OS-specific diagnostics, for MSWin32):
$^X = /Users/hornenj/perl5/perlbrew/perls/perl-5.22.0/bin/perl5.22.0
$UID/$EUID = 12481 / 12481
$GID = 14 14 5344 37191 527 241
$EGID = 14 14 5344 37191 527 241
Perl module toolchain versions installed:
Module Have
------------------- --------
CPAN 2.10
CPAN::Meta 2.150005
Cwd 3.56
ExtUtils::CBuilder 0.280223
ExtUtils::Command 7.10
ExtUtils::Install 2.04
ExtUtils::MakeMaker 7.10
ExtUtils::Manifest 1.70
ExtUtils::ParseXS 3.30
File::Spec 3.56
JSON 2.90
JSON::PP 2.27300
Module::Build 0.4214
Module::Signature n/a
Parse::CPAN::Meta 1.4417
Test::Harness 3.35
Test::More 1.001014
YAML 1.15
YAML::Syck 1.29
version 0.9912
--
Summary of my perl5 (revision 5 version 22 subversion 0) configuration:
Platform:
osname=darwin, osvers=14.3.0, archname=darwin-thread-multi-2level
uname='darwin ncbimac2027.ncbi.nlm.nih.gov 14.3.0 darwin kernel version 14.3.0: mon mar 23 11:59:05 pdt 2015; root:xnu-2782.20.48~5release_x86_64 x86_64 '
config_args='-de -Dprefix=/Users/hornenj/perl5/perlbrew/perls/perl-5.22.0 -Duseithreads -Dusemultiplicity -Dusedevel -Accflags=-O2 -W -Wformat=2 -Wswitch -Wshadow -Wwrite-strings -Wuninitialized -Wall -pipe -mtune=native -march=native -fomit-frame-pointer -msse2 -msse -mmmx -pedantic -D_FORTIFY_SOURCE=2 -Wpointer-arith -Wstrict-prototypes -fstack-protector -Wstack-protector -Wextra -Wbad-function-cast -Wcast-align -Wcast-qual -Wdisabled-optimization -Wendif-labels -Wfloat-equal -Wformat-nonliteral -Winline -Wmissing-declarations -Wmissing-prototypes -Wnested-externs -Wpointer-arith -Wundef -Wformat-security -fassociative-math -Acc=cc -Aeval:scriptdir=/Users/hornenj/perl5/perlbrew/perls/perl-5.22.0/bin'
hint=recommended, useposix=true, d_sigaction=define
useithreads=define, usemultiplicity=define
use64bitint=define, use64bitall=define, uselongdouble=undef
usemymalloc=n, bincompat5005=undef
Compiler:
cc=' cc', ccflags ='-fno-common -DPERL_DARWIN -O2 -W -Wformat=2 -Wswitch -Wshadow -Wwrite-strings -Wuninitialized -Wall -pipe -mtune=native -march=native -fomit-frame-pointer -msse2 -msse -mmmx -pedantic -D_FORTIFY_SOURCE=2 -Wpointer-arith -Wstrict-prototypes -fstack-protector -Wstack-protector -Wextra -Wbad-function-cast -Wcast-align -Wcast-qual -Wdisabled-optimization -Wendif-labels -Wfloat-equal -Wformat-nonliteral -Winline -Wmissing-declarations -Wmissing-prototypes -Wnested-externs -Wpointer-arith -Wundef -Wformat-security -fassociative-math -fno-strict-aliasing -I/usr/local/include',
optimize='-O3',
cppflags='-fno-common -DPERL_DARWIN -O2 -W -Wformat=2 -Wswitch -Wshadow -Wwrite-strings -Wuninitialized -Wall -pipe -mtune=native -march=native -fomit-frame-pointer -msse2 -msse -mmmx -pedantic -D_FORTIFY_SOURCE=2 -Wpointer-arith -Wstrict-prototypes -fstack-protector -Wstack-protector -Wextra -Wbad-function-cast -Wcast-align -Wcast-qual -Wdisabled-optimization -Wendif-labels -Wfloat-equal -Wformat-nonliteral -Winline -Wmissing-declarations -Wmissing-prototypes -Wnested-externs -Wpointer-arith -Wundef -Wformat-security -fassociative-math -fno-strict-aliasing -I/usr/local/include'
ccversion='', gccversion='4.2.1 Compatible Apple LLVM 6.0 (clang-600.0.56)', gccosandvers=''
intsize=4, longsize=8, ptrsize=8, doublesize=8, byteorder=12345678, doublekind=3
d_longlong=define, longlongsize=8, d_longdbl=define, longdblsize=16, longdblkind=3
ivtype='long', ivsize=8, nvtype='double', nvsize=8, Off_t='off_t', lseeksize=8
alignbytes=8, prototype=define
Linker and Libraries:
ld='env MACOSX_DEPLOYMENT_TARGET=10.3 cc', ldflags =' -fstack-protector -L/usr/local/lib'
libpth=/Applications/Xcode.app/Contents/Developer/Toolchains/XcodeDefault.xctoolchain/usr/bin/../lib/clang/6.0/lib /Applications/Xcode.app/Contents/Developer/Toolchains/XcodeDefault.xctoolchain/usr/lib /Applications/Xcode.app/Contents/Developer/Platforms/MacOSX.platform/Developer/SDKs/MacOSX10.10.sdk/usr/lib /usr/local/lib /usr/lib
libs=-lpthread -ldbm -ldl -lm -lutil -lc
perllibs=-lpthread -ldl -lm -lutil -lc
libc=, so=dylib, useshrplib=false, libperl=libperl.a
gnulibc_version=''
Dynamic Linking:
dlsrc=dl_dlopen.xs, dlext=bundle, d_dlsymun=undef, ccdlflags=' '
cccdlflags=' ', lddlflags=' -bundle -undefined dynamic_lookup -L/usr/local/lib -fstack-protector'
Characteristics of this binary (from libperl):
Compile-time options: HAS_TIMES MULTIPLICITY PERLIO_LAYERS
PERL_DONT_CREATE_GVSV
PERL_HASH_FUNC_ONE_AT_A_TIME_HARD
PERL_IMPLICIT_CONTEXT PERL_MALLOC_WRAP
PERL_NEW_COPY_ON_WRITE PERL_PRESERVE_IVUV
PERL_USE_DEVEL USE_64_BIT_ALL USE_64_BIT_INT
USE_ITHREADS USE_LARGE_FILES USE_LOCALE
USE_LOCALE_COLLATE USE_LOCALE_CTYPE
USE_LOCALE_NUMERIC USE_LOCALE_TIME USE_PERLIO
USE_PERL_ATOF USE_REENTRANT_API
Locally applied patches:
Devel::PatchPerl 1.30
Built under darwin
Compiled at Jun 2 2015 11:16:32
%ENV:
PERL5LIB="/Users/hornenj/.cpan/build/Array-Set-0.02-Wy4joN/blib/arch:/Users/hornenj/.cpan/build/Array-Set-0.02-Wy4joN/blib/lib:/Users/hornenj/.cpan/build/Array-Utils-0.5-yDDsk2/blib/arch:/Users/hornenj/.cpan/build/Array-Utils-0.5-yDDsk2/blib/lib:/Users/hornenj/.cpan/build/Array-AsObject-1.02-YA9yCW/blib/arch:/Users/hornenj/.cpan/build/Array-AsObject-1.02-YA9yCW/blib/lib:/Users/hornenj/.cpan/build/Sort-DataTypes-3.01-DBMltN/blib/arch:/Users/hornenj/.cpan/build/Sort-DataTypes-3.01-DBMltN/blib/lib:/Users/hornenj/.cpan/build/Set-Tiny-0.03-hTnOJH/blib/arch:/Users/hornenj/.cpan/build/Set-Tiny-0.03-hTnOJH/blib/lib"
PERL5OPT=""
PERL5_CPANPLUS_IS_RUNNING="14929"
PERL5_CPAN_IS_RUNNING="14929"
PERL5_MINISMOKEBOX="0.58"
PERLBREW_BASHRC_VERSION="0.73"
PERLBREW_HOME="/Users/hornenj/.perlbrew"
PERLBREW_LIB=""
PERLBREW_MANPATH="/Users/hornenj/perl5/perlbrew/perls/perl-5.22.0/man"
PERLBREW_PATH="/Users/hornenj/perl5/perlbrew/bin:/Users/hornenj/perl5/perlbrew/perls/perl-5.22.0/bin"
PERLBREW_PERL="perl-5.22.0"
PERLBREW_ROOT="/Users/hornenj/perl5/perlbrew"
PERLBREW_VERSION="0.73"
PERL_EXTUTILS_AUTOINSTALL="--defaultdeps"
PERL_LOCAL_LIB_ROOT=""
PERL_MM_USE_DEFAULT="1"
@INC:
/Users/hornenj/.cpan/build/Array-Set-0.02-Wy4joN/blib/arch
/Users/hornenj/.cpan/build/Array-Set-0.02-Wy4joN/blib/lib
/Users/hornenj/.cpan/build/Array-Utils-0.5-yDDsk2/blib/arch
/Users/hornenj/.cpan/build/Array-Utils-0.5-yDDsk2/blib/lib
/Users/hornenj/.cpan/build/Array-AsObject-1.02-YA9yCW/blib/arch
/Users/hornenj/.cpan/build/Array-AsObject-1.02-YA9yCW/blib/lib
/Users/hornenj/.cpan/build/Sort-DataTypes-3.01-DBMltN/blib/arch
/Users/hornenj/.cpan/build/Sort-DataTypes-3.01-DBMltN/blib/lib
/Users/hornenj/.cpan/build/Set-Tiny-0.03-hTnOJH/blib/arch
/Users/hornenj/.cpan/build/Set-Tiny-0.03-hTnOJH/blib/lib
/Users/hornenj/perl5/perlbrew/perls/perl-5.22.0/lib/site_perl/5.22.0/darwin-thread-multi-2level
/Users/hornenj/perl5/perlbrew/perls/perl-5.22.0/lib/site_perl/5.22.0
/Users/hornenj/perl5/perlbrew/perls/perl-5.22.0/lib/5.22.0/darwin-thread-multi-2level
/Users/hornenj/perl5/perlbrew/perls/perl-5.22.0/lib/5.22.0
.