Back
From: metabase:user:dadb7b4c-560d-11e0-af53-6408450aad75
Subject: PASS Term-TermKey-Async-0.08 v5.18.0 GNU/Linux
Date: 2013-08-12T08:53:31Z
This distribution has been tested as part of the CPAN Testers
project, supporting the Perl programming language. See
http://wiki.cpantesters.org/ for more information or email
questions to cpan-testers-discuss@perl.org
--
Dear Paul Evans,
This is a computer-generated report for Term-TermKey-Async-0.08
on perl 5.18.0, created by CPAN-Reporter-1.2010.
Thank you for uploading your work to CPAN. Congratulations!
All tests were successful.
Sections of this report:
* Tester comments
* Program output
* Prerequisites
* Environment and other context
------------------------------
TESTER COMMENTS
------------------------------
Additional comments from tester:
none provided
------------------------------
PROGRAM OUTPUT
------------------------------
Output from './Build test':
t/00use.t .......... ok
t/01passthrough.t .. ok
t/02on_key.t ....... ok
t/03timeout.t ...... ok
t/99pod.t .......... skipped: Test::Pod 1.00 required for testing POD
All tests successful.
Files=5, Tests=28, 0 wallclock secs ( 0.02 usr 0.01 sys + 0.18 cusr 0.01 csys = 0.22 CPU)
Result: PASS
------------------------------
PREREQUISITES
------------------------------
Prerequisite modules loaded:
requires:
Module Need Have
--------------- ---- ----
IO::Async 0.35 0.58
Term::TermKey 0.08 0.16
build_requires:
Module Need Have
--------------- ---- ----
IO::Async::Loop 0.48 0.58
Test::More 0.88 0.98
------------------------------
ENVIRONMENT AND OTHER CONTEXT
------------------------------
Environment variables:
LANG = en_GB.UTF-8
LANGUAGE = en_GB:en
LD_LIBRARY_PATH = /home/leo/lib
PATH = /home/leo/bin:/usr/local/bin:/usr/bin:/bin:/usr/local/games:/usr/games
PERL5LIB = /home/leo/.cpan/build/Term-TermKey-0.16-YAUGly/blib/arch:/home/leo/.cpan/build/Term-TermKey-0.16-YAUGly/blib/lib
PERL5OPT =
PERL5_CPANPLUS_IS_RUNNING = 22139
PERL5_CPAN_IS_RUNNING = 22139
SHELL = /bin/bash
TERM = xterm
Perl special variables (and OS-specific diagnostics, for MSWin32):
$^X = /home/leo/perl5/perlbrew/perls/perl-5.18.0/bin/perl5.18.0
$UID/$EUID = 1000 / 1000
$GID = 1000 24 25 29 30 44 46 116 1000 1003 1016 2000
$EGID = 1000 24 25 29 30 44 46 116 1000 1003 1016 2000
Perl module toolchain versions installed:
Module Have
------------------- --------
CPAN 2.00
CPAN::Meta 2.120921
Cwd 3.40
ExtUtils::CBuilder 0.280210
ExtUtils::Command 1.17
ExtUtils::Install 1.59
ExtUtils::MakeMaker 6.66
ExtUtils::Manifest 1.63
ExtUtils::ParseXS 3.18
File::Spec 3.40
JSON 2.59
JSON::PP 2.27202
Module::Build 0.4003
Module::Signature n/a
Parse::CPAN::Meta 1.4404
Test::Harness 3.26
Test::More 0.98
YAML n/a
YAML::Syck n/a
version 0.9902
--
Summary of my perl5 (revision 5 version 18 subversion 0) configuration:
Platform:
osname=linux, osvers=3.2.0-4-amd64, archname=x86_64-linux
uname='linux cel 3.2.0-4-amd64 #1 smp debian 3.2.35-2 x86_64 gnulinux '
config_args='-de -Dprefix=/home/leo/perl5/perlbrew/perls/perl-5.18.0'
hint=recommended, useposix=true, d_sigaction=define
useithreads=undef, usemultiplicity=undef
useperlio=define, d_sfio=undef, uselargefiles=define, usesocks=undef
use64bitint=define, use64bitall=define, uselongdouble=undef
usemymalloc=n, bincompat5005=undef
Compiler:
cc='cc', ccflags ='-fno-strict-aliasing -pipe -fstack-protector -I/usr/local/include -D_LARGEFILE_SOURCE -D_FILE_OFFSET_BITS=64',
optimize='-O2',
cppflags='-fno-strict-aliasing -pipe -fstack-protector -I/usr/local/include'
ccversion='', gccversion='4.7.2', gccosandvers=''
intsize=4, longsize=8, ptrsize=8, doublesize=8, byteorder=12345678
d_longlong=define, longlongsize=8, d_longdbl=define, longdblsize=16
ivtype='long', ivsize=8, nvtype='double', nvsize=8, Off_t='off_t', lseeksize=8
alignbytes=8, prototype=define
Linker and Libraries:
ld='cc', ldflags =' -fstack-protector -L/usr/local/lib'
libpth=/usr/local/lib /lib/x86_64-linux-gnu /lib/../lib /usr/lib/x86_64-linux-gnu /usr/lib/../lib /lib /usr/lib
libs=-lnsl -ldl -lm -lcrypt -lutil -lc
perllibs=-lnsl -ldl -lm -lcrypt -lutil -lc
libc=, so=so, useshrplib=false, libperl=libperl.a
gnulibc_version='2.13'
Dynamic Linking:
dlsrc=dl_dlopen.xs, dlext=so, d_dlsymun=undef, ccdlflags='-Wl,-E'
cccdlflags='-fPIC', lddlflags='-shared -O2 -L/usr/local/lib -fstack-protector'
Characteristics of this binary (from libperl):
Compile-time options: HAS_TIMES PERLIO_LAYERS PERL_DONT_CREATE_GVSV
PERL_HASH_FUNC_ONE_AT_A_TIME_HARD PERL_MALLOC_WRAP
PERL_PRESERVE_IVUV PERL_SAWAMPERSAND USE_64_BIT_ALL
USE_64_BIT_INT USE_LARGE_FILES USE_LOCALE
USE_LOCALE_COLLATE USE_LOCALE_CTYPE
USE_LOCALE_NUMERIC USE_PERLIO USE_PERL_ATOF
Built under linux
Compiled at Jul 11 2013 04:49:08
%ENV:
PERL5LIB="/home/leo/.cpan/build/Term-TermKey-0.16-YAUGly/blib/arch:/home/leo/.cpan/build/Term-TermKey-0.16-YAUGly/blib/lib"
PERL5OPT=""
PERL5_CPANPLUS_IS_RUNNING="22139"
PERL5_CPAN_IS_RUNNING="22139"
@INC:
/home/leo/.cpan/build/Term-TermKey-0.16-YAUGly/blib/arch
/home/leo/.cpan/build/Term-TermKey-0.16-YAUGly/blib/lib
/home/leo/perl5/perlbrew/perls/perl-5.18.0/lib/site_perl/5.18.0/x86_64-linux
/home/leo/perl5/perlbrew/perls/perl-5.18.0/lib/site_perl/5.18.0
/home/leo/perl5/perlbrew/perls/perl-5.18.0/lib/5.18.0/x86_64-linux
/home/leo/perl5/perlbrew/perls/perl-5.18.0/lib/5.18.0
.