WebService-LogicMonitor v0.211560 Perl 5 v5.30.3 x86_64-linux

Status
Pass
From
Slaven Rezić
Dist
WebService-LogicMonitor v0.211560
Platform
Perl 5 v5.30.3 x86_64-linux
Date
2021-06-05 23:27:58
ID
a9a25a5a-c655-11eb-a7f7-bf361f24ea8f
This distribution has been tested as part of the CPAN Testers
project, supporting the Perl programming language.  See
http://wiki.cpantesters.org/ for more information or email
questions to cpan-testers-discuss@perl.org


--
Dear Ioan Rogers,

This is a computer-generated report for WebService-LogicMonitor-0.211560
on perl 5.30.3, created by CPAN-Reporter-1.2018.

Thank you for uploading your work to CPAN.  Congratulations!
All tests were successful.

Sections of this report:

    * Tester comments
    * Program output
    * Prerequisites
    * Environment and other context

------------------------------
TESTER COMMENTS
------------------------------

Additional comments from tester:

none provided

------------------------------
PROGRAM OUTPUT
------------------------------

Output from './Build test':

t/00-compile.t ......... ok
t/accounts.t ........... skipped: LOGICMONITOR_USER, LOGICMONITOR_PASS and LOGICMONITOR_COMPANY environment variables must be set
t/alerts.t ............. skipped: LOGICMONITOR_USER, LOGICMONITOR_PASS and LOGICMONITOR_COMPANY environment variables must be set
t/data.t ............... skipped: LOGICMONITOR_USER, LOGICMONITOR_PASS and LOGICMONITOR_COMPANY environment variables must be set
t/escalation_chains.t .. skipped: LOGICMONITOR_USER, LOGICMONITOR_PASS and LOGICMONITOR_COMPANY environment variables must be set
t/groups.t ............. skipped: LOGICMONITOR_USER, LOGICMONITOR_PASS and LOGICMONITOR_COMPANY environment variables must be set
t/hosts.t .............. skipped: LOGICMONITOR_USER, LOGICMONITOR_PASS and LOGICMONITOR_COMPANY environment variables must be set
t/sdt.t ................ skipped: LOGICMONITOR_USER, LOGICMONITOR_PASS and LOGICMONITOR_COMPANY environment variables must be set
All tests successful.
Files=8, Tests=14,  3 wallclock secs ( 0.05 usr  0.01 sys +  2.35 cusr  0.27 csys =  2.68 CPU)
Result: PASS

------------------------------
PREREQUISITES
------------------------------

Prerequisite modules loaded:

requires:

    Module                    Need    Have    
    ------------------------- ------- --------
    autodie                   0       2.29    
    Carp                      0       1.50    
    DateTime                  0       1.52    
    DateTime::Format::ISO8601 0       0.16    
    JSON                      0       4.02    
    List::MoreUtils           0       0.430   
    List::Util                1.33    1.56    
    Log::Any                  0       1.709   
    LWP::Protocol::https      0       6.09    
    LWP::UserAgent            0       6.53    
    Moo                       0       2.005004
    Moo::Role                 0       2.005004
    perl                      v5.16.3 5.030003
    Role::Singleton::New      0       0.2     
    URI                       0       5.09    
    URI::QueryParam           0       5.09    

build_requires:

    Module                    Need    Have    
    ------------------------- ------- --------
    File::Spec                0       3.78    
    IO::Handle                0       1.45    
    IPC::Open3                0       1.20    
    lib                       0       0.65    
    Log::Any::Adapter         0       1.709   
    strict                    0       1.11    
    String::Random            0       0.31    
    Test::Deep                0       1.130   
    Test::Fatal               0       0.016   
    Test::More                0       1.302185
    Test::Roo                 0       1.004   
    Test::Roo::Role           0       1.004   
    warnings                  0       1.44    


------------------------------
ENVIRONMENT AND OTHER CONTEXT
------------------------------

Environment variables:

    LANG = en_US.UTF-8
    PATH = /usr/local/bin:/usr/bin:/bin:/usr/local/sbin:/usr/sbin:/sbin:/home/cpansand/bin/linux-gnu:/home/cpansand/bin/sh:/home/cpansand/bin:/usr/games:/home/cpansand/devel:/home/eserte/src/srezic-misc/scripts
    PERL5LIB = 
    PERL5OPT = 
    PERL5_CPANPLUS_IS_RUNNING = 226728
    PERL5_CPAN_IS_RUNNING = 226728
    PERL5_CPAN_IS_RUNNING_IN_RECURSION = 226712,226728
    PERLDOC = -MPod::Perldoc::ToTextOverstrike
    PERL_BATCH = yes
    PERL_CANARY_STABILITY_NOPROMPT = 1
    PERL_CPAN_REPORTER_CONFIG = /var/tmp/cpansmoker-1023/2021060601/cpanreporter_000_config.ini
    PERL_EXTUTILS_AUTOINSTALL = --defaultdeps
    PERL_USE_UNSAFE_INC = 1
    SHELL = /usr/bin/zsh
    TERM = screen
    TMPDIR = /var/tmp/cpansmoker-1023/2021060601

Perl special variables (and OS-specific diagnostics, for MSWin32):

    $^X = /opt/perl-5.30.3/bin/perl
    $UID/$EUID = 1023 / 1023
    $GID = 1023 1023
    $EGID = 1023 1023

Perl module toolchain versions installed:

    Module              Have    
    ------------------- --------
    CPAN                2.28    
    CPAN::Meta          2.150010
    Cwd                 3.78    
    ExtUtils::CBuilder  0.280236
    ExtUtils::Command   7.62    
    ExtUtils::Install   2.20    
    ExtUtils::MakeMaker 7.62    
    ExtUtils::Manifest  1.72    
    ExtUtils::ParseXS   3.40    
    File::Spec          3.78    
    JSON                4.02    
    JSON::PP            4.05    
    Module::Build       0.4231  
    Module::Signature   n/a     
    Parse::CPAN::Meta   2.150010
    Test::Harness       3.42    
    Test::More          1.302185
    YAML                1.30    
    YAML::Syck          1.32    
    version             0.9929  


--

Summary of my perl5 (revision 5 version 30 subversion 3) configuration:
   
  Platform:
    osname=linux
    osvers=4.18.0-147.8.1.el8_1.x86_64
    archname=x86_64-linux
    uname='linux cloud5.bbbike.org 4.18.0-147.8.1.el8_1.x86_64 #1 smp thu apr 9 13:49:54 utc 2020 x86_64 x86_64 x86_64 gnulinux '
    config_args='-ds -e -Dprefix=/opt/perl-5.30.3 -Dcf_email=srezic@cpan.org'
    hint=recommended
    useposix=true
    d_sigaction=define
    useithreads=undef
    usemultiplicity=undef
    use64bitint=define
    use64bitall=define
    uselongdouble=undef
    usemymalloc=n
    default_inc_excludes_dot=define
    bincompat5005=undef
  Compiler:
    cc='cc'
    ccflags ='-fwrapv -fno-strict-aliasing -pipe -fstack-protector-strong -I/usr/local/include -D_LARGEFILE_SOURCE -D_FILE_OFFSET_BITS=64 -D_FORTIFY_SOURCE=2'
    optimize='-O2'
    cppflags='-fwrapv -fno-strict-aliasing -pipe -fstack-protector-strong -I/usr/local/include'
    ccversion=''
    gccversion='8.3.1 20190507 (Red Hat 8.3.1-4)'
    gccosandvers=''
    intsize=4
    longsize=8
    ptrsize=8
    doublesize=8
    byteorder=12345678
    doublekind=3
    d_longlong=define
    longlongsize=8
    d_longdbl=define
    longdblsize=16
    longdblkind=3
    ivtype='long'
    ivsize=8
    nvtype='double'
    nvsize=8
    Off_t='off_t'
    lseeksize=8
    alignbytes=8
    prototype=define
  Linker and Libraries:
    ld='cc'
    ldflags =' -fstack-protector-strong -L/usr/local/lib'
    libpth=/usr/local/lib /usr/lib /lib/../lib64 /usr/lib/../lib64 /lib /lib64 /usr/lib64 /usr/local/lib64
    libs=-lpthread -ldb -ldl -lm -lcrypt -lutil -lc
    perllibs=-lpthread -ldl -lm -lcrypt -lutil -lc
    libc=libc-2.28.so
    so=so
    useshrplib=false
    libperl=libperl.a
    gnulibc_version='2.28'
  Dynamic Linking:
    dlsrc=dl_dlopen.xs
    dlext=so
    d_dlsymun=undef
    ccdlflags='-Wl,-E'
    cccdlflags='-fPIC'
    lddlflags='-shared -O2 -L/usr/local/lib -fstack-protector-strong'


Characteristics of this binary (from libperl): 
  Compile-time options:
    HAS_TIMES
    PERLIO_LAYERS
    PERL_COPY_ON_WRITE
    PERL_DONT_CREATE_GVSV
    PERL_MALLOC_WRAP
    PERL_OP_PARENT
    PERL_PRESERVE_IVUV
    USE_64_BIT_ALL
    USE_64_BIT_INT
    USE_LARGE_FILES
    USE_LOCALE
    USE_LOCALE_COLLATE
    USE_LOCALE_CTYPE
    USE_LOCALE_NUMERIC
    USE_LOCALE_TIME
    USE_PERLIO
    USE_PERL_ATOF
  Built under linux
  Compiled at Jun  1 2020 22:02:37
  %ENV:
    PERL5LIB=""
    PERL5OPT=""
    PERL5_CPANPLUS_IS_RUNNING="226728"
    PERL5_CPAN_IS_RUNNING="226728"
    PERL5_CPAN_IS_RUNNING_IN_RECURSION="226712,226728"
    PERLDOC="-MPod::Perldoc::ToTextOverstrike"
    PERL_BATCH="yes"
    PERL_CANARY_STABILITY_NOPROMPT="1"
    PERL_CPAN_REPORTER_CONFIG="/var/tmp/cpansmoker-1023/2021060601/cpanreporter_000_config.ini"
    PERL_EXTUTILS_AUTOINSTALL="--defaultdeps"
    PERL_USE_UNSAFE_INC="1"
  @INC:
    /opt/perl-5.30.3/lib/site_perl/5.30.3/x86_64-linux
    /opt/perl-5.30.3/lib/site_perl/5.30.3
    /opt/perl-5.30.3/lib/5.30.3/x86_64-linux
    /opt/perl-5.30.3/lib/5.30.3
    .