IO-Socket-SSL v2.089 Perl 5 v5.34.3 darwin-thread-multi-2level
- Status
- Pass
- From
- Roland van Ipenburg (IPENBURG)
- Dist
-
IO-Socket-SSL v2.089
- Platform
- Perl 5 v5.34.3 darwin-thread-multi-2level
- Date
- 2024-09-06 09:01:53
- ID
- a9395d98-6c2e-11ef-804f-cb6cba6be1b5
This distribution has been tested as part of the CPAN Testers
project, supporting the Perl programming language. See
http://wiki.cpantesters.org/ for more information or email
questions to cpan-testers-discuss@perl.org
--
Dear Steffen Ullrich,
This is a computer-generated report for IO-Socket-SSL-2.089
on perl 5.34.3, created by CPAN-Reporter-1.2020.
Thank you for uploading your work to CPAN. Congratulations!
All tests were successful.
Sections of this report:
* Tester comments
* Program output
* Prerequisites
* Environment and other context
------------------------------
TESTER COMMENTS
------------------------------
Additional comments from tester:
none provided
------------------------------
PROGRAM OUTPUT
------------------------------
Output from '/usr/bin/make test':
PERL_DL_NONLAZY=1 "/opt/local/bin/perl5.34" "-MExtUtils::Command::MM" "-MTest::Harness" "-e" "undef *Test::Harness::Switches; test_harness(0, 'blib/lib', 'blib/arch')" t/*.t t/external/*.t
# openssl version compiled=0x30100040 linked=0x30300010 -- OpenSSL 3.3.1 4 Jun 2024
# Net::SSLeay version=1.94
# parent IO::Socket::IP version=0.42
t/01loadmodule.t .................. ok
t/acceptSSL-timeout.t ............. ok
t/alpn.t .......................... ok
t/auto_verify_hostname.t .......... ok
t/cert_formats.t .................. ok
t/cert_no_file.t .................. ok
t/compatibility.t ................. ok
t/connectSSL-timeout.t ............ ok
t/core.t .......................... ok
t/dhe.t ........................... ok
t/ecdhe.t ......................... ok
# tcp connect to www.chksum.de:443 ok
# fingerprint matches
# validation with default CA w/o OCSP ok
# got stapled response as expected
# validation with default CA with OCSP defaults ok
# validation with default CA with OCSP full chain ok
# tcp connect to www.bild.de:443 ok
# fingerprint matches
# validation with default CA w/o OCSP ok
# validation with default CA with OCSP defaults ok
# validation with default CA with OCSP full chain ok
# tcp connect to revoked.grc.com:443 ok
# fingerprint matches
# validation with default CA w/o OCSP ok
t/external/ocsp.t ................. ok
# found 147 CA certs
# have root CA for www.bild.de in store
# 5 connections to www.bild.de ok
# have root CA for www.yahoo.com in store
# 5 connections to www.yahoo.com ok
# fingerprint www.yahoo.com matches
# have root CA for www.comdirect.de in store
# 5 connections to www.comdirect.de ok
# fingerprint www.comdirect.de matches
# have root CA for meine.deutsche-bank.de in store
# 5 connections to meine.deutsche-bank.de ok
# fingerprint meine.deutsche-bank.de matches
# have root CA for www.twitter.com in store
# 5 connections to www.twitter.com ok
# have root CA for www.facebook.com in store
# 5 connections to www.facebook.com ok
# have root CA for www.live.com in store
# 5 connections to www.live.com ok
# fingerprint www.live.com matches
t/external/usable_ca.t ............ ok
t/io-socket-inet6.t ............... skipped: no IO::Socket::INET6 available
t/io-socket-ip.t .................. ok
t/memleak_bad_handshake.t ......... ok
t/mitm.t .......................... ok
t/multiple-cert-rsa-ecc.t ......... ok
t/nonblock.t ...................... ok
t/npn.t ........................... ok
# -- test: newINET start_SSL stop_SSL start_SSL
# server accepted new client
# wait for initial data from client
# got 0x666f6f from client
# server: got plain data at start of connection
# server: TLS upgrade
# server: TLS downgrade
# server: TLS upgrade#2
# -- test: newSSL stop_SSL connect_SSL
# server accepted new client
# wait for initial data from client
# got 0x160301 from client
# server: TLS upgrade
# server: TLS downgrade
# server: TLS upgrade#2
# -- test: newSSL:0 connect_SSL stop_SSL connect_SSL
# server accepted new client
# wait for initial data from client
# got 0x666f6f from client
# server: got plain data at start of connection
# server: TLS upgrade
# server: TLS downgrade
# server: TLS upgrade#2
# -- test: newSSL:0 start_SSL stop_SSL connect_SSL
# server accepted new client
# wait for initial data from client
# got 0x666f6f from client
# server: got plain data at start of connection
# server: TLS upgrade
# server: TLS downgrade
# server: TLS upgrade#2
# server accepted new client
# wait for initial data from client
# got 0x656e64 from client
# client requested end of tests
t/plain_upgrade_downgrade.t ....... ok
# looks like OpenSSL was compiled without SSLv3 support
t/protocol_version.t .............. ok
# client accepted: ver=TLSv1_3 cipher=TLS_CHACHA20_POLY1305_SHA256
# accept failed: , SSL accept attempt failed error:0A0000FD:SSL routines::binder does not verify
# client accepted: ver=TLSv1_3 cipher=TLS_CHACHA20_POLY1305_SHA256
# client accepted: ver=TLSv1_3 cipher=TLS_CHACHA20_POLY1305_SHA256
# accept failed: , SSL accept attempt failed error:0A0000FD:SSL routines::binder does not verify
# client accepted: ver=TLSv1_3 cipher=TLS_CHACHA20_POLY1305_SHA256
# accept failed: , SSL accept attempt failed error:0A0000FD:SSL routines::binder does not verify
# client accepted: ver=TLSv1_2 cipher=DHE-PSK-AES256-GCM-SHA384
# accept failed: , SSL accept attempt failed error:1C800066:Provider routines::cipher operation failed error:0A000119:SSL routines::decryption failed or bad record mac error:0A000139:SSL routines::record layer failure
# client accepted: ver=TLSv1_2 cipher=DHE-PSK-AES256-GCM-SHA384
# client accepted: ver=TLSv1_2 cipher=DHE-PSK-AES256-GCM-SHA384
# accept failed: , SSL accept attempt failed error:1C800066:Provider routines::cipher operation failed error:0A000119:SSL routines::decryption failed or bad record mac error:0A000139:SSL routines::record layer failure
# client accepted: ver=TLSv1_2 cipher=DHE-PSK-AES256-GCM-SHA384
t/psk.t ........................... ok
t/public_suffix_lib_encode_idn.t .. ok
t/public_suffix_lib_libidn.t ...... ok
t/public_suffix_lib_uri.t ......... ok
t/public_suffix_ssl.t ............. ok
t/readline.t ...................... ok
t/session_cache.t ................. ok
# listen at 127.0.0.1:49678
# listen at 127.0.0.1:49679
# connect to 0: success reuse=0 version=TLSv1_3
# connect to 0: success reuse=1 version=TLSv1_3
# connect to 1: success reuse=1 version=TLSv1_3
# connect to 1: success reuse=0 version=TLSv1_3
# connect to 0: success reuse=0 version=TLSv1_3
# connect to 0: success reuse=1 version=TLSv1_3
t/session_ticket.t ................ ok
t/sessions.t ...................... ok
t/set_curves.t .................... ok
t/signal-readline.t ............... ok
t/sni.t ........................... ok
t/sni_verify.t .................... ok
t/start-stopssl.t ................. ok
t/startssl-failed.t ............... ok
t/startssl.t ...................... ok
t/sysread_write.t ................. ok
t/verify_fingerprint.t ............ ok
t/verify_hostname.t ............... ok
t/verify_hostname_standalone.t .... ok
t/verify_partial_chain.t .......... ok
All tests successful.
Files=43, Tests=839, 188 wallclock secs ( 0.93 usr 0.47 sys + 68.78 cusr 9.45 csys = 79.63 CPU)
Result: PASS
------------------------------
PREREQUISITES
------------------------------
Prerequisite modules loaded:
requires:
Module Need Have
------------------- ---- ----
Net::SSLeay 1.46 1.94
Scalar::Util 0 1.65
build_requires:
Module Need Have
------------------- ---- ----
ExtUtils::MakeMaker 0 7.62
configure_requires:
Module Need Have
------------------- ---- ----
ExtUtils::MakeMaker 0 7.62
Net::SSLeay 1.46 1.94
------------------------------
ENVIRONMENT AND OTHER CONTEXT
------------------------------
Environment variables:
LANG = en_US.UTF-8
LC_ALL = en_US.UTF-8
LC_CTYPE = UTF-8
NONINTERACTIVE_TESTING = 1
PATH = /opt/local/bin:/Users/roland/perl5/bin:/opt/local/bin:/opt/local/sbin:/bin:/sbin:/usr/bin:/usr/sbin
PERL5LIB = /Users/roland/perl5/lib/perl5
PERL5OPT =
PERL5_CPANPLUS_IS_RUNNING = 334
PERL5_CPAN_IS_RUNNING = 334
PERL_LOCAL_LIB_ROOT = /Users/roland/perl5
PERL_MB_OPT = --install_base "/Users/roland/perl5"
PERL_MM_OPT = INSTALL_BASE=/Users/roland/perl5
PERL_MM_USE_DEFAULT = 1
PERL_USE_UNSAFE_INC = 1
SHELL = /bin/bash
TEMP = /var/tmp/
TERM = xterm-color
Perl special variables (and OS-specific diagnostics, for MSWin32):
$^X = /opt/local/bin/perl5.34
$UID/$EUID = 502 / 502
$GID = 502 502 81 79 80
$EGID = 502 502 81 79 80
Perl module toolchain versions installed:
Module Have
------------------- --------
CPAN 2.36
CPAN::Meta 2.150010
Cwd 3.80
ExtUtils::CBuilder 0.280236
ExtUtils::Command 7.62
ExtUtils::Install 2.22
ExtUtils::MakeMaker 7.62
ExtUtils::Manifest 1.75
ExtUtils::ParseXS 3.51
File::Spec 3.80
JSON 4.10
JSON::PP 4.16
Module::Build 0.4234
Module::Signature n/a
Parse::CPAN::Meta 2.150010
Test2 1.302201
Test::Harness 3.50
Test::More 1.302201
YAML n/a
YAML::Syck n/a
version 0.9932
--
Summary of my perl5 (revision 5 version 34 subversion 3) configuration:
Platform:
osname=darwin
osvers=8.11.0
archname=darwin-thread-multi-2level
uname='darwin queens.local 8.11.0 darwin kernel version 8.11.0: wed oct 10 18:26:00 pdt 2007; root:xnu-792.24.17~1release_ppc power macintosh powerpc '
config_args='-des -Dprefix=/opt/local -Dscriptdir=/opt/local/bin -Dvendorprefix=/opt/local -Dusemultiplicity=y -Dusethreads -Duseshrplib -Dcc=/usr/bin/cc -Dman1ext=1pm -Dman3ext=3pm -Dinstallstyle=lib/perl5 -Dman1dir=/opt/local/share/man/man1 -Dman3dir=/opt/local/share/man/man3 -Dsitebin=/opt/local/libexec/perl5.34/sitebin -Dsiteman1dir=/opt/local/share/perl5.34/siteman/man1 -Dsiteman3dir=/opt/local/share/perl5.34/siteman/man3 -Dvendorbin=/opt/local/libexec/perl5.34 -Dvendorman1dir=/opt/local/share/perl5.34/man/man1 -Dvendorman3dir=/opt/local/share/perl5.34/man/man3 -Dpager=/usr/bin/less -sR -Dperlpath=/opt/local/bin/perl5.34 -Dstartperl=#!/opt/local/bin/perl5.34 -Acppflags=-I/opt/local/include -Accflags=-pipe -Os -Alddlflags=-L/opt/local/lib -Wl,-headerpad_max_install_names -Aldflags=-L/opt/local/lib -Wl,-headerpad_max_install_names '
hint=recommended
useposix=true
d_sigaction=define
useithreads=define
usemultiplicity=define
use64bitint=undef
use64bitall=undef
uselongdouble=undef
usemymalloc=n
default_inc_excludes_dot=define
Compiler:
cc='/usr/bin/cc'
ccflags ='-fno-common -DPERL_DARWIN -pipe -Os -fno-strict-aliasing -I/opt/local/include -D_FORTIFY_SOURCE=2 -DPERL_USE_SAFE_PUTENV'
optimize='-O3'
cppflags='-I/opt/local/include -fno-common -DPERL_DARWIN -pipe -Os -fno-strict-aliasing -I/opt/local/include'
ccversion=''
gccversion='4.2.1 (Apple Inc. build 5666) (dot 3) (MacPorts apple-gcc42 5666.3_16)'
gccosandvers=''
intsize=4
longsize=4
ptrsize=4
doublesize=8
byteorder=4321
doublekind=4
d_longlong=define
longlongsize=8
d_longdbl=define
longdblsize=16
longdblkind=6
ivtype='long'
ivsize=4
nvtype='double'
nvsize=8
Off_t='off_t'
lseeksize=8
alignbytes=8
prototype=define
Linker and Libraries:
ld='env MACOSX_DEPLOYMENT_TARGET=10.3 /usr/bin/cc'
ldflags =' -L/opt/local/lib -Wl,-headerpad_max_install_names '
libpth=/opt/local/lib /usr/lib
libs=-lpthread -lgdbm -ldbm -ldl -lm -lc
perllibs=-lpthread -ldl -lm -lc
libc=
so=dylib
useshrplib=true
libperl=libperl.dylib
gnulibc_version=''
Dynamic Linking:
dlsrc=dl_dlopen.xs
dlext=bundle
d_dlsymun=undef
ccdlflags=' '
cccdlflags=' '
lddlflags=' -bundle -undefined dynamic_lookup -L/opt/local/lib -Wl,-headerpad_max_install_names '
Characteristics of this binary (from libperl):
Compile-time options:
HAS_TIMES
MULTIPLICITY
PERLIO_LAYERS
PERL_COPY_ON_WRITE
PERL_DONT_CREATE_GVSV
PERL_IMPLICIT_CONTEXT
PERL_MALLOC_WRAP
PERL_OP_PARENT
PERL_PRESERVE_IVUV
PERL_USE_SAFE_PUTENV
USE_ITHREADS
USE_LARGE_FILES
USE_LOCALE
USE_LOCALE_COLLATE
USE_LOCALE_CTYPE
USE_LOCALE_NUMERIC
USE_LOCALE_TIME
USE_PERLIO
USE_PERL_ATOF
USE_REENTRANT_API
USE_THREAD_SAFE_LOCALE
Built under darwin
Compiled at May 24 2024 22:30:39
%ENV:
PERL5LIB="/Users/roland/perl5/lib/perl5"
PERL5OPT=""
PERL5_CPANPLUS_IS_RUNNING="334"
PERL5_CPAN_IS_RUNNING="334"
PERL_LOCAL_LIB_ROOT="/Users/roland/perl5"
PERL_MB_OPT="--install_base "/Users/roland/perl5""
PERL_MM_OPT="INSTALL_BASE=/Users/roland/perl5"
PERL_MM_USE_DEFAULT="1"
PERL_USE_UNSAFE_INC="1"
@INC:
/Users/roland/perl5/lib/perl5/darwin-thread-multi-2level
/Users/roland/perl5/lib/perl5
/opt/local/lib/perl5/site_perl/5.34/darwin-thread-multi-2level
/opt/local/lib/perl5/site_perl/5.34
/opt/local/lib/perl5/vendor_perl/5.34/darwin-thread-multi-2level
/opt/local/lib/perl5/vendor_perl/5.34
/opt/local/lib/perl5/5.34/darwin-thread-multi-2level
/opt/local/lib/perl5/5.34
.