Report for Pod-Weaver-Section-CollectWithIntro-0.001

Back
From: metabase:user:320bfe00-2aae-11df-837a-5e0a49663a4f
Subject: PASS Pod-Weaver-Section-CollectWithIntro-0.001 v5.12.5 GNU/Linux
Date: 2014-11-13T11:17:31Z

This distribution has been tested as part of the CPAN Testers
project, supporting the Perl programming language.  See
http://wiki.cpantesters.org/ for more information or email
questions to cpan-testers-discuss@perl.org


--
Dear Chris Weyl,

This is a computer-generated report for Pod-Weaver-Section-CollectWithIntro-0.001
on perl 5.12.5, created by CPAN-Reporter-1.2011.

Thank you for uploading your work to CPAN.  Congratulations!
All tests were successful.

Sections of this report:

    * Tester comments
    * Program output
    * Prerequisites
    * Environment and other context

------------------------------
TESTER COMMENTS
------------------------------

Additional comments from tester:

this report is from an automated smoke testing program
and was not reviewed by a human for accuracy

------------------------------
PROGRAM OUTPUT
------------------------------

Output from '/usr/bin/make test':

PERL_DL_NONLAZY=1 "/home/sand/src/perl/repoperls/installed-perls/perl/v5.12.5/165a/bin/perl" "-MExtUtils::Command::MM" "-MTest::Harness" "-e" "undef *Test::Harness::Switches; test_harness(0, 'blib/lib', 'blib/arch')" t/*.t
t/00-compile.t .................. ok
# 

# Generated by Dist::Zilla::Plugin::ReportVersions::Tiny v1.08
# perl: 5.012005 (wanted 5.006) on linux from /home/sand/src/perl/repoperls/installed-perls/perl/v5.12.5/165a/bin/perl
# 
# ExtUtils::MakeMaker                           => 7.02       (want 6.30)   
# File::Find                                    => 1.15       (want any version)
# File::Temp                                    => 0.2304     (want any version)
# Moose                                         => 2.1402     (want any version)
# Moose::Autobox                                => 0.15       (want 0.10)   
# PPI                                           => 1.220      (want any version)
# Pod::Coverage::TrustPod                       => 0.100003   (want any version)
# Pod::Elemental                                => 0.103002   (want any version)
# Pod::Elemental::Element::Pod5::Ordinary       => 0.103002   (want any version)
# Pod::Elemental::Selectors                     => 0.103002   (want any version)
# Pod::Elemental::Transformer::Nester           => 0.103002   (want any version)
# Pod::Elemental::Transformer::Pod5             => 0.103002   (want any version)
# Pod::Weaver                                   => 4.008      (want any version)
# Pod::Weaver::Section::Collect                 => 4.008      (want any version)
# Test::Differences                             => 0.62       (want any version)
# Test::More                                    => 1.301001073 (want 0.88)   
# Test::Pod                                     => 1.48       (want 1.41)   
# Test::Pod::Coverage                           => 1.10       (want 1.08)   
# aliased                                       => 0.31       (want any version)
# autobox::Core                                 => 1.28       (want any version)
# namespace::autoclean                          => 0.22       (want any version)
# strict                                        => 1.04       (want any version)
# version                                       => 0.9909     (want 0.9901) 
# warnings                                      => 1.09       (want any version)
# 
# Thanks for using my code.  I hope it works for you.
# If not, please try and include this output in the bug report.
# That will help me reproduce the issue and solve your problem.
# 
t/000-report-versions-tiny.t .... ok
t/author-pod-spell.t ............ skipped: these tests are for testing by the author
t/basic.t ....................... ok
t/release-consistent-version.t .. skipped: these tests are for release candidate testing
t/release-eol.t ................. skipped: these tests are for release candidate testing
t/release-has-version.t ......... skipped: these tests are for release candidate testing
t/release-no-smart-comments.t ... skipped: these tests are for release candidate testing
t/release-no-tabs.t ............. skipped: these tests are for release candidate testing
t/release-pod-coverage.t ........ skipped: these tests are for release candidate testing
t/release-pod-syntax.t .......... skipped: these tests are for release candidate testing
t/release-portability.t ......... skipped: these tests are for release candidate testing
All tests successful.
Files=12, Tests=3,  5 wallclock secs ( 0.03 usr  0.02 sys +  2.32 cusr  0.24 csys =  2.61 CPU)
Result: PASS

------------------------------
PREREQUISITES
------------------------------

Prerequisite modules loaded:

requires:

    Module                                  Need Have        
    --------------------------------------- ---- ------------
    aliased                                 0    0.31        
    autobox::Core                           0    1.28        
    Moose                                   0    2.1402      
    namespace::autoclean                    0    0.22        
    Pod::Elemental::Element::Pod5::Ordinary 0    0.103002    
    Pod::Weaver::Section::Collect           0    4.008       

build_requires:

    Module                                  Need Have        
    --------------------------------------- ---- ------------
    File::Find                              0    1.15        
    File::Temp                              0    0.2304      
    Moose::Autobox                          0.10 0.15        
    Pod::Elemental                          0    0.103002    
    Pod::Elemental::Selectors               0    0.103002    
    Pod::Elemental::Transformer::Nester     0    0.103002    
    Pod::Elemental::Transformer::Pod5       0    0.103002    
    Pod::Weaver                             0    4.008       
    PPI                                     0    1.220       
    strict                                  0    1.04        
    Test::Differences                       0    0.62        
    Test::More                              0.88 1.301001_073
    warnings                                0    1.09        

configure_requires:

    Module                                  Need Have        
    --------------------------------------- ---- ------------
    ExtUtils::MakeMaker                     6.30 7.02        


------------------------------
ENVIRONMENT AND OTHER CONTEXT
------------------------------

Environment variables:

    AUTOMATED_TESTING = 1
    LANG = en_US.UTF-8
    LANGUAGE = en_US:en
    PATH = /home/sand/bin:/usr/local/bin:/usr/bin:/bin:/usr/games:/usr/local/perl/bin:/usr/X11/bin:/sbin:/usr/sbin
    PERL5LIB = 
    PERL5OPT = 
    PERL5_CPANPLUS_IS_RUNNING = 29730
    PERL5_CPAN_IS_RUNNING = 29730
    PERL_MM_USE_DEFAULT = 1
    SHELL = /usr/bin/zsh
    TERM = screen

Perl special variables (and OS-specific diagnostics, for MSWin32):

    $^X = /home/sand/src/perl/repoperls/installed-perls/perl/v5.12.5/165a/bin/perl
    $UID/$EUID = 1005 / 1005
    $GID = 1005 1005
    $EGID = 1005 1005

Perl module toolchain versions installed:

    Module              Have        
    ------------------- ------------
    CPAN                2.05        
    CPAN::Meta          2.142690    
    Cwd                 3.47        
    ExtUtils::CBuilder  0.280220    
    ExtUtils::Command   1.16        
    ExtUtils::Install   1.55        
    ExtUtils::MakeMaker 7.02        
    ExtUtils::Manifest  1.68        
    ExtUtils::ParseXS   3.24        
    File::Spec          3.47        
    JSON                2.90        
    JSON::PP            2.27203     
    Module::Build       0.4210      
    Module::Signature   0.73        
    Parse::CPAN::Meta   1.4414      
    Test::Harness       3.34        
    Test::More          1.301001_073
    YAML                1.13        
    YAML::Syck          1.27        
    version             0.9909      


--

Summary of my perl5 (revision 5 version 12 subversion 5) configuration:
  Commit id: 9a9cbd715960a905dcbc9166349a73a64a007e4e
  Platform:
    osname=linux, osvers=3.16-2-amd64, archname=x86_64-linux
    uname='linux k83 3.16-2-amd64 #1 smp debian 3.16.3-2 (2014-09-20) x86_64 gnulinux '
    config_args='-Dprefix=/home/sand/src/perl/repoperls/installed-perls/perl/v5.12.5/165a -Dmyhostname=k83 -Dinstallusrbinperl=n -Uversiononly -Dusedevel -des -Ui_db -Uuseithreads -Uuselongdouble -DDEBUGGING=-g'
    hint=recommended, useposix=true, d_sigaction=define
    useithreads=undef, usemultiplicity=undef
    useperlio=define, d_sfio=undef, uselargefiles=define, usesocks=undef
    use64bitint=define, use64bitall=define, uselongdouble=undef
    usemymalloc=n, bincompat5005=undef
  Compiler:
    cc='cc', ccflags ='-fno-strict-aliasing -pipe -fstack-protector -I/usr/local/include -D_LARGEFILE_SOURCE -D_FILE_OFFSET_BITS=64',
    optimize='-O2 -g',
    cppflags='-fno-strict-aliasing -pipe -fstack-protector -I/usr/local/include'
    ccversion='', gccversion='4.9.1', gccosandvers=''
    intsize=4, longsize=8, ptrsize=8, doublesize=8, byteorder=12345678
    d_longlong=define, longlongsize=8, d_longdbl=define, longdblsize=16
    ivtype='long', ivsize=8, nvtype='double', nvsize=8, Off_t='off_t', lseeksize=8
    alignbytes=8, prototype=define
  Linker and Libraries:
    ld='cc', ldflags =' -fstack-protector -L/usr/local/lib'
    libpth=/usr/local/lib /lib/x86_64-linux-gnu /lib/../lib /usr/lib/x86_64-linux-gnu /usr/lib/../lib /lib /usr/lib
    libs=-lnsl -lgdbm -ldb -ldl -lm -lcrypt -lutil -lc -lgdbm_compat
    perllibs=-lnsl -ldl -lm -lcrypt -lutil -lc
    libc=, so=so, useshrplib=false, libperl=libperl.a
    gnulibc_version='2.19'
  Dynamic Linking:
    dlsrc=dl_dlopen.xs, dlext=so, d_dlsymun=undef, ccdlflags='-Wl,-E'
    cccdlflags='-fPIC', lddlflags='-shared -O2 -g -L/usr/local/lib -fstack-protector'


Characteristics of this binary (from libperl): 
  Compile-time options: PERL_DONT_CREATE_GVSV PERL_MALLOC_WRAP PERL_USE_DEVEL
                        USE_64_BIT_ALL USE_64_BIT_INT USE_LARGE_FILES
                        USE_PERLIO USE_PERL_ATOF
  Built under linux
  Compiled at Oct 17 2014 06:32:02
  %ENV:
    PERL5LIB=""
    PERL5OPT=""
    PERL5_CPANPLUS_IS_RUNNING="29730"
    PERL5_CPAN_IS_RUNNING="29730"
    PERL_MM_USE_DEFAULT="1"
  @INC:
    /home/sand/src/perl/repoperls/installed-perls/perl/v5.12.5/165a/lib/site_perl/5.12.5/x86_64-linux
    /home/sand/src/perl/repoperls/installed-perls/perl/v5.12.5/165a/lib/site_perl/5.12.5
    /home/sand/src/perl/repoperls/installed-perls/perl/v5.12.5/165a/lib/5.12.5/x86_64-linux
    /home/sand/src/perl/repoperls/installed-perls/perl/v5.12.5/165a/lib/5.12.5
    .