Report for Dancer-Plugin-FontSubset-0.1.2

Back
From: metabase:user:0d96120c-29e2-11e5-b049-ede3035d37de
Subject: PASS Dancer-Plugin-FontSubset-0.1.2 v5.22.0 GNU/Linux
Date: 2015-07-24T19:39:12Z

This distribution has been tested as part of the CPAN Testers
project, supporting the Perl programming language.  See
http://wiki.cpantesters.org/ for more information or email
questions to cpan-testers-discuss@perl.org


--
Dear Yanick Champoux,

This is a computer-generated report for Dancer-Plugin-FontSubset-0.1.2
on perl 5.22.0, created by CPAN-Reporter-1.2014.

Thank you for uploading your work to CPAN.  Congratulations!
All tests were successful.

Sections of this report:

    * Tester comments
    * Program output
    * Prerequisites
    * Environment and other context

------------------------------
TESTER COMMENTS
------------------------------

Additional comments from tester:

this report is from an automated smoke testing program
and was not reviewed by a human for accuracy

------------------------------
PROGRAM OUTPUT
------------------------------

Output from './Build test':

t/00-compile.t ................ ok
# 
# 
# Generated by Dist::Zilla::Plugin::ReportVersions::Tiny v1.08
# perl: 5.022000 (wanted v5.12.0) on linux from /data/perl5/perlbrew/perls/perl-5.22.0-thread-multi/bin/perl
# 
# Dancer                                        => 1.3140     (want any version)
# Dancer::Plugin                                => 1.3140     (want any version)
# Dancer::Plugin::Cache::CHI                    => 1.4.0      (want any version)
# Dancer::Test                                  => 1.3140     (want any version)
# File::Find                                    => 1.29       (want any version)
# File::Temp                                    => 0.2304     (want any version)
# Font::TTF::Font                               => 0.39       (want any version)
# Font::TTF::Scripts::Name                      => <undef>    (want any version)
# List::AllUtils                                => 0.09       (want any version)
# Module::Build                                 => 0.4214     (want 0.3601) 
# Moo                                           => 2.000001   (want any version)
# MooX::Singleton                               => 1.20       (want any version)
# Test::More                                    => 1.001014   (want 0.88)   
# strict                                        => 1.09       (want any version)
# version                                       => 0.9909     (want 0.9901) 
# warnings                                      => 1.32       (want any version)
# 
# Thanks for using my code.  I hope it works for you.
# If not, please try and include this output in the bug report.
# That will help me reproduce the issue and solve your problem.
# 
t/000-report-versions-tiny.t .. ok
t/basic.t ..................... ok
t/cache.t ..................... ok
All tests successful.
Files=4, Tests=10,  1 wallclock secs ( 0.01 usr  0.01 sys +  0.71 cusr  0.07 csys =  0.80 CPU)
Result: PASS

------------------------------
PREREQUISITES
------------------------------

Prerequisite modules loaded:

requires:

    Module                     Need    Have    
    -------------------------- ------- --------
    Dancer                     0       1.3140  
    Dancer::Plugin             0       1.3140  
    Font::TTF::Font            0       0.39    
    Font::TTF::Scripts::Name   0       0       
    List::AllUtils             0       0.09    
    Moo                        0       2.000001
    MooX::Singleton            0       1.20    
    perl                       v5.12.0 5.022000
    warnings                   0       1.32    

build_requires:

    Module                     Need    Have    
    -------------------------- ------- --------
    Dancer::Plugin::Cache::CHI 0       1.4.0   
    Dancer::Test               0       1.3140  
    File::Find                 0       1.29    
    File::Temp                 0       0.2304  
    Module::Build              0.3601  0.4214  
    strict                     0       1.09    
    Test::More                 0.88    1.001014

configure_requires:

    Module                     Need    Have    
    -------------------------- ------- --------
    Module::Build              0.3601  0.4214  


------------------------------
ENVIRONMENT AND OTHER CONTEXT
------------------------------

Environment variables:

    AUTOMATED_TESTING = 1
    LANG = en_US.UTF-8
    NONINTERACTIVE_TESTING = 1
    PATH = /home/perltest/sysperl/bin:/home/perltest/perl5/perlbrew/bin:/home/perltest/perl5/perlbrew/perls/perl-5.22.0-thread-multi/bin:/home/perltest/perltest/bin:/home/perltest/perl5/perlbrew/bin:/home/perltest/perl5/perlbrew/perls/perl-5.18.4-ld/bin:/usr/local/sbin:/usr/local/bin:/usr/sbin:/usr/bin:/sbin:/bin:/usr/games:/usr/local/games:/home/perltest/perltest/bin
    PERL5LIB = /home/perltest/.cpan/build/Dancer-Plugin-Cache-CHI-1.4.0-8esvsX/blib/arch:/home/perltest/.cpan/build/Dancer-Plugin-Cache-CHI-1.4.0-8esvsX/blib/lib:/home/perltest/.cpan/build/MooX-Singleton-1.20-pvsbf0/blib/arch:/home/perltest/.cpan/build/MooX-Singleton-1.20-pvsbf0/blib/lib:/home/perltest/.cpan/build/Font-TTF-Scripts-1.05-MQcekH/blib/arch:/home/perltest/.cpan/build/Font-TTF-Scripts-1.05-MQcekH/blib/lib:/home/perltest/.cpan/build/Font-TTF-1.05-PTtOuv/blib/arch:/home/perltest/.cpan/build/Font-TTF-1.05-PTtOuv/blib/lib:/home/perltest/.cpan/build/Text-Unicode-Equivalents-0.05-p8HaE3/blib/arch:/home/perltest/.cpan/build/Text-Unicode-Equivalents-0.05-p8HaE3/blib/lib:/home/perltest/.cpan/build/Text-PDF-0.29-3PvOQy/blib/arch:/home/perltest/.cpan/build/Text-PDF-0.29-3PvOQy/blib/lib:/home/perltest/sysperl/lib/perl5
    PERL5OPT = 
    PERL5_CPANPLUS_IS_RUNNING = 20735
    PERL5_CPAN_IS_RUNNING = 20735
    PERL5_CPAN_IS_RUNNING_IN_RECURSION = 2186,20735
    PERLBREW_BASHRC_VERSION = 0.73
    PERLBREW_HOME = /home/perltest/.perlbrew
    PERLBREW_LIB = 
    PERLBREW_MANPATH = /home/perltest/perl5/perlbrew/perls/perl-5.22.0-thread-multi/man
    PERLBREW_PATH = /home/perltest/perl5/perlbrew/bin:/home/perltest/perl5/perlbrew/perls/perl-5.22.0-thread-multi/bin
    PERLBREW_PERL = perl-5.22.0-thread-multi
    PERLBREW_ROOT = /home/perltest/perl5/perlbrew
    PERLBREW_VERSION = 0.73
    PERL_CR_SMOKER_CURRENT = Dancer-Plugin-FontSubset-0.1.2
    PERL_EXTUTILS_AUTOINSTALL = --defaultdeps
    PERL_LOCAL_LIB_ROOT = /home/perltest/sysperl:
    PERL_MB_OPT = --install_base "//home/perltest/sysperl"
    PERL_MM_OPT = INSTALL_BASE=/home/perltest/sysperl
    PERL_MM_USE_DEFAULT = 1
    SHELL = /bin/bash
    TERM = screen

Perl special variables (and OS-specific diagnostics, for MSWin32):

    $^X = /data/perl5/perlbrew/perls/perl-5.22.0-thread-multi/bin/perl
    $UID/$EUID = 2000 / 2000
    $GID = 2000 2000
    $EGID = 2000 2000

Perl module toolchain versions installed:

    Module              Have    
    ------------------- --------
    CPAN                2.11    
    CPAN::Meta          2.150001
    Cwd                 3.56    
    ExtUtils::CBuilder  0.280221
    ExtUtils::Command   1.20    
    ExtUtils::Install   2.04    
    ExtUtils::MakeMaker 7.04_01 
    ExtUtils::Manifest  1.70    
    ExtUtils::ParseXS   3.28    
    File::Spec          3.56    
    JSON                2.90    
    JSON::PP            2.27300 
    Module::Build       0.4214  
    Module::Signature   n/a     
    Parse::CPAN::Meta   1.4414  
    Test::Harness       3.35    
    Test::More          1.001014
    YAML                1.15    
    YAML::Syck          n/a     
    version             0.9909  


--

Summary of my perl5 (revision 5 version 22 subversion 0) configuration:
   
  Platform:
    osname=linux, osvers=3.19.0-18-generic, archname=x86_64-linux-thread-multi
    uname='linux perltest.antelope.net 3.19.0-18-generic #18-ubuntu smp tue may 19 18:31:35 utc 2015 x86_64 x86_64 x86_64 gnulinux '
    config_args='-de -Dprefix=/home/perltest/perl5/perlbrew/perls/perl-5.22.0-thread-multi -Dusethreads -Dusemultiplicity -Aeval:scriptdir=/home/perltest/perl5/perlbrew/perls/perl-5.22.0-thread-multi/bin'
    hint=recommended, useposix=true, d_sigaction=define
    useithreads=define, usemultiplicity=define
    use64bitint=define, use64bitall=define, uselongdouble=undef
    usemymalloc=n, bincompat5005=undef
  Compiler:
    cc='cc', ccflags ='-D_REENTRANT -D_GNU_SOURCE -fwrapv -fno-strict-aliasing -pipe -fstack-protector-strong -I/usr/local/include -D_LARGEFILE_SOURCE -D_FILE_OFFSET_BITS=64',
    optimize='-O2',
    cppflags='-D_REENTRANT -D_GNU_SOURCE -fwrapv -fno-strict-aliasing -pipe -fstack-protector-strong -I/usr/local/include'
    ccversion='', gccversion='4.9.2', gccosandvers=''
    intsize=4, longsize=8, ptrsize=8, doublesize=8, byteorder=12345678, doublekind=3
    d_longlong=define, longlongsize=8, d_longdbl=define, longdblsize=16, longdblkind=3
    ivtype='long', ivsize=8, nvtype='double', nvsize=8, Off_t='off_t', lseeksize=8
    alignbytes=8, prototype=define
  Linker and Libraries:
    ld='cc', ldflags =' -fstack-protector-strong -L/usr/local/lib'
    libpth=/usr/local/lib /usr/lib/gcc/x86_64-linux-gnu/4.9/include-fixed /usr/include/x86_64-linux-gnu /usr/lib /lib/x86_64-linux-gnu /lib/../lib /usr/lib/x86_64-linux-gnu /usr/lib/../lib /lib
    libs=-lpthread -lnsl -ldb -ldl -lm -lcrypt -lutil -lc
    perllibs=-lpthread -lnsl -ldl -lm -lcrypt -lutil -lc
    libc=libc-2.21.so, so=so, useshrplib=false, libperl=libperl.a
    gnulibc_version='2.21'
  Dynamic Linking:
    dlsrc=dl_dlopen.xs, dlext=so, d_dlsymun=undef, ccdlflags='-Wl,-E'
    cccdlflags='-fPIC', lddlflags='-shared -O2 -L/usr/local/lib -fstack-protector-strong'


Characteristics of this binary (from libperl): 
  Compile-time options: HAS_TIMES MULTIPLICITY PERLIO_LAYERS
                        PERL_DONT_CREATE_GVSV
                        PERL_HASH_FUNC_ONE_AT_A_TIME_HARD
                        PERL_IMPLICIT_CONTEXT PERL_MALLOC_WRAP
                        PERL_NEW_COPY_ON_WRITE PERL_PRESERVE_IVUV
                        USE_64_BIT_ALL USE_64_BIT_INT USE_ITHREADS
                        USE_LARGE_FILES USE_LOCALE USE_LOCALE_COLLATE
                        USE_LOCALE_CTYPE USE_LOCALE_NUMERIC USE_LOCALE_TIME
                        USE_PERLIO USE_PERL_ATOF USE_REENTRANT_API
  Locally applied patches:
	Devel::PatchPerl 1.38
  Built under linux
  Compiled at Jul 15 2015 23:29:02
  %ENV:
    PERL5LIB="/home/perltest/.cpan/build/Dancer-Plugin-Cache-CHI-1.4.0-8esvsX/blib/arch:/home/perltest/.cpan/build/Dancer-Plugin-Cache-CHI-1.4.0-8esvsX/blib/lib:/home/perltest/.cpan/build/MooX-Singleton-1.20-pvsbf0/blib/arch:/home/perltest/.cpan/build/MooX-Singleton-1.20-pvsbf0/blib/lib:/home/perltest/.cpan/build/Font-TTF-Scripts-1.05-MQcekH/blib/arch:/home/perltest/.cpan/build/Font-TTF-Scripts-1.05-MQcekH/blib/lib:/home/perltest/.cpan/build/Font-TTF-1.05-PTtOuv/blib/arch:/home/perltest/.cpan/build/Font-TTF-1.05-PTtOuv/blib/lib:/home/perltest/.cpan/build/Text-Unicode-Equivalents-0.05-p8HaE3/blib/arch:/home/perltest/.cpan/build/Text-Unicode-Equivalents-0.05-p8HaE3/blib/lib:/home/perltest/.cpan/build/Text-PDF-0.29-3PvOQy/blib/arch:/home/perltest/.cpan/build/Text-PDF-0.29-3PvOQy/blib/lib:/home/perltest/sysperl/lib/perl5"
    PERL5OPT=""
    PERL5_CPANPLUS_IS_RUNNING="20735"
    PERL5_CPAN_IS_RUNNING="20735"
    PERL5_CPAN_IS_RUNNING_IN_RECURSION="2186,20735"
    PERLBREW_BASHRC_VERSION="0.73"
    PERLBREW_HOME="/home/perltest/.perlbrew"
    PERLBREW_LIB=""
    PERLBREW_MANPATH="/home/perltest/perl5/perlbrew/perls/perl-5.22.0-thread-multi/man"
    PERLBREW_PATH="/home/perltest/perl5/perlbrew/bin:/home/perltest/perl5/perlbrew/perls/perl-5.22.0-thread-multi/bin"
    PERLBREW_PERL="perl-5.22.0-thread-multi"
    PERLBREW_ROOT="/home/perltest/perl5/perlbrew"
    PERLBREW_VERSION="0.73"
    PERL_CR_SMOKER_CURRENT="Dancer-Plugin-FontSubset-0.1.2"
    PERL_EXTUTILS_AUTOINSTALL="--defaultdeps"
    PERL_LOCAL_LIB_ROOT="/home/perltest/sysperl:"
    PERL_MB_OPT="--install_base "//home/perltest/sysperl""
    PERL_MM_OPT="INSTALL_BASE=/home/perltest/sysperl"
    PERL_MM_USE_DEFAULT="1"
  @INC:
    /home/perltest/.cpan/build/Dancer-Plugin-Cache-CHI-1.4.0-8esvsX/blib/arch
    /home/perltest/.cpan/build/Dancer-Plugin-Cache-CHI-1.4.0-8esvsX/blib/lib
    /home/perltest/.cpan/build/MooX-Singleton-1.20-pvsbf0/blib/arch
    /home/perltest/.cpan/build/MooX-Singleton-1.20-pvsbf0/blib/lib
    /home/perltest/.cpan/build/Font-TTF-Scripts-1.05-MQcekH/blib/arch
    /home/perltest/.cpan/build/Font-TTF-Scripts-1.05-MQcekH/blib/lib
    /home/perltest/.cpan/build/Font-TTF-1.05-PTtOuv/blib/arch
    /home/perltest/.cpan/build/Font-TTF-1.05-PTtOuv/blib/lib
    /home/perltest/.cpan/build/Text-Unicode-Equivalents-0.05-p8HaE3/blib/arch
    /home/perltest/.cpan/build/Text-Unicode-Equivalents-0.05-p8HaE3/blib/lib
    /home/perltest/.cpan/build/Text-PDF-0.29-3PvOQy/blib/arch
    /home/perltest/.cpan/build/Text-PDF-0.29-3PvOQy/blib/lib
    /home/perltest/sysperl/lib/perl5/x86_64-linux-thread-multi
    /home/perltest/sysperl/lib/perl5
    /home/perltest/perl5/perlbrew/perls/perl-5.22.0-thread-multi/lib/site_perl/5.22.0/x86_64-linux-thread-multi
    /home/perltest/perl5/perlbrew/perls/perl-5.22.0-thread-multi/lib/site_perl/5.22.0
    /home/perltest/perl5/perlbrew/perls/perl-5.22.0-thread-multi/lib/5.22.0/x86_64-linux-thread-multi
    /home/perltest/perl5/perlbrew/perls/perl-5.22.0-thread-multi/lib/5.22.0
    .