Sodium-FFI v0.009 Perl 5 v5.10.0 x86_64-linux

Status
Pass
From
Andreas J. König (ANDK)
Dist
Sodium-FFI v0.009
Platform
Perl 5 v5.10.0 x86_64-linux
Date
2023-05-07 13:47:08
ID
a8fa23a2-ecdd-11ed-9e0d-fb4f189f1984
This distribution has been tested as part of the CPAN Testers
project, supporting the Perl programming language.  See
http://wiki.cpantesters.org/ for more information or email
questions to cpan-testers-discuss@perl.org


--
Dear Chase Whitener,

This is a computer-generated report for Sodium-FFI-0.009
on perl 5.10.0, created by CPAN-Reporter-1.2018.

Thank you for uploading your work to CPAN.  Congratulations!
All tests were successful.

Sections of this report:

    * Tester comments
    * Program output
    * Prerequisites
    * Environment and other context

------------------------------
TESTER COMMENTS
------------------------------

Additional comments from tester:

this report is from an automated smoke testing program
and was not reviewed by a human for accuracy

------------------------------
PROGRAM OUTPUT
------------------------------

Output from '/usr/bin/make test':

"/home/sand/src/perl/repoperls/installed-perls/host/k93msid/perl-5.10.0/da1c/bin/perl" -MFFI::Build::MM=cmd -e fbx_build
"/home/sand/src/perl/repoperls/installed-perls/host/k93msid/perl-5.10.0/da1c/bin/perl" -MFFI::Build::MM=cmd -e fbx_test
PERL_DL_NONLAZY=1 "/home/sand/src/perl/repoperls/installed-perls/host/k93msid/perl-5.10.0/da1c/bin/perl" "-MExtUtils::Command::MM" "-MTest::Harness" "-e" "undef *Test::Harness::Switches; test_harness(0, 'blib/lib', 'blib/arch')" t/*.t t/aead/*.t t/pub_key_crypto/*.t
# 
# Versions for all modules listed in MYMETA.json (including optional ones):
# 
# === Configure Requires ===
# 
#     Module                Want     Have
#     -------------------- ----- --------
#     Alien::Base::Wrapper   any     2.75
#     Alien::Sodium         2.00    2.000
#     ExtUtils::MakeMaker    any     7.64
#     FFI::Build::MM        0.83     2.02
#     perl                 5.008 5.010000
# 
# === Build Requires ===
# 
#     Module        Want  Have
#     ------------- ---- -----
#     Alien::Sodium  any 2.000
# 
# === Test Requires ===
# 
#     Module               Want     Have
#     ------------------- ----- --------
#     ExtUtils::MakeMaker   any     7.64
#     File::Spec            any     3.75
#     Test::More           0.88 1.302190
#     perl                5.008 5.010000
# 
# === Test Recommends ===
# 
#     Module         Want     Have
#     ---------- -------- --------
#     CPAN::Meta 2.120900 2.150010
# 
# === Runtime Requires ===
# 
#     Module                Want     Have
#     -------------------- ----- --------
#     Alien::Base::Wrapper   any     2.75
#     Alien::Sodium        2.000    2.000
#     Carp                   any     1.50
#     Cwd                    any     3.75
#     Exporter              5.57     5.74
#     FFI::Platypus         1.00     2.02
#     File::Basename         any     2.76
#     File::ShareDir         any    1.118
#     File::Spec             any     3.75
#     Path::Tiny             any    0.139
#     Ref::Util              any    0.204
#     Sub::Util              any     1.63
#     feature                any     1.11
#     perl                 5.008 5.010000
#     strict                 any     1.04
#     utf8                   any     1.07
#     warnings               any     1.06
# 
t/00-report-prereqs.t ........... ok
t/10-versions.t ................. ok
t/11-utils.t .................... ok
t/12-random.t ................... ok
t/aead/aes256gcm.t .............. ok
Use of uninitialized value $ad in length at /tmp/loop_over_bdir-1420948-Kn1e3R/Sodium-FFI-0.009-0/blib/lib/Sodium/FFI.pm line 273.
Use of uninitialized value $ad in length at /tmp/loop_over_bdir-1420948-Kn1e3R/Sodium-FFI-0.009-0/blib/lib/Sodium/FFI.pm line 226.
t/aead/chacha20poly1305.t ....... ok
Use of uninitialized value $ad in length at /tmp/loop_over_bdir-1420948-Kn1e3R/Sodium-FFI-0.009-0/blib/lib/Sodium/FFI.pm line 184.
Use of uninitialized value $ad in length at /tmp/loop_over_bdir-1420948-Kn1e3R/Sodium-FFI-0.009-0/blib/lib/Sodium/FFI.pm line 137.
t/aead/chacha20poly1305_ietf.t .. ok
t/crypto_auth.t ................. ok
t/pub_key_crypto/box.t .......... ok
t/pub_key_crypto/pubkey_sig.t ... ok
All tests successful.
Files=10, Tests=144,  2 wallclock secs ( 0.04 usr  0.02 sys +  1.11 cusr  0.31 csys =  1.48 CPU)
Result: PASS

------------------------------
PREREQUISITES
------------------------------

Prerequisite modules loaded:

requires:

    Module               Need  Have    
    -------------------- ----- --------
    Alien::Base::Wrapper 0     2.75    
    Alien::Sodium        2.000 2.000   
    Carp                 0     1.50    
    Cwd                  0     3.75    
    Exporter             5.57  5.74    
    feature              0     1.11    
    FFI::Platypus        1.00  2.02    
    File::Basename       0     2.76    
    File::ShareDir       0     1.118   
    File::Spec           0     3.75    
    Path::Tiny           0     0.139   
    Ref::Util            0     0.204   
    strict               0     1.04    
    Sub::Util            0     1.63    
    utf8                 0     1.07    
    warnings             0     1.06    

build_requires:

    Module               Need  Have    
    -------------------- ----- --------
    Alien::Sodium        0     2.000   
    ExtUtils::MakeMaker  0     7.64    
    File::Spec           0     3.75    
    Test::More           0.88  1.302190

configure_requires:

    Module               Need  Have    
    -------------------- ----- --------
    Alien::Base::Wrapper 0     2.75    
    Alien::Sodium        2.00  2.000   
    ExtUtils::MakeMaker  0     7.64    
    FFI::Build::MM       0.83  2.02    
    perl                 5.008 5.010000


------------------------------
ENVIRONMENT AND OTHER CONTEXT
------------------------------

Environment variables:

    AUTOMATED_TESTING = 1
    LANG = en_US.UTF-8
    LANGUAGE = en_US:en
    PATH = /home/sand/bin:/usr/local/bin:/usr/bin:/bin:/usr/games:/usr/local/perl/bin:/usr/X11/bin:/sbin:/usr/sbin
    PERL5LIB = 
    PERL5OPT = 
    PERL5_CPANPLUS_IS_RUNNING = 3852468
    PERL5_CPAN_IS_RUNNING = 3852468
    PERL_CANARY_STABILITY_NOPROMPT = 1
    PERL_MM_USE_DEFAULT = 1
    PERL_USE_UNSAFE_INC = 1
    SHELL = /usr/bin/zsh
    TERM = screen

Perl special variables (and OS-specific diagnostics, for MSWin32):

    $^X = /home/sand/src/perl/repoperls/installed-perls/host/k93msid/perl-5.10.0/da1c/bin/perl
    $UID/$EUID = 1005 / 1005
    $GID = 1005 1005
    $EGID = 1005 1005

Perl module toolchain versions installed:

    Module              Have    
    ------------------- --------
    CPAN                2.34    
    CPAN::Meta          2.150010
    Cwd                 3.75    
    ExtUtils::CBuilder  0.280236
    ExtUtils::Command   7.64    
    ExtUtils::Install   2.06    
    ExtUtils::MakeMaker 7.64    
    ExtUtils::Manifest  1.70    
    ExtUtils::ParseXS   3.35    
    File::Spec          3.75    
    JSON                4.09    
    JSON::PP            4.12    
    Module::Build       0.4229  
    Module::Signature   0.83    
    Parse::CPAN::Meta   2.150010
    Test::Harness       3.43_06 
    Test::More          1.302190
    YAML                1.29    
    YAML::Syck          1.31    
    version             0.9929  


--

Summary of my perl5 (revision 5 version 10 subversion 0) configuration:
  Platform:
    osname=linux, osvers=5.3.0-2-amd64, archname=x86_64-linux
    uname='linux k93msid 5.3.0-2-amd64 #1 smp debian 5.3.9-3 (2019-11-19) x86_64 gnulinux '
    config_args='-Dprefix=/home/sand/src/perl/repoperls/installed-perls/host/k93msid/perl-5.10.0/da1c -Dmyhostname=k93msid -Dinstallusrbinperl=n -Uversiononly -Dusedevel -des -Ui_db -Dlibswanted=cl pthread socket inet nsl gdbm dbm malloc dl ld sun m crypt sec util c cposix posix ucb BSD gdbm_compat -Uuseithreads -Uuselongdouble -DEBUGGING=-g'
    hint=recommended, useposix=true, d_sigaction=define
    useithreads=undef, usemultiplicity=undef
    useperlio=define, d_sfio=undef, uselargefiles=define, usesocks=undef
    use64bitint=define, use64bitall=define, uselongdouble=undef
    usemymalloc=n, bincompat5005=undef
  Compiler:
    cc='cc', ccflags ='-fwrapv -fno-strict-aliasing -pipe -I/usr/local/include -D_LARGEFILE_SOURCE -D_FILE_OFFSET_BITS=64',
    optimize='-O2 -g',
    cppflags='-fwrapv -fno-strict-aliasing -pipe -I/usr/local/include'
    ccversion='', gccversion='9.2.1 20191109', gccosandvers=''
    intsize=4, longsize=8, ptrsize=8, doublesize=8, byteorder=12345678
    d_longlong=define, longlongsize=8, d_longdbl=define, longdblsize=16
    ivtype='long', ivsize=8, nvtype='double', nvsize=8, Off_t='off_t', lseeksize=8
    alignbytes=8, prototype=define
  Linker and Libraries:
    ld='cc', ldflags =' -L/usr/local/lib'
    libpth=/usr/local/lib /lib/x86_64-linux-gnu /lib/../lib /usr/lib/x86_64-linux-gnu /usr/lib/../lib /lib /usr/lib
    libs=-lpthread -lnsl -ldl -lm -lcrypt -lutil -lc
    perllibs=-lpthread -lnsl -ldl -lm -lcrypt -lutil -lc
    libc=libc-2.29.so, so=so, useshrplib=false, libperl=libperl.a
    gnulibc_version='2.29'
  Dynamic Linking:
    dlsrc=dl_dlopen.xs, dlext=so, d_dlsymun=undef, ccdlflags='-Wl,-E'
    cccdlflags='-fPIC', lddlflags='-shared -O2 -g -L/usr/local/lib'


Characteristics of this binary (from libperl): 
  Compile-time options: PERL_DONT_CREATE_GVSV PERL_MALLOC_WRAP USE_64_BIT_ALL
                        USE_64_BIT_INT USE_LARGE_FILES USE_PERLIO
  Built under linux
  Compiled at Nov 28 2019 05:57:17
  %ENV:
    PERL5LIB=""
    PERL5OPT=""
    PERL5_CPANPLUS_IS_RUNNING="3852468"
    PERL5_CPAN_IS_RUNNING="3852468"
    PERL_CANARY_STABILITY_NOPROMPT="1"
    PERL_MM_USE_DEFAULT="1"
    PERL_USE_UNSAFE_INC="1"
  @INC:
    /home/sand/src/perl/repoperls/installed-perls/host/k93msid/perl-5.10.0/da1c/lib/5.10.0/x86_64-linux
    /home/sand/src/perl/repoperls/installed-perls/host/k93msid/perl-5.10.0/da1c/lib/5.10.0
    /home/sand/src/perl/repoperls/installed-perls/host/k93msid/perl-5.10.0/da1c/lib/site_perl/5.10.0/x86_64-linux
    /home/sand/src/perl/repoperls/installed-perls/host/k93msid/perl-5.10.0/da1c/lib/site_perl/5.10.0
    .