Report for Dancer2-Plugin-Interchange6-0.203

Back
From: metabase:user:30977d10-2aae-11df-837a-5e0a49663a4f
Subject: PASS Dancer2-Plugin-Interchange6-0.203 v5.20.2 GNU/Linux
Date: 2016-08-04T12:26:25Z

This distribution has been tested as part of the CPAN Testers
project, supporting the Perl programming language.  See
http://wiki.cpantesters.org/ for more information or email
questions to cpan-testers-discuss@perl.org


--
Dear Peter Mottram,

This is a computer-generated report for Dancer2-Plugin-Interchange6-0.203
on perl 5.20.2, created by CPAN-Reporter-1.2017.

Thank you for uploading your work to CPAN.  Congratulations!
All tests were successful.

Sections of this report:

    * Tester comments
    * Program output
    * Prerequisites
    * Environment and other context

------------------------------
TESTER COMMENTS
------------------------------

Additional comments from tester:

this report is from an automated smoke testing program
and was not reviewed by a human for accuracy

------------------------------
PROGRAM OUTPUT
------------------------------

Output from '/usr/bin/make test':

PERL_DL_NONLAZY=1 "/home/stro/perl/5.20.2t/bin/perl" "-MExtUtils::Command::MM" "-MTest::Harness" "-e" "undef *Test::Harness::Switches; test_harness(0, 'blib/lib', 'blib/arch')" t/00-load.t t/d2pci6_bop.t t/disabled_cart_and_checkout.t t/manifest.t t/pod-coverage.t t/pod.t t/test_mysql.t t/test_postgresql.t t/test_sqlite.t
# Testing Dancer2::Plugin::Interchange6 0.203, Perl 5.020002, /home/stro/perl/5.20.2t/bin/perl
t/00-load.t ..................... ok
t/d2pci6_bop.t .................. ok
Dancer2::Plugin::Interchange6::Routes: Maximum number of navigation records is zero.
t/disabled_cart_and_checkout.t .. skipped: Author tests not required for installation
t/manifest.t .................... skipped: Author tests not required for installation
t/pod-coverage.t ................ skipped: Author tests not required for installation
t/pod.t ......................... skipped: Author tests not required for installation
t/test_mysql.t .................. skipped: DBD::mysql required to run these tests
t/test_postgresql.t ............. skipped: DBD::Pg >= 3.0.0 required to run these tests
# Deploy
# Test::Cart
    # Test::DSL
# Test::Hooks
# Test::Routes
# Test::Shop
t/test_sqlite.t ................. ok
All tests successful.
Files=9, Tests=202, 25 wallclock secs ( 0.07 usr  0.00 sys + 19.36 cusr  0.26 csys = 19.69 CPU)
Result: PASS

------------------------------
PREREQUISITES
------------------------------

Prerequisite modules loaded:

requires:

    Module                                            Need     Have    
    ------------------------------------------------- -------- --------
    Business::OnlinePayment                           3.02     3.04    
    Dancer2                                           0.200000 0.201000
    Dancer2::Plugin::Auth::Extensible                 0.600    0.600   
    Dancer2::Plugin::Auth::Extensible::Provider::DBIC 0.600    0.600   
    Dancer2::Plugin::DBIC                             0.0013   0.0013  
    Dancer2::Session::DBIC                            0.102    0.102   
    Interchange6                                      0.120    0.120   
    Interchange6::Schema                              0.110    0.130   
    JSON::MaybeXS                                     1.003003 1.003005
    Module::Runtime                                   0        0.014   
    MooseX::CoverableModifiers                        0        0.30    
    namespace::clean                                  0        0.27    
    Net::HTTPS::Any                                   0.11     0.11    
    perl                                              5.010000 5.020002
    Scalar::Util                                      0        1.45    
    YAML                                              0        1.18    

build_requires:

    Module                                            Need     Have    
    ------------------------------------------------- -------- --------
    File::Temp                                        0        0.2304  
    Module::Find                                      0        0.13    
    Test::Deep                                        0        1.120   
    Test::Exception                                   0        0.43    
    Test::More                                        0.94     1.302049
    Test::WWW::Mechanize::PSGI                        0.35     0.36    

configure_requires:

    Module                                            Need     Have    
    ------------------------------------------------- -------- --------
    ExtUtils::MakeMaker                               0        7.18    


------------------------------
ENVIRONMENT AND OTHER CONTEXT
------------------------------

Environment variables:

    AUTOMATED_TESTING = 1
    LANG = en_US.UTF-8
    PATH = /usr/local/bin:/usr/bin:/bin:/usr/local/games:/usr/games
    PERL5LIB = 
    PERL5OPT = 
    PERL5_CPANPLUS_IS_RUNNING = 8812
    PERL5_CPAN_IS_RUNNING = 8812
    PERL5_CPAN_IS_RUNNING_IN_RECURSION = 7363,8812
    PERL_CR_SMOKER_CURRENT = Dancer2-Plugin-Interchange6-0.203
    PERL_EXTUTILS_AUTOINSTALL = --defaultdeps
    PERL_MM_USE_DEFAULT = 1
    SHELL = /bin/bash
    TERM = xterm

Perl special variables (and OS-specific diagnostics, for MSWin32):

    $^X = /home/stro/perl/5.20.2t/bin/perl
    $UID/$EUID = 1000 / 1000
    $GID = 1000 24 25 29 30 44 46 108 114 1000
    $EGID = 1000 24 25 29 30 44 46 108 114 1000

Perl module toolchain versions installed:

    Module              Have    
    ------------------- --------
    CPAN                2.15    
    CPAN::Meta          2.150009
    Cwd                 3.62    
    ExtUtils::CBuilder  0.280224
    ExtUtils::Command   7.18    
    ExtUtils::Install   1.67    
    ExtUtils::MakeMaker 7.18    
    ExtUtils::Manifest  1.70    
    ExtUtils::ParseXS   3.30    
    File::Spec          3.62    
    JSON                2.90    
    JSON::PP            2.27300 
    Module::Build       0.4216  
    Module::Signature   0.80    
    Parse::CPAN::Meta   2.150009
    Test::Harness       3.35    
    Test::More          1.302049
    YAML                1.18    
    YAML::Syck          1.29    
    version             0.9917  


--

Summary of my perl5 (revision 5 version 20 subversion 2) configuration:
   
  Platform:
    osname=linux, osvers=3.16.0-4-amd64, archname=x86_64-linux-thread-multi
    uname='linux vm-debian-001 3.16.0-4-amd64 #1 smp debian 3.16.7-ckt11-1 (2015-05-24) x86_64 gnulinux '
    config_args=''
    hint=recommended, useposix=true, d_sigaction=define
    useithreads=define, usemultiplicity=define
    use64bitint=define, use64bitall=define, uselongdouble=undef
    usemymalloc=n, bincompat5005=undef
  Compiler:
    cc='cc', ccflags ='-D_REENTRANT -D_GNU_SOURCE -fwrapv -fno-strict-aliasing -pipe -fstack-protector -I/usr/local/include -D_LARGEFILE_SOURCE -D_FILE_OFFSET_BITS=64',
    optimize='-O2',
    cppflags='-D_REENTRANT -D_GNU_SOURCE -fwrapv -fno-strict-aliasing -pipe -fstack-protector -I/usr/local/include'
    ccversion='', gccversion='4.9.2', gccosandvers=''
    intsize=4, longsize=8, ptrsize=8, doublesize=8, byteorder=12345678
    d_longlong=define, longlongsize=8, d_longdbl=define, longdblsize=16
    ivtype='long', ivsize=8, nvtype='double', nvsize=8, Off_t='off_t', lseeksize=8
    alignbytes=8, prototype=define
  Linker and Libraries:
    ld='cc', ldflags =' -fstack-protector -L/usr/local/lib'
    libpth=/usr/local/lib /usr/lib/gcc/x86_64-linux-gnu/4.9/include-fixed /usr/include/x86_64-linux-gnu /usr/lib /lib/x86_64-linux-gnu /lib/../lib /usr/lib/x86_64-linux-gnu /usr/lib/../lib /lib
    libs=-lnsl -ldl -lm -lcrypt -lutil -lpthread -lc
    perllibs=-lnsl -ldl -lm -lcrypt -lutil -lpthread -lc
    libc=libc-2.19.so, so=so, useshrplib=false, libperl=libperl.a
    gnulibc_version='2.19'
  Dynamic Linking:
    dlsrc=dl_dlopen.xs, dlext=so, d_dlsymun=undef, ccdlflags='-Wl,-E'
    cccdlflags='-fPIC', lddlflags='-shared -O2 -L/usr/local/lib -fstack-protector'


Characteristics of this binary (from libperl): 
  Compile-time options: HAS_TIMES MULTIPLICITY PERLIO_LAYERS
                        PERL_DONT_CREATE_GVSV
                        PERL_HASH_FUNC_ONE_AT_A_TIME_HARD
                        PERL_IMPLICIT_CONTEXT PERL_MALLOC_WRAP
                        PERL_NEW_COPY_ON_WRITE PERL_PRESERVE_IVUV
                        USE_64_BIT_ALL USE_64_BIT_INT USE_ITHREADS
                        USE_LARGE_FILES USE_LOCALE USE_LOCALE_COLLATE
                        USE_LOCALE_CTYPE USE_LOCALE_NUMERIC USE_PERLIO
                        USE_PERL_ATOF USE_REENTRANT_API
  Built under linux
  Compiled at Jul 10 2015 16:45:24
  %ENV:
    PERL5LIB=""
    PERL5OPT=""
    PERL5_CPANPLUS_IS_RUNNING="8812"
    PERL5_CPAN_IS_RUNNING="8812"
    PERL5_CPAN_IS_RUNNING_IN_RECURSION="7363,8812"
    PERL_CR_SMOKER_CURRENT="Dancer2-Plugin-Interchange6-0.203"
    PERL_EXTUTILS_AUTOINSTALL="--defaultdeps"
    PERL_MM_USE_DEFAULT="1"
  @INC:
    /home/stro/perl/5.20.2t/lib/site_perl/5.20.2/x86_64-linux-thread-multi
    /home/stro/perl/5.20.2t/lib/site_perl/5.20.2
    /home/stro/perl/5.20.2t/lib/5.20.2/x86_64-linux-thread-multi
    /home/stro/perl/5.20.2t/lib/5.20.2
    .