Test-Corpus-Audio-MPD v1.120990 Perl 5 v5.43.3 amd64-netbsd

Status
Pass
From
Carlos Guevara
Dist
Test-Corpus-Audio-MPD v1.120990
Platform
Perl 5 v5.43.3 amd64-netbsd
Date
2025-09-11 22:21:27
ID
a8e00a38-8f5d-11f0-b502-d035c19863c5
This distribution has been tested as part of the CPAN Testers
project, supporting the Perl programming language.  See
http://wiki.cpantesters.org/ for more information or email
questions to cpan-testers-discuss@perl.org


--
Dear Jerome Quelin,

This is a computer-generated report for Test-Corpus-Audio-MPD-1.120990
on perl 5.43.3, created by CPAN-Reporter-1.2020.

Thank you for uploading your work to CPAN.  Congratulations!
All tests were successful.

Sections of this report:

    * Tester comments
    * Program output
    * Prerequisites
    * Environment and other context

------------------------------
TESTER COMMENTS
------------------------------

Additional comments from tester:

this report is from an automated smoke testing program
and was not reviewed by a human for accuracy

------------------------------
PROGRAM OUTPUT
------------------------------

Output from './Build test':

t/00-compile.t ................ ok
# 
# 
# perl: v5.43.3 (wanted 5.008) on netbsd from /home/cpan/bin/perl/bin/perl5.43.3
# 
# Exporter                                      => 5.79       (want any version)
# File::Copy                                    => 2.42       (want any version)
# File::ShareDir::PathClass                     => 1.112440   (want any version)
# File::Temp                                    => 0.2312     (want any version)
# Module::Build                                 => 0.4234     (want 0.3601) 
# Path::Class                                   => 0.37       (want any version)
# Readonly                                      => 2.05       (want any version)
# Test::More                                    => 1.302214   (want 0.88)   
# base                                          => 2.27       (want any version)
# strict                                        => 1.14       (want any version)
# warnings                                      => 1.74       (want any version)
# 
# Thanks for using my code.  I hope it works for you.
# If not, please try and include this output in the bug report.
# That will help me reproduce the issue and solve you problem.
# 
t/000-report-versions-tiny.t .. ok
t/release-has-version.t ....... skipped: these tests are for release candidate testing
t/release-kwalitee.t .......... skipped: these tests are for release candidate testing
t/release-minimum-version.t ... skipped: these tests are for release candidate testing
t/release-pod-coverage.t ...... skipped: these tests are for release candidate testing
t/release-pod-syntax.t ........ skipped: these tests are for release candidate testing
All tests successful.
Files=7, Tests=2,  0 wallclock secs ( 0.03 usr  0.00 sys +  0.32 cusr  0.15 csys =  0.50 CPU)
Result: PASS

------------------------------
PREREQUISITES
------------------------------

Prerequisite modules loaded:

requires:

    Module                    Need   Have    
    ------------------------- ------ --------
    base                      0      2.27    
    Exporter                  0      5.79    
    File::Copy                0      2.42    
    File::ShareDir            1.00   1.118   
    File::ShareDir::PathClass 0      1.112440
    File::Temp                0      0.2312  
    Path::Class               0      0.37    
    perl                      5.008  5.043003
    Readonly                  0      2.05    
    strict                    0      1.14    
    warnings                  0      1.74    

build_requires:

    Module                    Need   Have    
    ------------------------- ------ --------
    Module::Build             0.3601 0.4234  
    Test::More                0.88   1.302214

configure_requires:

    Module                    Need   Have    
    ------------------------- ------ --------
    Module::Build             0.3601 0.4234  


------------------------------
ENVIRONMENT AND OTHER CONTEXT
------------------------------

Environment variables:

    AUTOMATED_TESTING = 1
    DATE_MANIP_TEST_DM5 = 1
    LC_ALL = C
    NONINTERACTIVE_TESTING = 1
    NO_NETWORK_TESTING = 1
    PATH = /home/cpan/bin/perl/bin:/home/cpan/bin:/home/cpan/bin:/bin:/sbin:/usr/bin:/usr/sbin:/usr/X11R7/bin:/usr/pkg/bin:/usr/pkg/sbin:/usr/games:/usr/local/bin:/usr/local/sbin
    PERL5LIB = /home/cpan/.cpan/build/MP3-PodcastFetch-1.05-0/blib/arch:/home/cpan/.cpan/build/MP3-PodcastFetch-1.05-0/blib/lib
    PERL5OPT = 
    PERL5_CPANPLUS_IS_RUNNING = 23272
    PERL5_CPAN_IS_RUNNING = 23272
    PERL_MM_USE_DEFAULT = 1
    PERL_PERTURB_KEYS = 0
    PERL_USE_UNSAFE_INC = 1
    SHELL = /usr/pkg/bin/bash
    TERM = screen
    TMPDIR = /home/cpan/tmp

Perl special variables (and OS-specific diagnostics, for MSWin32):

    $^X = /home/cpan/bin/perl/bin/perl5.43.3
    $UID/$EUID = 1003 / 1003
    $GID = 100 100
    $EGID = 100 100

Perl module toolchain versions installed:

    Module              Have    
    ------------------- --------
    CPAN                2.38    
    CPAN::Meta          2.150010
    Cwd                 3.94    
    ExtUtils::CBuilder  0.280242
    ExtUtils::Command   7.76    
    ExtUtils::Install   2.22    
    ExtUtils::MakeMaker 7.76    
    ExtUtils::Manifest  1.75    
    ExtUtils::ParseXS   3.60    
    File::Spec          3.94    
    JSON                4.10    
    JSON::PP            4.16    
    Module::Build       0.4234  
    Module::Signature   n/a     
    Parse::CPAN::Meta   2.150010
    Test2               1.302214
    Test::Harness       3.52    
    Test::More          1.302214
    YAML                1.31    
    YAML::Syck          1.34    
    version             0.9933  


--

Summary of my perl5 (revision 5 version 43 subversion 3) configuration:
  Commit id: 4355559c2a42af9cbe01cb8ead8ecbfbe5a71b1b
  Platform:
    osname=netbsd
    osvers=10.1
    archname=amd64-netbsd
    uname='netbsd cjg-netbsd10 10.1 netbsd 10.1 (generic) #0: mon dec 16 13:08:11 utc 2024 mkrepro@mkrepro.netbsd.org:usrsrcsysarchamd64compilegeneric amd64 '
    config_args='-des -Dprefix=/home/cpan/bin/perl -Dscriptdir=/home/cpan/bin/perl/bin -Dusedevel -Duse64bitall'
    hint=recommended
    useposix=true
    d_sigaction=define
    useithreads=undef
    usemultiplicity=undef
    use64bitint=define
    use64bitall=define
    uselongdouble=undef
    usemymalloc=n
    default_inc_excludes_dot=define
  Compiler:
    cc='cc'
    ccflags ='-fwrapv -fno-strict-aliasing -pipe -fstack-protector-strong -I/usr/pkg/include -D_FORTIFY_SOURCE=2'
    optimize='-O'
    cppflags='-fwrapv -fno-strict-aliasing -pipe -fstack-protector-strong -I/usr/pkg/include'
    ccversion=''
    gccversion='10.5.0'
    gccosandvers=''
    intsize=4
    longsize=8
    ptrsize=8
    doublesize=8
    byteorder=12345678
    doublekind=3
    d_longlong=define
    longlongsize=8
    d_longdbl=define
    longdblsize=16
    longdblkind=3
    ivtype='long'
    ivsize=8
    nvtype='double'
    nvsize=8
    Off_t='off_t'
    lseeksize=8
    alignbytes=8
    prototype=define
  Linker and Libraries:
    ld='cc'
    ldflags =' -Wl,-rpath,/usr/pkg/lib -Wl,-rpath,/usr/local/lib -fstack-protector-strong -L/usr/pkg/lib'
    libpth=/usr/lib /usr/pkg/lib /lib
    libs=-lpthread -lm -lcrypt -lutil -lc -lposix
    perllibs=-lpthread -lm -lcrypt -lutil -lc -lposix
    libc=/lib/libc.so
    so=so
    useshrplib=false
    libperl=libperl.a
    gnulibc_version=''
  Dynamic Linking:
    dlsrc=dl_dlopen.xs
    dlext=so
    d_dlsymun=undef
    ccdlflags='-Wl,-E '
    cccdlflags='-DPIC -fPIC '
    lddlflags='-shared  -L/usr/pkg/lib -fstack-protector-strong'


Characteristics of this binary (from libperl): 
  Compile-time options:
    HAS_LONG_DOUBLE
    HAS_STRTOLD
    HAS_TIMES
    PERLIO_LAYERS
    PERL_COPY_ON_WRITE
    PERL_DONT_CREATE_GVSV
    PERL_HASH_FUNC_SIPHASH13
    PERL_HASH_USE_SBOX32
    PERL_MALLOC_WRAP
    PERL_OP_PARENT
    PERL_PRESERVE_IVUV
    PERL_USE_DEVEL
    PERL_USE_SAFE_PUTENV
    USE_64_BIT_ALL
    USE_64_BIT_INT
    USE_LARGE_FILES
    USE_LOCALE
    USE_LOCALE_COLLATE
    USE_LOCALE_CTYPE
    USE_LOCALE_NUMERIC
    USE_LOCALE_TIME
    USE_PERLIO
    USE_PERL_ATOF
  Built under netbsd
  Compiled at Sep 10 2025 14:32:40
  %ENV:
    PERL5LIB="/home/cpan/.cpan/build/MP3-PodcastFetch-1.05-0/blib/arch:/home/cpan/.cpan/build/MP3-PodcastFetch-1.05-0/blib/lib"
    PERL5OPT=""
    PERL5_CPANPLUS_IS_RUNNING="23272"
    PERL5_CPAN_IS_RUNNING="23272"
    PERL_MM_USE_DEFAULT="1"
    PERL_PERTURB_KEYS="0"
    PERL_USE_UNSAFE_INC="1"
  @INC:
    /home/cpan/.cpan/build/MP3-PodcastFetch-1.05-0/blib/arch
    /home/cpan/.cpan/build/MP3-PodcastFetch-1.05-0/blib/lib
    /home/cpan/bin/perl/lib/site_perl/5.43.3/amd64-netbsd
    /home/cpan/bin/perl/lib/site_perl/5.43.3
    /home/cpan/bin/perl/lib/5.43.3/amd64-netbsd
    /home/cpan/bin/perl/lib/5.43.3
    .