Dist-Zilla-PluginBundle-Author-DBR v1.2.5 Perl 5 v5.29.2 OpenBSD.amd64-openbsd

Status
Pass
From
Alceu Rodrigues de Freitas Junior
Dist
Dist-Zilla-PluginBundle-Author-DBR v1.2.5
Platform
Perl 5 v5.29.2 OpenBSD.amd64-openbsd
Date
2018-09-05 22:54:35
ID
a8d22786-b15e-11e8-844f-ee57a6f199d0
This distribution has been tested as part of the CPAN Testers
project, supporting the Perl programming language.  See
http://wiki.cpantesters.org/ for more information or email
questions to cpan-testers-discuss@perl.org


--
Dear Daniel,

This is a computer-generated report for Dist-Zilla-PluginBundle-Author-DBR-1.2.5
on perl 5.29.2, created by CPAN-Reporter-1.2018.

Thank you for uploading your work to CPAN.  Congratulations!
All tests were successful.

Sections of this report:

    * Tester comments
    * Program output
    * Prerequisites
    * Environment and other context

------------------------------
TESTER COMMENTS
------------------------------

Additional comments from tester:

this report is from an automated smoke testing program
and was not reviewed by a human for accuracy

------------------------------
PROGRAM OUTPUT
------------------------------

Output from './Build test':

t/00-check-deps.t ........ ok
t/00-load.t .............. ok
# Prerequisite Report:
#    Version Module                                          
#   -------- ------------------------------------------------
#       1.38 Carp                                            
#      6.012 Dist::Zilla                                     
#      1.009 Dist::Zilla::Plugin::Authority                  
#      6.012 Dist::Zilla::Plugin::AutoPrereqs                
#       0.05 Dist::Zilla::Plugin::CheckChangeLog             
#      0.011 Dist::Zilla::Plugin::CheckChangesHasContent     
#      0.029 Dist::Zilla::Plugin::CheckExtraTests            
#      0.020 Dist::Zilla::Plugin::CheckPrereqsIndexed        
#   0.121750 Dist::Zilla::Plugin::CheckVersionIncrement      
#      6.012 Dist::Zilla::Plugin::ConfirmRelease             
#       0.19 Dist::Zilla::Plugin::EOLTests                   
#       0.58 Dist::Zilla::Plugin::GithubMeta                 
#   1.101420 Dist::Zilla::Plugin::HasVersionTests            
#   1.200011 Dist::Zilla::Plugin::InstallGuide               
#      0.008 Dist::Zilla::Plugin::InstallRelease             
#      6.012 Dist::Zilla::Plugin::MetaJSON                   
#   2.001001 Dist::Zilla::Plugin::MetaProvides::Class        
#   2.004003 Dist::Zilla::Plugin::MetaProvides::Package      
#      6.012 Dist::Zilla::Plugin::MetaTests                  
#      6.012 Dist::Zilla::Plugin::MetaYAML                   
#      1.006 Dist::Zilla::Plugin::MinimumPerl                
#      6.012 Dist::Zilla::Plugin::ModuleBuild                
#      6.012 Dist::Zilla::Plugin::NextRelease                
#       0.15 Dist::Zilla::Plugin::NoTabsTests                
#      6.012 Dist::Zilla::Plugin::PkgVersion                 
#      6.012 Dist::Zilla::Plugin::PodCoverageTests           
#      6.012 Dist::Zilla::Plugin::PodSyntaxTests             
#      4.008 Dist::Zilla::Plugin::PodWeaver                  
#       0.35 Dist::Zilla::Plugin::ReadmeFromPod              
#      undef Dist::Zilla::Plugin::ReportPhase                
#   1.110730 Dist::Zilla::Plugin::ReportVersions             
#      0.047 Dist::Zilla::Plugin::Run::Release               
#      0.029 Dist::Zilla::Plugin::RunExtraTests              
#      0.3.2 Dist::Zilla::Plugin::SchwartzRatio              
#      0.6.0 Dist::Zilla::Plugin::ShareDir::Tarball          
#   1.001000 Dist::Zilla::Plugin::SpellingCommonMistakesTests
#   0.101628 Dist::Zilla::Plugin::TaskWeaver                 
#      0.012 Dist::Zilla::Plugin::Test::CPAN::Changes        
#      0.011 Dist::Zilla::Plugin::Test::ChangesHasContent    
#      0.014 Dist::Zilla::Plugin::Test::CheckDeps            
#       0.04 Dist::Zilla::Plugin::Test::CheckManifest        
#      2.058 Dist::Zilla::Plugin::Test::Compile              
#       0.03 Dist::Zilla::Plugin::Test::Legal                
#   2.000008 Dist::Zilla::Plugin::Test::MinimumVersion       
#      3.001 Dist::Zilla::Plugin::Test::Perl::Critic         
#   2.001000 Dist::Zilla::Plugin::Test::Portability          
#      0.027 Dist::Zilla::Plugin::Test::ReportPrereqs        
#      0.002 Dist::Zilla::Plugin::Test::UseAllModules        
#      6.012 Dist::Zilla::Plugin::TestRelease                
#      2.045 Dist::Zilla::PluginBundle::Git                  
#       1.00 Dist::Zilla::Role::PluginBundle::Merged         
#       7.34 ExtUtils::MakeMaker                             
#       3.74 File::Spec::Functions                           
#       1.50 List::Util                                      
#     0.4224 Module::Build                                   
#       0.43 MooseX::Declare                                 
#   0.093004 Pod::Weaver::Plugin::WikiDoc                    
#      1.010 Pod::Weaver::Section::Support                   
#       1.50 Scalar::Util                                    
#       0.25 Test::CPAN::Meta                                
#      0.010 Test::CheckDeps                                 
#   1.302140 Test::More                                      
#       0.17 Test::UseAllModules                             
#       1.11 strict                                          
#       0.18 true                                            
#       1.43 warnings                                        
t/00-report-prereqs.t .... ok
# Testing with Perl 5.029002, /home/vegeta/perl5/perlbrew/perls/perl-blead/bin/perl5.29.2
#     Carp version is 1.38
#     Dist::Zilla version is 6.012
#     Dist::Zilla::Plugin::Authority version is 1.009
#     Dist::Zilla::Plugin::AutoPrereqs version is 6.012
#     Dist::Zilla::Plugin::CheckChangeLog version is 0.05
#     Dist::Zilla::Plugin::CheckChangesHasContent version is 0.011
#     Dist::Zilla::Plugin::CheckExtraTests version is 0.029
#     Dist::Zilla::Plugin::CheckPrereqsIndexed version is 0.020
#     Dist::Zilla::Plugin::CheckVersionIncrement version is 0.121750
#     Dist::Zilla::Plugin::ConfirmRelease version is 6.012
#     Dist::Zilla::Plugin::EOLTests version is 0.19
#     Dist::Zilla::Plugin::GithubMeta version is 0.58
#     Dist::Zilla::Plugin::HasVersionTests version is 1.101420
#     Dist::Zilla::Plugin::InstallGuide version is 1.200011
#     Dist::Zilla::Plugin::InstallRelease version is 0.008
#     Dist::Zilla::Plugin::MetaJSON version is 6.012
#     Dist::Zilla::Plugin::MetaProvides::Class version is 2.001001
#     Dist::Zilla::Plugin::MetaProvides::Package version is 2.004003
#     Dist::Zilla::Plugin::MetaTests version is 6.012
#     Dist::Zilla::Plugin::MetaYAML version is 6.012
#     Dist::Zilla::Plugin::MinimumPerl version is 1.006
#     Dist::Zilla::Plugin::ModuleBuild version is 6.012
#     Dist::Zilla::Plugin::NextRelease version is 6.012
#     Dist::Zilla::Plugin::NoTabsTests version is 0.15
#     Dist::Zilla::Plugin::PkgVersion version is 6.012
#     Dist::Zilla::Plugin::PodCoverageTests version is 6.012
#     Dist::Zilla::Plugin::PodSyntaxTests version is 6.012
#     Dist::Zilla::Plugin::PodWeaver version is 4.008
#     Dist::Zilla::Plugin::ReadmeFromPod version is 0.35
#     Dist::Zilla::Plugin::ReportPhase version is 0.03
#     Dist::Zilla::Plugin::ReportVersions version is 1.110730
#     Dist::Zilla::Plugin::Run::Release version is 0.047
#     Dist::Zilla::Plugin::RunExtraTests version is 0.029
#     Dist::Zilla::Plugin::SchwartzRatio version is 0.3.2
#     Dist::Zilla::Plugin::ShareDir::Tarball version is 0.6.0
#     Dist::Zilla::Plugin::SpellingCommonMistakesTests version is 1.001000
#     Dist::Zilla::Plugin::TaskWeaver version is 0.101628
#     Dist::Zilla::Plugin::Test::CPAN::Changes version is 0.012
#     Dist::Zilla::Plugin::Test::ChangesHasContent version is 0.011
#     Dist::Zilla::Plugin::Test::CheckDeps version is 0.014
#     Dist::Zilla::Plugin::Test::CheckManifest version is 0.04
#     Dist::Zilla::Plugin::Test::Compile version is 2.058
#     Dist::Zilla::Plugin::Test::Legal version is 0.03
#     Dist::Zilla::Plugin::Test::MinimumVersion version is 2.000008
#     Dist::Zilla::Plugin::Test::Perl::Critic version is 3.001
#     Dist::Zilla::Plugin::Test::Portability version is 2.001000
#     Dist::Zilla::Plugin::Test::ReportPrereqs version is 0.027
#     Dist::Zilla::Plugin::Test::UseAllModules version is 0.002
#     Dist::Zilla::Plugin::TestRelease version is 6.012
#     Dist::Zilla::PluginBundle::Git version is 2.045
#     Dist::Zilla::Role::PluginBundle::Merged version is 1.00
#     ExtUtils::MakeMaker version is 7.34
#     File::Spec::Functions version is 3.74
#     List::Util version is 1.5
#     Module::Build version is 0.4224
#     MooseX::Declare version is 0.43
#     Pod::Weaver::Plugin::WikiDoc version is 0.093004
#     Pod::Weaver::Section::Support version is 1.010
#     Scalar::Util version is 1.5
#     Test::CPAN::Meta version is 0.25
#     Test::CheckDeps version is 0.010
#     Test::More version is 1.302140
#     Test::UseAllModules version is 0.17
#     strict version is 1.11
#     true version is 0.18
#     warnings version is 1.43
t/000-report-versions.t .. ok
All tests successful.
Files=4, Tests=138,  7 wallclock secs ( 0.04 usr  0.04 sys +  5.35 cusr  1.68 csys =  7.11 CPU)
Result: PASS

------------------------------
PREREQUISITES
------------------------------

Prerequisite modules loaded:

requires:

    Module                                           Need   Have    
    ------------------------------------------------ ------ --------
    Dist::Zilla                                      0      6.012   
    Dist::Zilla::Plugin::Authority                   0      1.009   
    Dist::Zilla::Plugin::AutoPrereqs                 0      6.012   
    Dist::Zilla::Plugin::CheckChangeLog              0      0.05    
    Dist::Zilla::Plugin::CheckChangesHasContent      0      0.011   
    Dist::Zilla::Plugin::CheckExtraTests             0      0.029   
    Dist::Zilla::Plugin::CheckPrereqsIndexed         0      0.020   
    Dist::Zilla::Plugin::CheckVersionIncrement       0      0.121750
    Dist::Zilla::Plugin::ConfirmRelease              0      6.012   
    Dist::Zilla::Plugin::EOLTests                    0      0.19    
    Dist::Zilla::Plugin::GithubMeta                  0      0.58    
    Dist::Zilla::Plugin::HasVersionTests             0      1.101420
    Dist::Zilla::Plugin::InstallGuide                0      1.200011
    Dist::Zilla::Plugin::InstallRelease              0      0.008   
    Dist::Zilla::Plugin::MetaJSON                    0      6.012   
    Dist::Zilla::Plugin::MetaProvides::Class         0      2.001001
    Dist::Zilla::Plugin::MetaProvides::Package       0      2.004003
    Dist::Zilla::Plugin::MetaTests                   0      6.012   
    Dist::Zilla::Plugin::MetaYAML                    0      6.012   
    Dist::Zilla::Plugin::MinimumPerl                 0      1.006   
    Dist::Zilla::Plugin::ModuleBuild                 0      6.012   
    Dist::Zilla::Plugin::NextRelease                 0      6.012   
    Dist::Zilla::Plugin::NoTabsTests                 0      0.15    
    Dist::Zilla::Plugin::PkgVersion                  0      6.012   
    Dist::Zilla::Plugin::PodCoverageTests            0      6.012   
    Dist::Zilla::Plugin::PodSyntaxTests              0      6.012   
    Dist::Zilla::Plugin::PodWeaver                   0      4.008   
    Dist::Zilla::Plugin::ReadmeFromPod               0      0.35    
    Dist::Zilla::Plugin::ReportPhase                 0      0.03    
    Dist::Zilla::Plugin::ReportVersions              0      1.110730
    Dist::Zilla::Plugin::Run::Release                0      0.047   
    Dist::Zilla::Plugin::RunExtraTests               0      0.029   
    Dist::Zilla::Plugin::SchwartzRatio               0      0.3.2   
    Dist::Zilla::Plugin::ShareDir::Tarball           0      0.6.0   
    Dist::Zilla::Plugin::SpellingCommonMistakesTests 0      1.001000
    Dist::Zilla::Plugin::TaskWeaver                  0      0.101628
    Dist::Zilla::Plugin::Test::ChangesHasContent     0      0.011   
    Dist::Zilla::Plugin::Test::CheckDeps             0      0.014   
    Dist::Zilla::Plugin::Test::CheckManifest         0      0.04    
    Dist::Zilla::Plugin::Test::Compile               0      2.058   
    Dist::Zilla::Plugin::Test::CPAN::Changes         0      0.012   
    Dist::Zilla::Plugin::Test::Legal                 0      0.03    
    Dist::Zilla::Plugin::Test::MinimumVersion        0      2.000008
    Dist::Zilla::Plugin::Test::Perl::Critic          0      3.001   
    Dist::Zilla::Plugin::Test::Portability           0      2.001000
    Dist::Zilla::Plugin::Test::ReportPrereqs         0      0.027   
    Dist::Zilla::Plugin::Test::UseAllModules         0      0.002   
    Dist::Zilla::Plugin::TestRelease                 0      6.012   
    Dist::Zilla::PluginBundle::Git                   0      2.045   
    Dist::Zilla::Role::PluginBundle::Merged          0      1.00    
    MooseX::Declare                                  0      0.43    
    Pod::Weaver::Plugin::WikiDoc                     0      0.093004
    Pod::Weaver::Section::Support                    0      1.010   
    Test::CPAN::Meta                                 0      0.25    
    Test::UseAllModules                              0      0.17    
    true                                             0      0.18    

build_requires:

    Module                                           Need   Have    
    ------------------------------------------------ ------ --------
    Carp                                             0      1.38    
    ExtUtils::MakeMaker                              0      7.34    
    File::Spec::Functions                            0      3.74    
    List::Util                                       0      1.50    
    Module::Build                                    0.3601 0.4224  
    perl                                             5.004  5.029002
    Scalar::Util                                     0      1.50    
    strict                                           0      1.11    
    Test::CheckDeps                                  0.006  0.010   
    Test::More                                       0.94   1.302140
    Test::UseAllModules                              0      0.17    
    warnings                                         0      1.43    

configure_requires:

    Module                                           Need   Have    
    ------------------------------------------------ ------ --------
    ExtUtils::MakeMaker                              6.30   7.34    
    Module::Build                                    0.3601 0.4224  


------------------------------
ENVIRONMENT AND OTHER CONTEXT
------------------------------

Environment variables:

    AUTOMATED_TESTING = 1
    DBD_MYSQL_TESTDB = test
    DBD_MYSQL_TESTHOST = localhost
    DBD_MYSQL_TESTPASSWORD = 
    DBD_MYSQL_TESTPORT = 3306
    DBD_MYSQL_TESTUSER = vegeta
    EXTENDED_TESTING = 1
    PATH = /home/vegeta/perl5/perlbrew/bin:/home/vegeta/perl5/perlbrew/perls/perl-blead/bin:/home/vegeta/bin:/usr/bin:/bin:/usr/sbin:/sbin:/usr/X11R6/bin:/usr/local/bin:/usr/local/sbin
    PERL5LIB = 
    PERL5OPT = 
    PERL5_CPANPLUS_IS_RUNNING = 56944
    PERL5_CPAN_IS_RUNNING = 56944
    PERL5_CPAN_IS_RUNNING_IN_RECURSION = 6785,56944
    PERLBREW_HOME = /home/vegeta/.perlbrew
    PERLBREW_MANPATH = /home/vegeta/perl5/perlbrew/perls/perl-blead/man
    PERLBREW_PATH = /home/vegeta/perl5/perlbrew/bin:/home/vegeta/perl5/perlbrew/perls/perl-blead/bin
    PERLBREW_PERL = perl-blead
    PERLBREW_ROOT = /home/vegeta/perl5/perlbrew
    PERLBREW_SHELLRC_VERSION = 0.84
    PERLBREW_VERSION = 0.84
    PERL_CR_SMOKER_CURRENT = Dist-Zilla-PluginBundle-Author-DBR-1.2.5
    PERL_EXTUTILS_AUTOINSTALL = --defaultdeps
    PERL_MM_USE_DEFAULT = 1
    SHELL = /usr/local/bin/bash
    TERM = vt220

Perl special variables (and OS-specific diagnostics, for MSWin32):

    $^X = /home/vegeta/perl5/perlbrew/perls/perl-blead/bin/perl5.29.2
    $UID/$EUID = 1001 / 1001
    $GID = 999 999 1001
    $EGID = 999 999 1001

Perl module toolchain versions installed:

    Module              Have    
    ------------------- --------
    CPAN                2.16    
    CPAN::Meta          2.150010
    Cwd                 3.74    
    ExtUtils::CBuilder  0.280230
    ExtUtils::Command   7.34    
    ExtUtils::Install   2.14    
    ExtUtils::MakeMaker 7.34    
    ExtUtils::Manifest  1.71    
    ExtUtils::ParseXS   3.35    
    File::Spec          3.74    
    JSON                2.97001 
    JSON::PP            2.97001 
    Module::Build       0.4224  
    Module::Signature   0.81    
    Parse::CPAN::Meta   2.150010
    Test::Harness       3.42    
    Test::More          1.302140
    YAML                1.26    
    YAML::Syck          n/a     
    version             0.9924  


--

Summary of my perl5 (revision 5 version 29 subversion 2) configuration:
  Snapshot of: cef721997e14497f2fbc4be17ab736ad7ddfda29
  Platform:
    osname=openbsd
    osvers=6.3
    archname=OpenBSD.amd64-openbsd
    uname='openbsd cpan-smoker-openbsd 6.3 generic.mp#107 amd64 '
    config_args='-de -Dprefix=/home/vegeta/perl5/perlbrew/perls/perl-blead -Dman1dir=none -Dman3dir=none -Dusedevel -Aeval:scriptdir=/home/vegeta/perl5/perlbrew/perls/perl-blead/bin'
    hint=recommended
    useposix=true
    d_sigaction=define
    useithreads=undef
    usemultiplicity=undef
    use64bitint=define
    use64bitall=define
    uselongdouble=undef
    usemymalloc=n
    default_inc_excludes_dot=define
    bincompat5005=undef
  Compiler:
    cc='cc'
    ccflags ='-fno-strict-aliasing -pipe -fstack-protector-strong -I/usr/local/include -D_FORTIFY_SOURCE=2'
    optimize='-O2'
    cppflags='-fno-strict-aliasing -pipe -fstack-protector-strong -I/usr/local/include'
    ccversion=''
    gccversion='4.2.1 Compatible OpenBSD Clang 5.0.1 (tags/RELEASE_501/final)'
    gccosandvers=''
    intsize=4
    longsize=8
    ptrsize=8
    doublesize=8
    byteorder=12345678
    doublekind=3
    d_longlong=define
    longlongsize=8
    d_longdbl=define
    longdblsize=16
    longdblkind=3
    ivtype='long'
    ivsize=8
    nvtype='double'
    nvsize=8
    Off_t='off_t'
    lseeksize=8
    alignbytes=8
    prototype=define
  Linker and Libraries:
    ld='cc'
    ldflags ='-Wl,-E  -fstack-protector-strong -L/usr/local/lib'
    libpth=/usr/lib /usr/local/lib
    libs=-lpthread -lm -lutil -lc
    perllibs=-lpthread -lm -lutil -lc
    libc=/usr/lib/libc.so.92.3
    so=so
    useshrplib=false
    libperl=libperl.a
    gnulibc_version=''
  Dynamic Linking:
    dlsrc=dl_dlopen.xs
    dlext=so
    d_dlsymun=undef
    ccdlflags=' '
    cccdlflags='-DPIC -fPIC '
    lddlflags='-shared -fPIC  -L/usr/local/lib -fstack-protector-strong'


Characteristics of this binary (from libperl): 
  Compile-time options:
    HAS_TIMES
    PERLIO_LAYERS
    PERL_COPY_ON_WRITE
    PERL_DONT_CREATE_GVSV
    PERL_MALLOC_WRAP
    PERL_OP_PARENT
    PERL_PRESERVE_IVUV
    PERL_USE_DEVEL
    USE_64_BIT_ALL
    USE_64_BIT_INT
    USE_LARGE_FILES
    USE_LOCALE
    USE_LOCALE_COLLATE
    USE_LOCALE_CTYPE
    USE_LOCALE_NUMERIC
    USE_LOCALE_TIME
    USE_PERLIO
    USE_PERL_ATOF
  Locally applied patches:
    Devel::PatchPerl 1.52
  Built under openbsd
  Compiled at Aug  2 2018 18:57:44
  %ENV:
    PERL5LIB=""
    PERL5OPT=""
    PERL5_CPANPLUS_IS_RUNNING="56944"
    PERL5_CPAN_IS_RUNNING="56944"
    PERL5_CPAN_IS_RUNNING_IN_RECURSION="6785,56944"
    PERLBREW_HOME="/home/vegeta/.perlbrew"
    PERLBREW_MANPATH="/home/vegeta/perl5/perlbrew/perls/perl-blead/man"
    PERLBREW_PATH="/home/vegeta/perl5/perlbrew/bin:/home/vegeta/perl5/perlbrew/perls/perl-blead/bin"
    PERLBREW_PERL="perl-blead"
    PERLBREW_ROOT="/home/vegeta/perl5/perlbrew"
    PERLBREW_SHELLRC_VERSION="0.84"
    PERLBREW_VERSION="0.84"
    PERL_CR_SMOKER_CURRENT="Dist-Zilla-PluginBundle-Author-DBR-1.2.5"
    PERL_EXTUTILS_AUTOINSTALL="--defaultdeps"
    PERL_MM_USE_DEFAULT="1"
  @INC:
    /home/vegeta/perl5/perlbrew/perls/perl-blead/lib/site_perl/5.29.2/OpenBSD.amd64-openbsd
    /home/vegeta/perl5/perlbrew/perls/perl-blead/lib/site_perl/5.29.2
    /home/vegeta/perl5/perlbrew/perls/perl-blead/lib/5.29.2/OpenBSD.amd64-openbsd
    /home/vegeta/perl5/perlbrew/perls/perl-blead/lib/5.29.2