Report for IdcheckioPerl-Client-1.0.3.1

Back
From: metabase:user:30977d10-2aae-11df-837a-5e0a49663a4f
Subject: PASS IdcheckioPerl-Client-1.0.3.1 v5.25.8 GNU/Linux
Date: 2016-12-22T21:36:12Z

This distribution has been tested as part of the CPAN Testers
project, supporting the Perl programming language.  See
http://wiki.cpantesters.org/ for more information or email
questions to cpan-testers-discuss@perl.org


--
Dear Jagoudel Denis,

This is a computer-generated report for IdcheckioPerl-Client-1.0.3.1
on perl 5.25.8, created by CPAN-Reporter-1.2018.

Thank you for uploading your work to CPAN.  Congratulations!
All tests were successful.

Sections of this report:

    * Tester comments
    * Program output
    * Prerequisites
    * Environment and other context

------------------------------
TESTER COMMENTS
------------------------------

Additional comments from tester:

this report is from an automated smoke testing program
and was not reviewed by a human for accuracy

------------------------------
PROGRAM OUTPUT
------------------------------

Output from '/usr/bin/make test':

PERL_DL_NONLAZY=1 "/home/stro/perl/5.25.8t/bin/perl" "-MExtUtils::Command::MM" "-MTest::Harness" "-e" "undef *Test::Harness::Switches; test_harness(0, 'blib/lib', 'blib/arch')" t/*.t
t/AdministrationApiTest.t ..................................... ok
t/AnalysisApiTest.t ........................................... ok
t/CheckSummaryOfTheSubmittedDocumentTest.t .................... ok
t/ClassificationOfTheSubmittedDocumentTest.t .................. ok
t/ControlGroupTest.t .......................................... ok
t/ControlTest.t ............................................... ok
t/DetailedInformationOfTheHolderOfTheSubmittedDocumentTest.t .. ok
t/DetailedInformationOfTheSubmittedDocumentTest.t ............. ok
t/ErrorResponseTest.t ......................................... ok
t/EventDateTest.t ............................................. ok
t/ExtractedImageTest.t ........................................ ok
t/GenericDataTest.t ........................................... ok
t/HealthResponseTest.t ........................................ ok
t/ImageIndicatorTest.t ........................................ ok
t/ImageListResponseTest.t ..................................... ok
t/ImageRequestTest.t .......................................... ok
t/ImageTest.t ................................................. ok
t/MrzListResponseTest.t ....................................... ok
t/MrzRequestTest.t ............................................ ok
t/MrzResponseTest.t ........................................... ok
t/MrzTest.t ................................................... ok
t/ReportResponseTest.t ........................................ ok
t/ResultResponseTest.t ........................................ ok
t/SandboxApiTest.t ............................................ ok
t/TaskResponseTest.t .......................................... ok
t/UserResponseTest.t .......................................... ok
All tests successful.
Files=26, Tests=55,  4 wallclock secs ( 0.07 usr  0.00 sys +  4.28 cusr  0.25 csys =  4.60 CPU)
Result: PASS

------------------------------
PREREQUISITES
------------------------------

Prerequisite modules loaded:

build_requires:

    Module               Need  Have   
    -------------------- ----- -------
    Class::Accessor      0.34  0.34   
    CPAN                 2.11  2.14_01
    Date::Parse          2.30  2.30   
    DateTime             1.41  1.41   
    JSON                 2.90  2.90   
    Log::Any             1.045 1.045  
    LWP::Protocol::https 6.06  6.06   
    LWP::UserAgent       6.15  6.15   
    Module::Runtime      0.014 0.014  
    Test::Exception      0.43  0.43   
    URI::Query           0.16  0.16   

configure_requires:

    Module               Need  Have   
    -------------------- ----- -------
    ExtUtils::MakeMaker  0     7.24   


------------------------------
ENVIRONMENT AND OTHER CONTEXT
------------------------------

Environment variables:

    AUTOMATED_TESTING = 1
    LANG = en_US.UTF-8
    PATH = /usr/local/bin:/usr/bin:/bin:/usr/local/games:/usr/games
    PERL5LIB = 
    PERL5OPT = 
    PERL5_CPANPLUS_IS_RUNNING = 4847
    PERL5_CPAN_IS_RUNNING = 4847
    PERL5_CPAN_IS_RUNNING_IN_RECURSION = 29489,4847
    PERL_CR_SMOKER_CURRENT = IdcheckioPerl-Client-1.0.3.1
    PERL_EXTUTILS_AUTOINSTALL = --defaultdeps
    PERL_MM_USE_DEFAULT = 1
    SHELL = /bin/bash
    TERM = xterm

Perl special variables (and OS-specific diagnostics, for MSWin32):

    $^X = /home/stro/perl/5.25.8t/bin/perl
    $UID/$EUID = 1000 / 1000
    $GID = 1000 24 25 29 30 44 46 108 114 1000
    $EGID = 1000 24 25 29 30 44 46 108 114 1000

Perl module toolchain versions installed:

    Module              Have      
    ------------------- ----------
    CPAN                2.14_01   
    CPAN::Meta          2.150010  
    Cwd                 3.66      
    ExtUtils::CBuilder  0.280225  
    ExtUtils::Command   7.24      
    ExtUtils::Install   2.04      
    ExtUtils::MakeMaker 7.24      
    ExtUtils::Manifest  1.70      
    ExtUtils::ParseXS   3.33      
    File::Spec          3.66      
    JSON                2.90      
    JSON::PP            2.27400_02
    Module::Build       0.4220    
    Module::Signature   n/a       
    Parse::CPAN::Meta   2.150010  
    Test::Harness       3.36_01   
    Test::More          1.302073  
    YAML                1.20      
    YAML::Syck          1.29      
    version             0.9917    


--

Summary of my perl5 (revision 5 version 25 subversion 8) configuration:
   
  Platform:
    osname=linux
    osvers=3.16.0-4-amd64
    archname=x86_64-linux-thread-multi
    uname='linux vm-debian-001 3.16.0-4-amd64 #1 smp debian 3.16.7-ckt11-1 (2015-05-24) x86_64 gnulinux '
    config_args=''
    hint=recommended
    useposix=true
    d_sigaction=define
    useithreads=define
    usemultiplicity=define
    use64bitint=define
    use64bitall=define
    uselongdouble=undef
    usemymalloc=n
    bincompat5005=undef
  Compiler:
    cc='cc'
    ccflags ='-D_REENTRANT -D_GNU_SOURCE -fwrapv -fno-strict-aliasing -pipe -fstack-protector-strong -I/usr/local/include -D_LARGEFILE_SOURCE -D_FILE_OFFSET_BITS=64 -D_FORTIFY_SOURCE=2'
    optimize='-O2'
    cppflags='-D_REENTRANT -D_GNU_SOURCE -fwrapv -fno-strict-aliasing -pipe -fstack-protector-strong -I/usr/local/include'
    ccversion=''
    gccversion='4.9.2'
    gccosandvers=''
    intsize=4
    longsize=8
    ptrsize=8
    doublesize=8
    byteorder=12345678
    doublekind=3
    d_longlong=define
    longlongsize=8
    d_longdbl=define
    longdblsize=16
    longdblkind=3
    ivtype='long'
    ivsize=8
    nvtype='double'
    nvsize=8
    Off_t='off_t'
    lseeksize=8
    alignbytes=8
    prototype=define
  Linker and Libraries:
    ld='cc'
    ldflags =' -fstack-protector-strong -L/usr/local/lib'
    libpth=/usr/local/lib /usr/lib/gcc/x86_64-linux-gnu/4.9/include-fixed /usr/include/x86_64-linux-gnu /usr/lib /lib/x86_64-linux-gnu /lib/../lib /usr/lib/x86_64-linux-gnu /usr/lib/../lib /lib
    libs=-lpthread -lnsl -ldl -lm -lcrypt -lutil -lc
    perllibs=-lpthread -lnsl -ldl -lm -lcrypt -lutil -lc
    libc=libc-2.19.so
    so=so
    useshrplib=false
    libperl=libperl.a
    gnulibc_version='2.19'
  Dynamic Linking:
    dlsrc=dl_dlopen.xs
    dlext=so
    d_dlsymun=undef
    ccdlflags='-Wl,-E'
    cccdlflags='-fPIC'
    lddlflags='-shared -O2 -L/usr/local/lib -fstack-protector-strong'


Characteristics of this binary (from libperl): 
  Compile-time options:
    HAS_TIMES
    MULTIPLICITY
    PERLIO_LAYERS
    PERL_COPY_ON_WRITE
    PERL_DONT_CREATE_GVSV
    PERL_IMPLICIT_CONTEXT
    PERL_MALLOC_WRAP
    PERL_OP_PARENT
    PERL_PRESERVE_IVUV
    USE_64_BIT_ALL
    USE_64_BIT_INT
    USE_ITHREADS
    USE_LARGE_FILES
    USE_LOCALE
    USE_LOCALE_COLLATE
    USE_LOCALE_CTYPE
    USE_LOCALE_NUMERIC
    USE_LOCALE_TIME
    USE_PERLIO
    USE_PERL_ATOF
    USE_REENTRANT_API
  Built under linux
  Compiled at Dec 21 2016 10:35:13
  %ENV:
    PERL5LIB=""
    PERL5OPT=""
    PERL5_CPANPLUS_IS_RUNNING="4847"
    PERL5_CPAN_IS_RUNNING="4847"
    PERL5_CPAN_IS_RUNNING_IN_RECURSION="29489,4847"
    PERL_CR_SMOKER_CURRENT="IdcheckioPerl-Client-1.0.3.1"
    PERL_EXTUTILS_AUTOINSTALL="--defaultdeps"
    PERL_MM_USE_DEFAULT="1"
  @INC:
    /home/stro/perl/5.25.8t/lib/site_perl/5.25.8/x86_64-linux-thread-multi
    /home/stro/perl/5.25.8t/lib/site_perl/5.25.8
    /home/stro/perl/5.25.8t/lib/5.25.8/x86_64-linux-thread-multi
    /home/stro/perl/5.25.8t/lib/5.25.8
    .