WWW-Mechanize-Cached v1.56 Perl 5 v5.40.0 x86_64-linux

Status
Pass
From
Slaven Rezić
Dist
WWW-Mechanize-Cached v1.56
Platform
Perl 5 v5.40.0 x86_64-linux
Date
2025-04-22 20:59:19
ID
a8c63d26-1fbc-11f0-ade2-f62c6e8775ea
This distribution has been tested as part of the CPAN Testers
project, supporting the Perl programming language.  See
http://wiki.cpantesters.org/ for more information or email
questions to cpan-testers-discuss@perl.org


--
Dear Olaf Alders,

This is a computer-generated report for WWW-Mechanize-Cached-1.56
on perl 5.40.0, created by CPAN-Reporter-1.2019.

Thank you for uploading your work to CPAN.  Congratulations!
All tests were successful.

Sections of this report:

    * Tester comments
    * Program output
    * Prerequisites
    * Environment and other context

------------------------------
TESTER COMMENTS
------------------------------

Additional comments from tester:

none provided

------------------------------
PROGRAM OUTPUT
------------------------------

Output from '/usr/bin/make test':

PERL_DL_NONLAZY=1 "/opt/perl-5.40.0/bin/perl" "-MExtUtils::Command::MM" "-MTest::Harness" "-e" "undef *Test::Harness::Switches; test_harness(0, 'blib/lib', 'blib/arch')" t/*.t
# 
# Versions for all modules listed in MYMETA.json (including optional ones):
# 
# === Configure Requires ===
# 
#     Module              Want Have
#     ------------------- ---- ----
#     ExtUtils::MakeMaker  any 7.70
# 
# === Build Requires ===
# 
#     Module              Want Have
#     ------------------- ---- ----
#     ExtUtils::MakeMaker  any 7.70
# 
# === Test Requires ===
# 
#     Module                 Want     Have
#     ---------------------- ---- --------
#     CHI                     any     0.61
#     Cache::FileCache        any    undef
#     ExtUtils::MakeMaker     any     7.70
#     File::Spec              any     3.90
#     HTTP::Request           any     6.46
#     HTTP::Response          any     6.46
#     Path::Tiny              any    0.146
#     Test::Fatal             any    0.017
#     Test::More              any 1.302209
#     Test::Needs             any 0.002010
#     Test::RequiresInternet  any     0.05
#     Test::Warnings          any    0.037
#     URI::file               any     5.28
#     constant                any     1.33
#     lib                     any     0.65
#     strict                  any     1.13
# 
# === Test Recommends ===
# 
#     Module         Want     Have
#     ---------- -------- --------
#     CPAN::Meta 2.120900 2.150010
# 
# === Runtime Requires ===
# 
#     Module                           Want     Have
#     ---------------------------- -------- --------
#     Cache::FileCache                  any    undef
#     Carp                              any     1.54
#     Data::Dump                        any     1.25
#     LWP::UserAgent                   6.66     6.77
#     Module::Runtime                   any    0.016
#     Moo                          1.004005 2.005005
#     MooX::Types::MooseLike::Base      any     0.29
#     Storable                         2.21     3.32
#     WWW::Mechanize                    any     2.18
#     namespace::clean                  any     0.27
#     warnings                          any     1.70
# 
# === Runtime Recommends ===
# 
#     Module Want Have
#     ------ ---- ----
#     CHI     any 0.61
# 
t/00-report-prereqs.t ........ ok
t/002-bad-custom-cache.t ..... ok
t/004-cached.t ............... ok
t/005-custom-cache.t ......... ok
t/006-cached-chi.t ........... ok
t/007-clear-cache.t .......... ok
t/007-initialize-warnings.t .. ok
# reversing page order
t/cache_key.t ................ ok
t/cache_ok.t ................. ok
t/default.t .................. ok
t/is_cached.t ................ ok
t/response_cache_ok.t ........ ok
All tests successful.
Files=12, Tests=129,  9 wallclock secs ( 0.04 usr  0.00 sys +  1.94 cusr  0.24 csys =  2.22 CPU)
Result: PASS

------------------------------
PREREQUISITES
------------------------------

Prerequisite modules loaded:

requires:

    Module                       Need     Have    
    ---------------------------- -------- --------
    Cache::FileCache             0        0       
    Carp                         0        1.54    
    Data::Dump                   0        1.25    
    LWP::UserAgent               6.66     6.77    
    Module::Runtime              0        0.016   
    Moo                          1.004005 2.005005
    MooX::Types::MooseLike::Base 0        0.29    
    namespace::clean             0        0.27    
    perl                         5.008    5.040000
    Storable                     2.21     3.32    
    warnings                     0        1.70    
    WWW::Mechanize               0        2.18    

build_requires:

    Module                       Need     Have    
    ---------------------------- -------- --------
    Cache::FileCache             0        0       
    CHI                          0        0.61    
    constant                     0        1.33    
    ExtUtils::MakeMaker          0        7.70    
    File::Spec                   0        3.90    
    HTTP::Request                0        6.46    
    HTTP::Response               0        6.46    
    lib                          0        0.65    
    Path::Tiny                   0        0.146   
    strict                       0        1.13    
    Test::Fatal                  0        0.017   
    Test::More                   0        1.302209
    Test::Needs                  0        0.002010
    Test::RequiresInternet       0        0.05    
    Test::Warnings               0        0.037   
    URI::file                    0        5.28    

configure_requires:

    Module                       Need     Have    
    ---------------------------- -------- --------
    ExtUtils::MakeMaker          0        7.70    
    perl                         5.006    5.040000


------------------------------
ENVIRONMENT AND OTHER CONTEXT
------------------------------

Environment variables:

    LANG = en_US.UTF-8
    PATH = /usr/local/bin:/usr/bin:/bin:/usr/local/sbin:/usr/sbin:/sbin:/home/cpansand/bin/linux-gnu:/home/cpansand/bin/sh:/home/cpansand/bin:/usr/games:/home/cpansand/devel:/home/eserte/src/srezic-misc/scripts
    PERL5LIB = /home/cpansand/.local/share/.cpan/build/2025042220/HTTP-Tiny-Mech-1.001002-1/blib/arch:/home/cpansand/.local/share/.cpan/build/2025042220/HTTP-Tiny-Mech-1.001002-1/blib/lib
    PERL5OPT = 
    PERL5_CPANPLUS_IS_RUNNING = 184613
    PERL5_CPAN_IS_RUNNING = 184613
    PERL5_CPAN_IS_RUNNING_IN_RECURSION = 181926,184613
    PERLDOC = -MPod::Perldoc::ToTextOverstrike
    PERL_BATCH = yes
    PERL_CANARY_STABILITY_NOPROMPT = 1
    PERL_CPAN_REPORTER_CONFIG = /var/tmp/cpansmoker-1023/2025042220/cpanreporter_000_config.ini
    PERL_EXTUTILS_AUTOINSTALL = --defaultdeps
    PERL_USE_UNSAFE_INC = 1
    SHELL = /usr/bin/zsh
    TERM = screen
    TMPDIR = /var/tmp/cpansmoker-1023/2025042220

Perl special variables (and OS-specific diagnostics, for MSWin32):

    $^X = /opt/perl-5.40.0/bin/perl
    $UID/$EUID = 1023 / 1023
    $GID = 1023 1023
    $EGID = 1023 1023

Perl module toolchain versions installed:

    Module              Have    
    ------------------- --------
    CPAN                2.36    
    CPAN::Meta          2.150010
    Cwd                 3.90    
    ExtUtils::CBuilder  0.280240
    ExtUtils::Command   7.70    
    ExtUtils::Install   2.22    
    ExtUtils::MakeMaker 7.70    
    ExtUtils::Manifest  1.75    
    ExtUtils::ParseXS   3.51    
    File::Spec          3.90    
    JSON                4.10    
    JSON::PP            4.16    
    Module::Build       0.4234  
    Module::Signature   n/a     
    Parse::CPAN::Meta   2.150010
    Test2               1.302209
    Test::Harness       3.50    
    Test::More          1.302209
    YAML                1.31    
    YAML::Syck          1.34    
    version             0.9930  


--

Summary of my perl5 (revision 5 version 40 subversion 0) configuration:
   
  Platform:
    osname=linux
    osvers=5.10.0-30-amd64
    archname=x86_64-linux
    uname='linux cloud7.bbbike.org 5.10.0-30-amd64 #1 smp debian 5.10.218-1 (2024-06-01) x86_64 gnulinux '
    config_args='-ds -e -Dprefix=/opt/perl-5.40.0 -Dcf_email=srezic@cpan.org'
    hint=recommended
    useposix=true
    d_sigaction=define
    useithreads=undef
    usemultiplicity=undef
    use64bitint=define
    use64bitall=define
    uselongdouble=undef
    usemymalloc=n
    default_inc_excludes_dot=define
  Compiler:
    cc='cc'
    ccflags ='-fwrapv -fno-strict-aliasing -pipe -fstack-protector-strong -I/usr/local/include -D_LARGEFILE_SOURCE -D_FILE_OFFSET_BITS=64 -D_FORTIFY_SOURCE=2'
    optimize='-O2'
    cppflags='-fwrapv -fno-strict-aliasing -pipe -fstack-protector-strong -I/usr/local/include'
    ccversion=''
    gccversion='10.2.1 20210110'
    gccosandvers=''
    intsize=4
    longsize=8
    ptrsize=8
    doublesize=8
    byteorder=12345678
    doublekind=3
    d_longlong=define
    longlongsize=8
    d_longdbl=define
    longdblsize=16
    longdblkind=3
    ivtype='long'
    ivsize=8
    nvtype='double'
    nvsize=8
    Off_t='off_t'
    lseeksize=8
    alignbytes=8
    prototype=define
  Linker and Libraries:
    ld='cc'
    ldflags =' -fstack-protector-strong -L/usr/local/lib'
    libpth=/usr/local/lib /usr/lib/x86_64-linux-gnu /usr/lib /usr/lib64
    libs=-lpthread -lgdbm -ldb -ldl -lm -lcrypt -lutil -lc
    perllibs=-lpthread -ldl -lm -lcrypt -lutil -lc
    libc=libc-2.31.so
    so=so
    useshrplib=false
    libperl=libperl.a
    gnulibc_version='2.31'
  Dynamic Linking:
    dlsrc=dl_dlopen.xs
    dlext=so
    d_dlsymun=undef
    ccdlflags='-Wl,-E'
    cccdlflags='-fPIC'
    lddlflags='-shared -O2 -L/usr/local/lib -fstack-protector-strong'


Characteristics of this binary (from libperl): 
  Compile-time options:
    HAS_LONG_DOUBLE
    HAS_STRTOLD
    HAS_TIMES
    PERLIO_LAYERS
    PERL_COPY_ON_WRITE
    PERL_DONT_CREATE_GVSV
    PERL_HASH_FUNC_SIPHASH13
    PERL_HASH_USE_SBOX32
    PERL_MALLOC_WRAP
    PERL_OP_PARENT
    PERL_PRESERVE_IVUV
    PERL_USE_SAFE_PUTENV
    USE_64_BIT_ALL
    USE_64_BIT_INT
    USE_LARGE_FILES
    USE_LOCALE
    USE_LOCALE_COLLATE
    USE_LOCALE_CTYPE
    USE_LOCALE_NUMERIC
    USE_LOCALE_TIME
    USE_PERLIO
    USE_PERL_ATOF
  Built under linux
  Compiled at Jun 10 2024 21:13:43
  %ENV:
    PERL5LIB="/home/cpansand/.local/share/.cpan/build/2025042220/HTTP-Tiny-Mech-1.001002-1/blib/arch:/home/cpansand/.local/share/.cpan/build/2025042220/HTTP-Tiny-Mech-1.001002-1/blib/lib"
    PERL5OPT=""
    PERL5_CPANPLUS_IS_RUNNING="184613"
    PERL5_CPAN_IS_RUNNING="184613"
    PERL5_CPAN_IS_RUNNING_IN_RECURSION="181926,184613"
    PERLDOC="-MPod::Perldoc::ToTextOverstrike"
    PERL_BATCH="yes"
    PERL_CANARY_STABILITY_NOPROMPT="1"
    PERL_CPAN_REPORTER_CONFIG="/var/tmp/cpansmoker-1023/2025042220/cpanreporter_000_config.ini"
    PERL_EXTUTILS_AUTOINSTALL="--defaultdeps"
    PERL_USE_UNSAFE_INC="1"
  @INC:
    /home/cpansand/.local/share/.cpan/build/2025042220/HTTP-Tiny-Mech-1.001002-1/blib/arch
    /home/cpansand/.local/share/.cpan/build/2025042220/HTTP-Tiny-Mech-1.001002-1/blib/lib
    /opt/perl-5.40.0/lib/site_perl/5.40.0/x86_64-linux
    /opt/perl-5.40.0/lib/site_perl/5.40.0
    /opt/perl-5.40.0/lib/5.40.0/x86_64-linux
    /opt/perl-5.40.0/lib/5.40.0
    .