WebService-KVV-Live-Stop v0.007 Perl 5 v5.26.1 i86pc-solaris-thread-multi

Status
Pass
From
Serguei Trouchelle (STRO)
Dist
WebService-KVV-Live-Stop v0.007
Platform
Perl 5 v5.26.1 i86pc-solaris-thread-multi
Date
2017-11-03 17:51:45
ID
a8a19cd2-c0bf-11e7-9afc-edd812b9258d
This distribution has been tested as part of the CPAN Testers
project, supporting the Perl programming language.  See
http://wiki.cpantesters.org/ for more information or email
questions to cpan-testers-discuss@perl.org


--
Dear Ahmad Fatoum,

This is a computer-generated report for WebService-KVV-Live-Stop-0.007
on perl 5.26.1, created by CPAN-Reporter-1.2018.

Thank you for uploading your work to CPAN.  Congratulations!
All tests were successful.

Sections of this report:

    * Tester comments
    * Program output
    * Prerequisites
    * Environment and other context

------------------------------
TESTER COMMENTS
------------------------------

Additional comments from tester:

this report is from an automated smoke testing program
and was not reviewed by a human for accuracy

------------------------------
PROGRAM OUTPUT
------------------------------

Output from '/usr/bin/make test':

Skip blib/lib/auto/share/dist/WebService-KVV-Live-Stop/kvvlive.json (unchanged)
PERL_DL_NONLAZY=1 "/home/stro/perl/5.26.1t/bin/perl" "-MExtUtils::Command::MM" "-MTest::Harness" "-e" "undef *Test::Harness::Switches; test_harness(0, 'blib/lib', 'blib/arch')" t/*.t
t/00-compile.t ......... ok
# 
# Versions for all modules listed in MYMETA.json (including optional ones):
# 
# === Configure Requires ===
# 
#     Module                  Want Have
#     ----------------------- ---- ----
#     ExtUtils::MakeMaker      any 7.24
#     File::ShareDir::Install 0.06 0.11
# 
# === Build Requires ===
# 
#     Module              Want Have
#     ------------------- ---- ----
#     ExtUtils::MakeMaker  any 7.24
# 
# === Test Requires ===
# 
#     Module              Want     Have
#     ------------------- ---- --------
#     ExtUtils::MakeMaker  any     7.24
#     File::Spec           any     3.67
#     IO::Handle           any     1.36
#     IPC::Open3           any     1.20
#     Test::Exception      any     0.43
#     Test::More          0.88 1.302106
#     blib                1.01     1.06
# 
# === Test Recommends ===
# 
#     Module         Want     Have
#     ---------- -------- --------
#     CPAN::Meta 2.120900 2.150010
# 
# === Runtime Requires ===
# 
#     Module                                      Want  Have
#     ------------------------------------------- ---- -----
#     Carp                                         any  1.42
#     File::ShareDir                               any 1.104
#     Net::HTTP::Spore                            0.08  0.09
#     Net::HTTP::Spore::Middleware::DefaultParams  any  0.04
#     Net::HTTP::Spore::Middleware::Format::JSON   any  0.09
#     strict                                       any  1.11
#     utf8                                         any  1.19
#     warnings                                     any  1.37
# 
t/00-report-prereqs.t .. ok
t/api.t ................ ok
t/departures.t ......... ok
t/errors.t ............. ok
All tests successful.
Files=5, Tests=8, 14 wallclock secs ( 0.03 usr  0.02 sys +  3.13 cusr  0.40 csys =  3.58 CPU)
Result: PASS

------------------------------
PREREQUISITES
------------------------------

Prerequisite modules loaded:

requires:

    Module                                      Need     Have    
    ------------------------------------------- -------- --------
    Carp                                        0        1.42    
    File::ShareDir                              0        1.104   
    Net::HTTP::Spore                            0.08     0.09    
    Net::HTTP::Spore::Middleware::DefaultParams 0        0.04    
    Net::HTTP::Spore::Middleware::Format::JSON  0        0.09    
    perl                                        5.008    5.026001
    strict                                      0        1.11    
    utf8                                        0        1.19    
    warnings                                    0        1.37    

build_requires:

    Module                                      Need     Have    
    ------------------------------------------- -------- --------
    blib                                        1.01     1.06    
    ExtUtils::MakeMaker                         0        7.24    
    File::Spec                                  0        3.67    
    IO::Handle                                  0        1.36    
    IPC::Open3                                  0        1.20    
    Test::Exception                             0        0.43    
    Test::More                                  0.88     1.302106

configure_requires:

    Module                                      Need     Have    
    ------------------------------------------- -------- --------
    ExtUtils::MakeMaker                         0        7.24    
    File::ShareDir::Install                     0.06     0.11    
    perl                                        5.008    5.026001

opt_build_requires:

    Module                                      Need     Have    
    ------------------------------------------- -------- --------
    CPAN::Meta                                  2.120900 2.150010


------------------------------
ENVIRONMENT AND OTHER CONTEXT
------------------------------

Environment variables:

    AUTOMATED_TESTING = 1
    LANG = en_US.UTF-8
    PATH = /usr/gnu/bin:/usr/bin:/usr/sbin:/sbin:/usr/sfw/bin:
    PERL5LIB = 
    PERL5OPT = 
    PERL5_CPANPLUS_IS_RUNNING = 27528
    PERL5_CPAN_IS_RUNNING = 27528
    PERL5_CPAN_IS_RUNNING_IN_RECURSION = 25393,27528
    PERL_CR_SMOKER_CURRENT = WebService-KVV-Live-Stop-0.007
    PERL_EXTUTILS_AUTOINSTALL = --defaultdeps
    PERL_MM_USE_DEFAULT = 1
    PERL_USE_UNSAFE_INC = 1
    SHELL = /bin/bash
    TERM = xterm-256color

Perl special variables (and OS-specific diagnostics, for MSWin32):

    $^X = /home/stro/perl/5.26.1t/bin/perl
    $UID/$EUID = 101 / 101
    $GID = 10 10
    $EGID = 10 10

Perl module toolchain versions installed:

    Module              Have    
    ------------------- --------
    CPAN                2.18    
    CPAN::Meta          2.150010
    Cwd                 3.67    
    ExtUtils::CBuilder  0.280226
    ExtUtils::Command   7.24    
    ExtUtils::Install   2.04    
    ExtUtils::MakeMaker 7.24    
    ExtUtils::Manifest  1.70    
    ExtUtils::ParseXS   3.34    
    File::Spec          3.67    
    JSON                2.94    
    JSON::PP            2.94    
    Module::Build       0.4224  
    Module::Signature   n/a     
    Parse::CPAN::Meta   2.150010
    Test::Harness       3.38    
    Test::More          1.302106
    YAML                1.24    
    YAML::Syck          1.30    
    version             0.9917  


--

Summary of my perl5 (revision 5 version 26 subversion 1) configuration:
   
  Platform:
    osname=solaris
    osvers=2.11
    archname=i86pc-solaris-thread-multi
    uname='sunos vm-openindiana-001 5.11 illumos-ed992b0aac i86pc i386 i86pc solaris '
    config_args=''
    hint=recommended
    useposix=true
    d_sigaction=define
    useithreads=define
    usemultiplicity=define
    use64bitint=undef
    use64bitall=undef
    uselongdouble=undef
    usemymalloc=n
    default_inc_excludes_dot=define
    bincompat5005=undef
  Compiler:
    cc='/opt/SUNWspro/bin/cc'
    ccflags ='-D_REENTRANT -I/usr/gnu/include -D_LARGEFILE_SOURCE -D_FILE_OFFSET_BITS=64 -DPERL_USE_SAFE_PUTENV'
    optimize='-O'
    cppflags='-D_REENTRANT -I/usr/gnu/include'
    ccversion='Sun C 5.10 SunOS_i386 2009/06/03'
    gccversion=''
    gccosandvers=''
    intsize=4
    longsize=4
    ptrsize=4
    doublesize=8
    byteorder=1234
    doublekind=3
    d_longlong=define
    longlongsize=8
    d_longdbl=define
    longdblsize=12
    longdblkind=3
    ivtype='long'
    ivsize=4
    nvtype='double'
    nvsize=8
    Off_t='off_t'
    lseeksize=8
    alignbytes=4
    prototype=define
  Linker and Libraries:
    ld='/opt/SUNWspro/bin/cc'
    ldflags =' -L/usr/lib -L/usr/ccs/lib -L/opt/sunstudio12.1/prod/lib -L/lib -L/usr/gnu/lib '
    libpth=/usr/lib /usr/ccs/lib /opt/sunstudio12.1/prod/lib /lib /usr/gnu/lib
    libs=-lpthread -lsocket -lnsl -lgdbm -ldb -ldl -lm -lc
    perllibs=-lpthread -lsocket -lnsl -ldl -lm -lc
    libc=/lib/libc.so
    so=so
    useshrplib=true
    libperl=libperl.so
    gnulibc_version=''
  Dynamic Linking:
    dlsrc=dl_dlopen.xs
    dlext=so
    d_dlsymun=undef
    ccdlflags='  -R /home/stro/perl/5.26.1t/lib/5.26.1/i86pc-solaris-thread-multi/CORE'
    cccdlflags='-KPIC'
    lddlflags='-G -L/usr/lib -L/usr/ccs/lib -L/opt/sunstudio12.1/prod/lib -L/lib -L/usr/gnu/lib'


Characteristics of this binary (from libperl): 
  Compile-time options:
    HAS_TIMES
    MULTIPLICITY
    PERLIO_LAYERS
    PERL_COPY_ON_WRITE
    PERL_DONT_CREATE_GVSV
    PERL_HASH_FUNC_ONE_AT_A_TIME_HARD
    PERL_IMPLICIT_CONTEXT
    PERL_MALLOC_WRAP
    PERL_OP_PARENT
    PERL_PRESERVE_IVUV
    PERL_USE_SAFE_PUTENV
    USE_ITHREADS
    USE_LARGE_FILES
    USE_LOCALE
    USE_LOCALE_COLLATE
    USE_LOCALE_CTYPE
    USE_LOCALE_NUMERIC
    USE_LOCALE_TIME
    USE_PERLIO
    USE_PERL_ATOF
    USE_REENTRANT_API
  Built under solaris
  Compiled at Sep 23 2017 14:13:07
  %ENV:
    PERL5LIB=""
    PERL5OPT=""
    PERL5_CPANPLUS_IS_RUNNING="27528"
    PERL5_CPAN_IS_RUNNING="27528"
    PERL5_CPAN_IS_RUNNING_IN_RECURSION="25393,27528"
    PERL_CR_SMOKER_CURRENT="WebService-KVV-Live-Stop-0.007"
    PERL_EXTUTILS_AUTOINSTALL="--defaultdeps"
    PERL_MM_USE_DEFAULT="1"
    PERL_USE_UNSAFE_INC="1"
  @INC:
    /home/stro/perl/5.26.1t/lib/site_perl/5.26.1/i86pc-solaris-thread-multi
    /home/stro/perl/5.26.1t/lib/site_perl/5.26.1
    /home/stro/perl/5.26.1t/lib/5.26.1/i86pc-solaris-thread-multi
    /home/stro/perl/5.26.1t/lib/5.26.1
    .