Perl-Critic-More v1.003 Perl 5 v5.41.10 x86_64-dragonfly
- Status
- Pass
- From
- Carlos Guevara
- Dist
-
Perl-Critic-More v1.003
- Platform
- Perl 5 v5.41.10 x86_64-dragonfly
- Date
- 2025-03-20 08:02:24
- ID
- a89ccdee-0561-11f0-9cf7-f70a5c4e7c23
This distribution has been tested as part of the CPAN Testers
project, supporting the Perl programming language. See
http://wiki.cpantesters.org/ for more information or email
questions to cpan-testers-discuss@perl.org
--
Dear Jeffrey Ryan Thalhammer,
This is a computer-generated report for Perl-Critic-More-1.003
on perl 5.41.10, created by CPAN-Reporter-1.2020.
Thank you for uploading your work to CPAN. Congratulations!
All tests were successful.
Sections of this report:
* Tester comments
* Program output
* Prerequisites
* Environment and other context
------------------------------
TESTER COMMENTS
------------------------------
Additional comments from tester:
this report is from an automated smoke testing program
and was not reviewed by a human for accuracy
------------------------------
PROGRAM OUTPUT
------------------------------
Output from './Build test':
File 'MANIFEST.SKIP' does not exist: Creating a temporary 'MANIFEST.SKIP'
Added to MANIFEST: Build.PL
Added to MANIFEST: Changes
Added to MANIFEST: inc/Perl/Critic/Module/Build.pm
Added to MANIFEST: lib/Perl/Critic/More.pm
Added to MANIFEST: lib/Perl/Critic/Policy/CodeLayout/RequireASCII.pm
Added to MANIFEST: lib/Perl/Critic/Policy/Editor/RequireEmacsFileVariables.pm
Added to MANIFEST: lib/Perl/Critic/Policy/ErrorHandling/RequireUseOfExceptions.pm
Added to MANIFEST: lib/Perl/Critic/Policy/Modules/PerlMinimumVersion.pm
Added to MANIFEST: lib/Perl/Critic/Policy/Modules/RequirePerlVersion.pm
Added to MANIFEST: lib/Perl/Critic/Policy/ValuesAndExpressions/RequireConstantOnLeftSideOfEquality.pm
Added to MANIFEST: lib/Perl/Critic/Policy/ValuesAndExpressions/RestrictLongStrings.pm
Added to MANIFEST: LICENSE
Added to MANIFEST: Makefile.PL
Added to MANIFEST: MANIFEST
Added to MANIFEST: META.json
Added to MANIFEST: META.yml
Added to MANIFEST: README
Added to MANIFEST: t/00_compile.t
Added to MANIFEST: t/20_policies.t
Added to MANIFEST: t/20_policies_codelayout.t
Added to MANIFEST: t/20_policies_editor.t
Added to MANIFEST: t/20_policies_modules.t
Added to MANIFEST: t/20_policies_valuesandexpressions.t
Added to MANIFEST: t/98_pod_syntax.t
Added to MANIFEST: t/99_pod_coverage.t
Added to MANIFEST: t/ErrorHandling/RequireUseOfExceptions.run
Added to MANIFEST: t/ValuesAndExpressions/RequireConstantOnLeftSideOfEquality.run
Added to MANIFEST: TODO.pod
Added to MANIFEST: xt/author/40_criticize.t
Added to MANIFEST: xt/author/40_perlcriticrc
Added to MANIFEST: xt/author/92_changelog.t
Added to MANIFEST: xt/author/93_version.t
Added to MANIFEST: xt/author/94_includes.t
Added to MANIFEST: xt/author/95_kwalitee.t
Added to MANIFEST: xt/author/96_filenames.t
Added to MANIFEST: xt/author/perltidyrc
Creating Makefile.PL
Creating README using Pod::Text
Created META.yml and META.json
t/00_compile.t ........................ ok
t/20_policies.t ....................... ok
t/20_policies_codelayout.t ............ ok
t/20_policies_editor.t ................ ok
t/20_policies_modules.t ............... ok
t/20_policies_valuesandexpressions.t .. ok
t/98_pod_syntax.t ..................... ok
t/99_pod_coverage.t ................... ok
All tests successful.
Files=8, Tests=63, 4 wallclock secs ( 0.05 usr 0.01 sys + 3.15 cusr 0.71 csys = 3.91 CPU)
Result: PASS
------------------------------
PREREQUISITES
------------------------------
Prerequisite modules loaded:
requires:
Module Need Have
------------- ----- --------
Perl::Critic 1.098 1.156
Readonly 1.03 2.05
build_requires:
Module Need Have
------------- ----- --------
Test::More 0 1.302209
configure_requires:
Module Need Have
------------- ----- --------
Module::Build 0.4 0.4234
------------------------------
ENVIRONMENT AND OTHER CONTEXT
------------------------------
Environment variables:
AUTOMATED_TESTING = 1
DATE_MANIP_TEST_DM5 = 1
LC_ALL = C
NONINTERACTIVE_TESTING = 1
NO_NETWORK_TESTING = 1
PATH = /home/cpan/bin/perl/bin:/home/cpan/bin:/sbin:/bin:/usr/sbin:/usr/bin:/usr/games:/usr/local/sbin:/usr/local/bin:/usr/pkg/sbin:/usr/pkg/bin:/home/cpan/bin
PERL5LIB =
PERL5OPT =
PERL5_CPANPLUS_IS_RUNNING = 396894
PERL5_CPAN_IS_RUNNING = 396894
PERL_MM_USE_DEFAULT = 1
PERL_USE_UNSAFE_INC = 1
SHELL = /usr/local/bin/bash
TERM = screen
TMPDIR = /home/cpan/tmp
Perl special variables (and OS-specific diagnostics, for MSWin32):
$^X = /home/cpan/bin/perl/bin/perl5.41.10
$UID/$EUID = 1002 / 1002
$GID = 1002 1002
$EGID = 1002 1002
Perl module toolchain versions installed:
Module Have
------------------- --------
CPAN 2.38
CPAN::Meta 2.150010
Cwd 3.92
ExtUtils::CBuilder 0.280240
ExtUtils::Command 7.72
ExtUtils::Install 2.22
ExtUtils::MakeMaker 7.72
ExtUtils::Manifest 1.75
ExtUtils::ParseXS 3.57
File::Spec 3.93
JSON 4.10
JSON::PP 4.16
Module::Build 0.4234
Module::Signature n/a
Parse::CPAN::Meta 2.150010
Test2 1.302209
Test::Harness 3.50
Test::More 1.302209
YAML 1.31
YAML::Syck n/a
version 0.9933
--
Summary of my perl5 (revision 5 version 41 subversion 10) configuration:
Commit id: abaee7c6ca652e5e74f8bc3ebffc49a92341bd65
Platform:
osname=dragonfly
osvers=6.4-release
archname=x86_64-dragonfly
uname='dragonfly cjg-dragonfly6 6.4-release dragonfly v6.4.0-release #54: fri dec 30 09:06:50 pst 2022 root@pkgbox64.dragonflybsd.org:usrobjusrsrcsysx86_64_generic x86_64 '
config_args='-des -Dprefix=/home/cpan/bin/perl -Dscriptdir=/home/cpan/bin/perl/bin -Dusedevel -Duse64bitall'
hint=recommended
useposix=true
d_sigaction=define
useithreads=undef
usemultiplicity=undef
use64bitint=define
use64bitall=define
uselongdouble=undef
usemymalloc=n
default_inc_excludes_dot=define
Compiler:
cc='cc'
ccflags ='-DHAS_FPSETMASK -DHAS_FLOATINGPOINT_H -DNO_POSIX_2008_LOCALE -fwrapv -fno-strict-aliasing -pipe -fstack-protector-strong -I/usr/local/include -D_FORTIFY_SOURCE=2'
optimize='-O2'
cppflags='-DHAS_FPSETMASK -DHAS_FLOATINGPOINT_H -DNO_POSIX_2008_LOCALE -fwrapv -fno-strict-aliasing -pipe -fstack-protector-strong -I/usr/local/include'
ccversion=''
gccversion='8.3 [DragonFly] Release/2019-02-22'
gccosandvers=''
intsize=4
longsize=8
ptrsize=8
doublesize=8
byteorder=12345678
doublekind=3
d_longlong=define
longlongsize=8
d_longdbl=define
longdblsize=16
longdblkind=3
ivtype='long'
ivsize=8
nvtype='double'
nvsize=8
Off_t='off_t'
lseeksize=8
alignbytes=8
prototype=define
Linker and Libraries:
ld='cc'
ldflags ='-Wl,-E -fstack-protector-strong -L/usr/local/lib'
libpth=/usr/lib /usr/local/lib
libs=-lpthread -lgdbm -ldl -lm -lcrypt -lutil -lc
perllibs=-lpthread -ldl -lm -lcrypt -lutil -lc
libc=
so=so
useshrplib=false
libperl=libperl.a
gnulibc_version=''
Dynamic Linking:
dlsrc=dl_dlopen.xs
dlext=so
d_dlsymun=undef
ccdlflags=' '
cccdlflags='-DPIC -fPIC'
lddlflags='-shared -L/usr/local/lib -fstack-protector-strong'
Characteristics of this binary (from libperl):
Compile-time options:
HAS_LONG_DOUBLE
HAS_STRTOLD
HAS_TIMES
PERLIO_LAYERS
PERL_COPY_ON_WRITE
PERL_DONT_CREATE_GVSV
PERL_HASH_FUNC_SIPHASH13
PERL_HASH_USE_SBOX32
PERL_MALLOC_WRAP
PERL_OP_PARENT
PERL_PRESERVE_IVUV
PERL_USE_DEVEL
PERL_USE_SAFE_PUTENV
USE_64_BIT_ALL
USE_64_BIT_INT
USE_LARGE_FILES
USE_LOCALE
USE_LOCALE_COLLATE
USE_LOCALE_CTYPE
USE_LOCALE_NUMERIC
USE_LOCALE_TIME
USE_PERLIO
USE_PERL_ATOF
Built under dragonfly
Compiled at Mar 19 2025 23:56:17
%ENV:
PERL5LIB=""
PERL5OPT=""
PERL5_CPANPLUS_IS_RUNNING="396894"
PERL5_CPAN_IS_RUNNING="396894"
PERL_MM_USE_DEFAULT="1"
PERL_USE_UNSAFE_INC="1"
@INC:
/home/cpan/bin/perl/lib/site_perl/5.41.10/x86_64-dragonfly
/home/cpan/bin/perl/lib/site_perl/5.41.10
/home/cpan/bin/perl/lib/5.41.10/x86_64-dragonfly
/home/cpan/bin/perl/lib/5.41.10
.