File-DataClass v0.73.1 Perl 5 v5.27.8 OpenBSD.amd64-openbsd

Status
Pass
From
Alceu Rodrigues de Freitas Junior
Dist
File-DataClass v0.73.1
Platform
Perl 5 v5.27.8 OpenBSD.amd64-openbsd
Date
2018-01-25 17:10:35
ID
a88a0044-01f2-11e8-b857-fc4fb4f8e35c
This distribution has been tested as part of the CPAN Testers
project, supporting the Perl programming language.  See
http://wiki.cpantesters.org/ for more information or email
questions to cpan-testers-discuss@perl.org


--
Dear Peter Flanigan,

This is a computer-generated report for File-DataClass-0.73.1
on perl 5.27.8, created by CPAN-Reporter-1.2018.

Thank you for uploading your work to CPAN.  Congratulations!
All tests were successful.

Sections of this report:

    * Tester comments
    * Program output
    * Prerequisites
    * Environment and other context

------------------------------
TESTER COMMENTS
------------------------------

Additional comments from tester:

this report is from an automated smoke testing program
and was not reviewed by a human for accuracy

------------------------------
PROGRAM OUTPUT
------------------------------

Output from './Build test':


OS: openbsd, Host: cpan-smoker-openbsd

=== Environment variables ===

    $AUTHOR_TESTING                   undef
    $AUTOMATED_TESTING                1
    $EXTENDED_TESTING                 1
    $NONINTERACTIVE_TESTING           undef
    $PERL_CPAN_REPORTER_CONFIG        undef
    $PERL_CR_SMOKER_CURRENT           Class-Usul-0.83.1
    $PERL5_CPAN_IS_RUNNING            64839
    $PERL5_CPANPLUS_IS_VERSION        undef
    $TEST_CRITIC                      undef
    $TEST_SPELLING                    undef

Versions for all modules listed in MYMETA.json (including optional ones):

=== Configure Requires ===

    Module          Want    Have
    ------------- ------ -------
    Module::Build 0.4004 0.42_26
    version         0.88  0.9918

=== Build Requires ===

    Module          Want    Have
    ------------- ------ -------
    Module::Build 0.4004 0.42_26
    version         0.88  0.9918

=== Test Requires ===

    Module             Want     Have
    ---------------- ------ --------
    Capture::Tiny      0.30     0.47
    File::Spec          any     3.72
    File::pushd        1.00    1.014
    Module::Build    0.4004  0.42_26
    Module::Metadata    any 1.000033
    Path::Tiny        0.013    0.104
    Sys::Hostname       any     1.22
    Test::Deep        0.117    1.127
    Test::Requires     0.06     0.10
    Text::Diff         1.37     1.45
    version            0.88   0.9918

=== Test Recommends ===

    Module         Want     Have
    ---------- -------- --------
    CPAN::Meta 2.120900 2.150010

=== Runtime Requires ===

    Module                   Want     Have
    -------------------- -------- --------
    Cache::FastMmap          1.40     1.46
    Class::Null          2.110730 2.110730
    File::Path               2.09     2.15
    File::ReadBackwards      1.05     1.05
    Hash::Merge             0.200    0.299
    JSON::MaybeXS           1.003 1.003009
    Module::Pluggable         5.1      5.2
    Module::Runtime         0.014    0.016
    Moo                  2.000001 2.003004
    Sub::Install            0.928    0.928
    Subclass::Of            0.003    0.007
    Try::Tiny                0.22     0.30
    Type::Tiny           1.000002 1.002001
    Unexpected            v0.39.0    1.0.1
    boolean                  0.45     0.46
    namespace::autoclean     0.26     0.28
    namespace::clean         0.25     0.27

t/00report-metadata.t .. ok
t/02pod.t .............. skipped: POD test only for developers
t/03podcoverage.t ...... skipped: POD coverage test only for developers
t/05kwalitee.t ......... skipped: Kwalitee test only for developers
t/06yaml.t ............. skipped: YAML test only for developers
t/07podspelling.t ...... skipped: POD spelling test only for developers
t/10exception.t ........ ok
t/12types.t ............ ok
t/13functions.t ........ ok
t/15io.t ............... ok
t/17constraints.t ...... ok
t/20data-class.t ....... ok
t/21hash-merge.t ....... ok
t/50json.t ............. ok
All tests successful.
Files=14, Tests=198,  5 wallclock secs ( 0.08 usr  0.11 sys +  3.11 cusr  1.80 csys =  5.10 CPU)
Result: PASS

------------------------------
PREREQUISITES
------------------------------

Prerequisite modules loaded:

requires:

    Module               Need     Have    
    -------------------- -------- --------
    boolean              0.45     0.46    
    Cache::FastMmap      1.40     1.46    
    Class::Null          2.110730 2.110730
    File::Path           2.09     2.15    
    File::ReadBackwards  1.05     1.05    
    Hash::Merge          0.200    0.299   
    JSON::MaybeXS        1.003    1.003009
    Module::Pluggable    5.1      5.2     
    Module::Runtime      0.014    0.016   
    Moo                  2.000001 2.003004
    namespace::autoclean 0.26     0.28    
    namespace::clean     0.25     0.27    
    perl                 5.010001 5.027008
    Sub::Install         0.928    0.928   
    Subclass::Of         0.003    0.007   
    Try::Tiny            0.22     0.30    
    Type::Tiny           1.000002 1.002001
    Unexpected           v0.39.0  1.0.1   

build_requires:

    Module               Need     Have    
    -------------------- -------- --------
    Capture::Tiny        0.30     0.47    
    File::pushd          1.00     1.014   
    File::Spec           0        3.72    
    Module::Build        0.4004   0.42_26 
    Module::Metadata     0        1.000033
    Path::Tiny           0.013    0.104   
    Sys::Hostname        0        1.22    
    Test::Deep           0.117    1.127   
    Test::Requires       0.06     0.10    
    Text::Diff           1.37     1.45    
    version              0.88     0.9918  

configure_requires:

    Module               Need     Have    
    -------------------- -------- --------
    Module::Build        0.4004   0.42_26 
    version              0.88     0.9918  


------------------------------
ENVIRONMENT AND OTHER CONTEXT
------------------------------

Environment variables:

    AUTOMATED_TESTING = 1
    DBD_MYSQL_TESTDB = test
    DBD_MYSQL_TESTHOST = localhost
    DBD_MYSQL_TESTPASSWORD = 
    DBD_MYSQL_TESTPORT = 3306
    DBD_MYSQL_TESTUSER = vegeta
    EXTENDED_TESTING = 1
    PATH = /home/vegeta/perl5/perlbrew/bin:/home/vegeta/perl5/perlbrew/perls/perl-5.27.8/bin:/home/vegeta/bin:/usr/bin:/bin:/usr/sbin:/sbin:/usr/X11R6/bin:/usr/local/bin:/usr/local/sbin
    PERL5LIB = 
    PERL5OPT = 
    PERL5_CPANPLUS_IS_RUNNING = 64839
    PERL5_CPAN_IS_RUNNING = 64839
    PERL5_CPAN_IS_RUNNING_IN_RECURSION = 60540,64839
    PERLBREW_HOME = /home/vegeta/.perlbrew
    PERLBREW_MANPATH = /home/vegeta/perl5/perlbrew/perls/perl-5.27.8/man
    PERLBREW_PATH = /home/vegeta/perl5/perlbrew/bin:/home/vegeta/perl5/perlbrew/perls/perl-5.27.8/bin
    PERLBREW_PERL = perl-5.27.8
    PERLBREW_ROOT = /home/vegeta/perl5/perlbrew
    PERLBREW_SHELLRC_VERSION = 0.82
    PERLBREW_VERSION = 0.82
    PERL_CR_SMOKER_CURRENT = Class-Usul-0.83.1
    PERL_EXTUTILS_AUTOINSTALL = --defaultdeps
    PERL_MM_USE_DEFAULT = 1
    PERL_USE_UNSAFE_INC = 1
    SHELL = /usr/local/bin/bash
    TERM = xterm

Perl special variables (and OS-specific diagnostics, for MSWin32):

    $^X = /home/vegeta/perl5/perlbrew/perls/perl-5.27.8/bin/perl5.27.8
    $UID/$EUID = 1002 / 1002
    $GID = 1002 1002 1001
    $EGID = 1002 1002 1001

Perl module toolchain versions installed:

    Module              Have    
    ------------------- --------
    CPAN                2.20    
    CPAN::Meta          2.150010
    Cwd                 3.72    
    ExtUtils::CBuilder  0.280230
    ExtUtils::Command   7.31_07 
    ExtUtils::Install   2.14    
    ExtUtils::MakeMaker 7.31_07 
    ExtUtils::Manifest  1.70    
    ExtUtils::ParseXS   3.35    
    File::Spec          3.72    
    JSON                2.97001 
    JSON::PP            2.97001 
    Module::Build       0.42_26 
    Module::Signature   n/a     
    Parse::CPAN::Meta   2.150010
    Test::Harness       3.40_01 
    Test::More          1.302120
    YAML                1.24    
    YAML::Syck          n/a     
    version             0.9918  


--

Summary of my perl5 (revision 5 version 27 subversion 8) configuration:
   
  Platform:
    osname=openbsd
    osvers=6.2
    archname=OpenBSD.amd64-openbsd
    uname='openbsd cpan-smoker-openbsd 6.2 generic.mp#134 amd64 '
    config_args='-de -Dprefix=/home/vegeta/perl5/perlbrew/perls/perl-5.27.8 -Dusedevel -Aeval:scriptdir=/home/vegeta/perl5/perlbrew/perls/perl-5.27.8/bin'
    hint=recommended
    useposix=true
    d_sigaction=define
    useithreads=undef
    usemultiplicity=undef
    use64bitint=define
    use64bitall=define
    uselongdouble=undef
    usemymalloc=n
    default_inc_excludes_dot=define
    bincompat5005=undef
  Compiler:
    cc='cc'
    ccflags ='-fno-strict-aliasing -pipe -fstack-protector-strong -I/usr/local/include -D_FORTIFY_SOURCE=2'
    optimize='-O2'
    cppflags='-fno-strict-aliasing -pipe -fstack-protector-strong -I/usr/local/include'
    ccversion=''
    gccversion='4.2.1 Compatible OpenBSD Clang 4.0.0 (tags/RELEASE_400/final)'
    gccosandvers=''
    intsize=4
    longsize=8
    ptrsize=8
    doublesize=8
    byteorder=12345678
    doublekind=3
    d_longlong=define
    longlongsize=8
    d_longdbl=define
    longdblsize=16
    longdblkind=3
    ivtype='long'
    ivsize=8
    nvtype='double'
    nvsize=8
    Off_t='off_t'
    lseeksize=8
    alignbytes=8
    prototype=define
  Linker and Libraries:
    ld='cc'
    ldflags ='-Wl,-E  -fstack-protector-strong -L/usr/local/lib'
    libpth=/usr/lib /usr/local/lib
    libs=-lpthread -lm -lutil -lc
    perllibs=-lpthread -lm -lutil -lc
    libc=/usr/lib/libc.so.90.0
    so=so
    useshrplib=false
    libperl=libperl.a
    gnulibc_version=''
  Dynamic Linking:
    dlsrc=dl_dlopen.xs
    dlext=so
    d_dlsymun=undef
    ccdlflags=' '
    cccdlflags='-DPIC -fPIC '
    lddlflags='-shared -fPIC  -L/usr/local/lib -fstack-protector-strong'


Characteristics of this binary (from libperl): 
  Compile-time options:
    HAS_TIMES
    PERLIO_LAYERS
    PERL_COPY_ON_WRITE
    PERL_DONT_CREATE_GVSV
    PERL_MALLOC_WRAP
    PERL_OP_PARENT
    PERL_PRESERVE_IVUV
    PERL_USE_DEVEL
    USE_64_BIT_ALL
    USE_64_BIT_INT
    USE_LARGE_FILES
    USE_LOCALE
    USE_LOCALE_COLLATE
    USE_LOCALE_CTYPE
    USE_LOCALE_NUMERIC
    USE_LOCALE_TIME
    USE_PERLIO
    USE_PERL_ATOF
  Locally applied patches:
    Devel::PatchPerl 1.48
  Built under openbsd
  Compiled at Jan 23 2018 17:20:45
  %ENV:
    PERL5LIB=""
    PERL5OPT=""
    PERL5_CPANPLUS_IS_RUNNING="64839"
    PERL5_CPAN_IS_RUNNING="64839"
    PERL5_CPAN_IS_RUNNING_IN_RECURSION="60540,64839"
    PERLBREW_HOME="/home/vegeta/.perlbrew"
    PERLBREW_MANPATH="/home/vegeta/perl5/perlbrew/perls/perl-5.27.8/man"
    PERLBREW_PATH="/home/vegeta/perl5/perlbrew/bin:/home/vegeta/perl5/perlbrew/perls/perl-5.27.8/bin"
    PERLBREW_PERL="perl-5.27.8"
    PERLBREW_ROOT="/home/vegeta/perl5/perlbrew"
    PERLBREW_SHELLRC_VERSION="0.82"
    PERLBREW_VERSION="0.82"
    PERL_CR_SMOKER_CURRENT="Class-Usul-0.83.1"
    PERL_EXTUTILS_AUTOINSTALL="--defaultdeps"
    PERL_MM_USE_DEFAULT="1"
    PERL_USE_UNSAFE_INC="1"
  @INC:
    /home/vegeta/perl5/perlbrew/perls/perl-5.27.8/lib/site_perl/5.27.8/OpenBSD.amd64-openbsd
    /home/vegeta/perl5/perlbrew/perls/perl-5.27.8/lib/site_perl/5.27.8
    /home/vegeta/perl5/perlbrew/perls/perl-5.27.8/lib/5.27.8/OpenBSD.amd64-openbsd
    /home/vegeta/perl5/perlbrew/perls/perl-5.27.8/lib/5.27.8
    .