Test-Reporter-Transport-Metabase-Fallback v1.001 Perl 5 v5.28.0 i86pc-solaris

Status
Pass
From
Serguei Trouchelle (STRO)
Dist
Test-Reporter-Transport-Metabase-Fallback v1.001
Platform
Perl 5 v5.28.0 i86pc-solaris
Date
2018-10-15 16:45:01
ID
a881ccfa-d099-11e8-8b4f-a0ecdb8f4837
This distribution has been tested as part of the CPAN Testers
project, supporting the Perl programming language.  See
http://wiki.cpantesters.org/ for more information or email
questions to cpan-testers-discuss@perl.org


--
Dear Serguei Trouchelle,

This is a computer-generated report for Test-Reporter-Transport-Metabase-Fallback-1.001
on perl 5.28.0, created by CPAN-Reporter-1.2018.

Thank you for uploading your work to CPAN.  Congratulations!
All tests were successful.

Sections of this report:

    * Tester comments
    * Program output
    * Prerequisites
    * Environment and other context

------------------------------
TESTER COMMENTS
------------------------------

Additional comments from tester:

none provided

------------------------------
PROGRAM OUTPUT
------------------------------

Output from '/usr/bin/make test':

PERL_DL_NONLAZY=1 "/home/stro/perl/5.28.0/bin/perl5.28.0" "-MExtUtils::Command::MM" "-MTest::Harness" "-e" "undef *Test::Harness::Switches; test_harness(0, 'blib/lib', 'blib/arch')" t/*.t
Test::Reporter::Transport::Metabase::Fallback Metabase error: fact submission failed: Not Found at /home/stro/perl/5.28.0/lib/site_perl/5.28.0/Metabase/Client/Simple.pm line 129.
	Metabase::Client::Simple::submit_fact(Metabase::Client::Simple=HASH(0x860a738), CPAN::Testers::Report=HASH(0x88d1010)) called at /home/stro/perl/5.28.0/lib/site_perl/5.28.0/Test/Reporter/Transport/Metabase.pm line 122
	Test::Reporter::Transport::Metabase::send(Test::Reporter::Transport::Metabase=HASH(0x88820f8), Test::Reporter=HASH(0x8882198)) called at /home/stro/cpan/build/5.28.0/build/Test-Reporter-Transport-Metabase-Fallback-1.001-0/blib/lib/Test/Reporter/Transport/Metabase/Fallback.pm line 60
	eval {...} called at /home/stro/cpan/build/5.28.0/build/Test-Reporter-Transport-Metabase-Fallback-1.001-0/blib/lib/Test/Reporter/Transport/Metabase/Fallback.pm line 60
	Test::Reporter::Transport::Metabase::Fallback::send(Test::Reporter::Transport::Metabase::Fallback=HASH(0x80781b8), Test::Reporter=HASH(0x8882198)) called at /home/stro/perl/5.28.0/lib/site_perl/5.28.0/Test/Reporter.pm line 272
	eval {...} called at /home/stro/perl/5.28.0/lib/site_perl/5.28.0/Test/Reporter.pm line 272
	Test::Reporter::send(Test::Reporter=HASH(0x8882198)) called at t/00-use.t line 33

Test::Reporter::Transport::Metabase::Fallback Saving report in the queue.
 at /home/stro/perl/5.28.0/lib/site_perl/5.28.0/Test/Reporter.pm line 272.
t/00-use.t ............. ok
t/author-critic.t ...... skipped: these tests are for testing by the author
t/author-pod-syntax.t .. skipped: these tests are for testing by the author
All tests successful.
Files=3, Tests=7,  1 wallclock secs ( 0.03 usr  0.01 sys +  0.18 cusr  0.04 csys =  0.26 CPU)
Result: PASS

------------------------------
PREREQUISITES
------------------------------

Prerequisite modules loaded:

requires:

    Module                              Need Have    
    ----------------------------------- ---- --------
    Carp                                0    1.50    
    Test::Reporter::Transport::File     0    1.62    
    Test::Reporter::Transport::Metabase 0    1.999010

build_requires:

    Module                              Need Have    
    ----------------------------------- ---- --------
    Cwd                                 0    3.74    
    ExtUtils::MakeMaker                 0    7.34    
    File::Spec                          0    3.74    
    strict                              0    1.11    
    Test::More                          0    1.302133
    Test::Reporter                      0    1.62    

configure_requires:

    Module                              Need Have    
    ----------------------------------- ---- --------
    ExtUtils::MakeMaker                 0    7.34    


------------------------------
ENVIRONMENT AND OTHER CONTEXT
------------------------------

Environment variables:

    LANG = en_US.UTF-8
    NONINTERACTIVE_TESTING = 1
    PATH = /usr/gnu/bin:/usr/bin:/usr/sbin:/sbin:/usr/sfw/bin:
    PERL5LIB = 
    PERL5OPT = 
    PERL5_CPANPLUS_IS_RUNNING = 1096
    PERL5_CPAN_IS_RUNNING = 1096
    PERL_MM_USE_DEFAULT = 1
    PERL_USE_UNSAFE_INC = 1
    SHELL = /bin/bash
    TERM = xterm

Perl special variables (and OS-specific diagnostics, for MSWin32):

    $^X = /home/stro/perl/5.28.0/bin/perl5.28.0
    $UID/$EUID = 101 / 101
    $GID = 10 10
    $EGID = 10 10

Perl module toolchain versions installed:

    Module              Have    
    ------------------- --------
    CPAN                2.20    
    CPAN::Meta          2.150010
    Cwd                 3.74    
    ExtUtils::CBuilder  0.280230
    ExtUtils::Command   7.34    
    ExtUtils::Install   2.14    
    ExtUtils::MakeMaker 7.34    
    ExtUtils::Manifest  1.70    
    ExtUtils::ParseXS   3.39    
    File::Spec          3.74    
    JSON                n/a     
    JSON::PP            2.97001 
    Module::Build       0.4224  
    Module::Signature   n/a     
    Parse::CPAN::Meta   2.150010
    Test::Harness       3.42    
    Test::More          1.302133
    YAML                1.26    
    YAML::Syck          1.30    
    version             0.9923  


--

Summary of my perl5 (revision 5 version 28 subversion 0) configuration:
   
  Platform:
    osname=solaris
    osvers=2.11
    archname=i86pc-solaris
    uname='sunos vm-openindiana-001 5.11 illumos-ed992b0aac i86pc i386 i86pc solaris '
    config_args=''
    hint=recommended
    useposix=true
    d_sigaction=define
    useithreads=undef
    usemultiplicity=undef
    use64bitint=undef
    use64bitall=undef
    uselongdouble=undef
    usemymalloc=n
    default_inc_excludes_dot=define
    bincompat5005=undef
  Compiler:
    cc='/opt/SUNWspro/bin/cc'
    ccflags ='-I/usr/gnu/include -D_LARGEFILE_SOURCE -D_FILE_OFFSET_BITS=64 -DPERL_USE_SAFE_PUTENV'
    optimize='-O'
    cppflags='-I/usr/gnu/include'
    ccversion='Sun C 5.10 SunOS_i386 2009/06/03'
    gccversion=''
    gccosandvers=''
    intsize=4
    longsize=4
    ptrsize=4
    doublesize=8
    byteorder=1234
    doublekind=3
    d_longlong=define
    longlongsize=8
    d_longdbl=define
    longdblsize=12
    longdblkind=3
    ivtype='long'
    ivsize=4
    nvtype='double'
    nvsize=8
    Off_t='off_t'
    lseeksize=8
    alignbytes=4
    prototype=define
  Linker and Libraries:
    ld='/opt/SUNWspro/bin/cc'
    ldflags =' -L/usr/lib -L/usr/ccs/lib -L/opt/sunstudio12.1/prod/lib -L/lib -L/usr/gnu/lib '
    libpth=/usr/lib /usr/ccs/lib /opt/sunstudio12.1/prod/lib /lib /usr/gnu/lib
    libs=-lpthread -lsocket -lnsl -lgdbm -ldb -ldl -lm -lc
    perllibs=-lpthread -lsocket -lnsl -ldl -lm -lc
    libc=/lib/libc.so
    so=so
    useshrplib=true
    libperl=libperl.so
    gnulibc_version=''
  Dynamic Linking:
    dlsrc=dl_dlopen.xs
    dlext=so
    d_dlsymun=undef
    ccdlflags='  -R /home/stro/perl/5.28.0/lib/5.28.0/i86pc-solaris/CORE'
    cccdlflags='-KPIC'
    lddlflags='-G -L/usr/lib -L/usr/ccs/lib -L/opt/sunstudio12.1/prod/lib -L/lib -L/usr/gnu/lib'


Characteristics of this binary (from libperl): 
  Compile-time options:
    HAS_TIMES
    PERLIO_LAYERS
    PERL_COPY_ON_WRITE
    PERL_DONT_CREATE_GVSV
    PERL_MALLOC_WRAP
    PERL_OP_PARENT
    PERL_PRESERVE_IVUV
    PERL_USE_SAFE_PUTENV
    USE_LARGE_FILES
    USE_LOCALE
    USE_LOCALE_COLLATE
    USE_LOCALE_CTYPE
    USE_LOCALE_NUMERIC
    USE_LOCALE_TIME
    USE_PERLIO
    USE_PERL_ATOF
  Built under solaris
  Compiled at Oct 15 2018 02:43:38
  %ENV:
    PERL5LIB=""
    PERL5OPT=""
    PERL5_CPANPLUS_IS_RUNNING="1096"
    PERL5_CPAN_IS_RUNNING="1096"
    PERL_MM_USE_DEFAULT="1"
    PERL_USE_UNSAFE_INC="1"
  @INC:
    /home/stro/perl/5.28.0/lib/site_perl/5.28.0/i86pc-solaris
    /home/stro/perl/5.28.0/lib/site_perl/5.28.0
    /home/stro/perl/5.28.0/lib/5.28.0/i86pc-solaris
    /home/stro/perl/5.28.0/lib/5.28.0
    .