Report for Catalyst-View-RRDGraph-0.10

Back
From: metabase:user:a0e144f2-373b-11e6-8edd-c6848980b093
Subject: PASS Catalyst-View-RRDGraph-0.10 v5.26.0 GNU/Linux
Date: 2017-04-16T23:30:21Z

This distribution has been tested as part of the CPAN Testers
project, supporting the Perl programming language.  See
http://wiki.cpantesters.org/ for more information or email
questions to cpan-testers-discuss@perl.org


--
Dear Miquel Ruiz Martin,

This is a computer-generated report for Catalyst-View-RRDGraph-0.10
on perl 5.26.0, created by CPAN-Reporter-1.2018.

Thank you for uploading your work to CPAN.  Congratulations!
All tests were successful.

Sections of this report:

    * Tester comments
    * Program output
    * Prerequisites
    * Environment and other context

------------------------------
TESTER COMMENTS
------------------------------

Additional comments from tester:

this report is from an automated smoke testing program
and was not reviewed by a human for accuracy

------------------------------
PROGRAM OUTPUT
------------------------------

Output from '/usr/bin/make test':

PERL_DL_NONLAZY=1 "/home/cpan1/install/bin/perl" "-MExtUtils::Command::MM" "-MTest::Harness" "-e" "undef *Test::Harness::Switches; test_harness(0, 'blib/lib', 'blib/arch')" t/*.t
t/001_load.t ............ ok
t/002_process.t ......... ok
[debug] Debug messages enabled
[debug] Statistics enabled
[debug] Loaded PSGI Middleware:
.-----------------------------------------------------------------------------------------------------------------.
| Catalyst::Middleware::Stash                                                                                     |
| Plack::Middleware::HTTPExceptions                                                                               |
| Plack::Middleware::RemoveRedundantBody  0.04                                                                    |
| Plack::Middleware::FixMissingBodyInRedirect  0.12                                                               |
| Plack::Middleware::ContentLength                                                                                |
| Plack::Middleware::MethodOverride  0.15                                                                         |
| Plack::Middleware::Head                                                                                         |
'-----------------------------------------------------------------------------------------------------------------'

[debug] Loaded Request Data Handlers:
.-----------------------------------------------------------------------------------------------------------------.
| application/json                                                                                                |
| application/x-www-form-urlencoded                                                                               |
'-----------------------------------------------------------------------------------------------------------------'

[debug] Loaded dispatcher "Catalyst::Dispatcher"
[debug] Loaded engine "Catalyst::Engine"
[debug] Found home "/home/cpan1/.cpan/build/Catalyst-View-RRDGraph-0.10-0/t/lib/RRDGraphTest003"
[debug] Loaded components:
.------------------------------------------------------------------------------------------------------+----------.
| Class                                                                                                | Type     |
+------------------------------------------------------------------------------------------------------+----------+
| RRDGraphTest003::Controller::Root                                                                    | instance |
| RRDGraphTest003::View::RRDNormal                                                                     | instance |
| RRDGraphTest003::View::RRDOnServe                                                                    | instance |
| RRDGraphTest003::View::RRDOnServeFunction                                                            | instance |
'------------------------------------------------------------------------------------------------------+----------'

[debug] Loaded Private actions:
.----------------------------+------------------------------------------------------+-----------------------------.
| Private                    | Class                                                | Method                      |
+----------------------------+------------------------------------------------------+-----------------------------+
| /image_error_function      | RRDGraphTest003::Controller::Root                    | image_error_function        |
| /zero_byte_error_function  | RRDGraphTest003::Controller::Root                    | zero_byte_error_function    |
| /image_error_normal        | RRDGraphTest003::Controller::Root                    | image_error_normal          |
| /zero_byte_error           | RRDGraphTest003::Controller::Root                    | zero_byte_error             |
| /image_error               | RRDGraphTest003::Controller::Root                    | image_error                 |
| /zero_byte_error_normal    | RRDGraphTest003::Controller::Root                    | zero_byte_error_normal      |
'----------------------------+------------------------------------------------------+-----------------------------'

[debug] Loaded Path actions:
.--------------------------------------------------------+--------------------------------------------------------.
| Path                                                   | Private                                                |
+--------------------------------------------------------+--------------------------------------------------------+
| /image_error/...                                       | /image_error                                           |
| /image_error_function/...                              | /image_error_function                                  |
| /image_error_normal/...                                | /image_error_normal                                    |
| /zero_byte_error/...                                   | /zero_byte_error                                       |
| /zero_byte_error_function/...                          | /zero_byte_error_function                              |
| /zero_byte_error_normal/...                            | /zero_byte_error_normal                                |
'--------------------------------------------------------+--------------------------------------------------------'

[info] RRDGraphTest003 powered by Catalyst 5.90114
[info] *** Request 1 (1.000/s) [12651] [Sat Apr 15 07:11:08 2017] ***
[debug] Path is "zero_byte_error"
[debug] "GET" request for "zero_byte_error" from "127.0.0.1"
[error] RRDgraph is 0 bytes
[debug] Static::Simple: Serving static file: error_image.png as image/png
[debug] Response Code: 200; Content-Type: image/png; Content-Length: 14
[info] Request took 0.008366s (119.531/s)
.-------------------------------------------------------------------------------------------------+-----------.
| Action                                                                                          | Time      |
+-------------------------------------------------------------------------------------------------+-----------+
| /zero_byte_error                                                                                | 0.004452s |
|  -> RRDGraphTest003::View::RRDOnServe->process                                                  | 0.004052s |
'-------------------------------------------------------------------------------------------------+-----------'

[info] *** Request 2 (2.000/s) [12651] [Sat Apr 15 07:11:08 2017] ***
[debug] Path is "image_error"
[debug] "GET" request for "image_error" from "127.0.0.1"
[error] Unknown option
[debug] Static::Simple: Serving static file: error_image.png as image/png
[debug] Response Code: 200; Content-Type: image/png; Content-Length: 14
[info] Request took 0.003933s (254.259/s)
.-------------------------------------------------------------------------------------------------+-----------.
| Action                                                                                          | Time      |
+-------------------------------------------------------------------------------------------------+-----------+
| /image_error                                                                                    | 0.001310s |
|  -> RRDGraphTest003::View::RRDOnServe->process                                                  | 0.000963s |
'-------------------------------------------------------------------------------------------------+-----------'

[info] *** Request 3 (3.000/s) [12651] [Sat Apr 15 07:11:08 2017] ***
[debug] Path is "zero_byte_error_normal"
[debug] "GET" request for "zero_byte_error_normal" from "127.0.0.1"
[error] RRDgraph is 0 bytes
[debug] Response Code: 500; Content-Type: text/html; charset=utf-8; Content-Length: unknown
[info] Request took 0.007281s (137.344/s)
.-------------------------------------------------------------------------------------------------+-----------.
| Action                                                                                          | Time      |
+-------------------------------------------------------------------------------------------------+-----------+
| /zero_byte_error_normal                                                                         | 0.001105s |
|  -> RRDGraphTest003::View::RRDNormal->process                                                   | 0.000680s |
'-------------------------------------------------------------------------------------------------+-----------'

[info] *** Request 4 (4.000/s) [12651] [Sat Apr 15 07:11:08 2017] ***
[debug] Path is "image_error_normal"
[debug] "GET" request for "image_error_normal" from "127.0.0.1"
[error] Unknown option
[debug] Response Code: 500; Content-Type: text/html; charset=utf-8; Content-Length: unknown
[info] Request took 0.006959s (143.699/s)
.-------------------------------------------------------------------------------------------------+-----------.
| Action                                                                                          | Time      |
+-------------------------------------------------------------------------------------------------+-----------+
| /image_error_normal                                                                             | 0.001011s |
|  -> RRDGraphTest003::View::RRDNormal->process                                                   | 0.000615s |
'-------------------------------------------------------------------------------------------------+-----------'

[info] *** Request 5 (5.000/s) [12651] [Sat Apr 15 07:11:08 2017] ***
[debug] Path is "zero_byte_error_function"
[debug] "GET" request for "zero_byte_error_function" from "127.0.0.1"
[debug] Response Code: 200; Content-Type: unknown; Content-Length: unknown
[info] Request took 0.003515s (284.495/s)
.-------------------------------------------------------------------------------------------------+-----------.
| Action                                                                                          | Time      |
+-------------------------------------------------------------------------------------------------+-----------+
| /zero_byte_error_function                                                                       | 0.000961s |
|  -> RRDGraphTest003::View::RRDOnServeFunction->process                                          | 0.000598s |
'-------------------------------------------------------------------------------------------------+-----------'

[info] *** Request 6 (6.000/s) [12651] [Sat Apr 15 07:11:08 2017] ***
[debug] Path is "image_error_function"
[debug] "GET" request for "image_error_function" from "127.0.0.1"
[debug] Response Code: 200; Content-Type: unknown; Content-Length: unknown
[info] Request took 0.003427s (291.800/s)
.-------------------------------------------------------------------------------------------------+-----------.
| Action                                                                                          | Time      |
+-------------------------------------------------------------------------------------------------+-----------+
| /image_error_function                                                                           | 0.000930s |
|  -> RRDGraphTest003::View::RRDOnServeFunction->process                                          | 0.000591s |
'-------------------------------------------------------------------------------------------------+-----------'

t/003_on_error_serve.t .. ok
All tests successful.
Files=3, Tests=17,  1 wallclock secs ( 0.04 usr  0.01 sys +  1.91 cusr  0.06 csys =  2.02 CPU)
Result: PASS

------------------------------
PREREQUISITES
------------------------------

Prerequisite modules loaded:

requires:

    Module                           Need Have      
    -------------------------------- ---- ----------
    Catalyst::Plugin::Static::Simple 0    0.33      
    Catalyst::Runtime                5.7  5.90114   
    MRO::Compat                      0    0.13      

build_requires:

    Module                           Need Have      
    -------------------------------- ---- ----------
    Catalyst::Test                   0    0         
    Test::MockObject                 0    1.20161202
    Test::More                       0    1.302078  

configure_requires:

    Module                           Need Have      
    -------------------------------- ---- ----------
    ExtUtils::MakeMaker              6.30 7.24      


------------------------------
ENVIRONMENT AND OTHER CONTEXT
------------------------------

Environment variables:

    AUTOMATED_TESTING = 1
    HARNESS_OPTIONS = j3
    LANG = en_US.UTF-8
    PATH = /usr/local/bin:/usr/bin:/bin:/usr/local/games:/usr/games
    PERL5LIB = 
    PERL5OPT = 
    PERL5_CPANPLUS_IS_RUNNING = 12326
    PERL5_CPAN_IS_RUNNING = 12326
    PERL5_CPAN_IS_RUNNING_IN_RECURSION = 28751,12326
    PERL_CR_SMOKER_CURRENT = Catalyst-View-RRDGraph-0.10
    PERL_CR_SMOKER_RUNONCE = 1
    PERL_EXTUTILS_AUTOINSTALL = --defaultdeps
    PERL_MM_USE_DEFAULT = 1
    SHELL = /bin/bash
    TERM = putty-256color

Perl special variables (and OS-specific diagnostics, for MSWin32):

    $^X = /home/cpan1/install/bin/perl
    $UID/$EUID = 1002 / 1002
    $GID = 1002 1002
    $EGID = 1002 1002

Perl module toolchain versions installed:

    Module              Have    
    ------------------- --------
    CPAN                2.16    
    CPAN::Meta          2.150010
    Cwd                 3.62    
    ExtUtils::CBuilder  0.280224
    ExtUtils::Command   7.24    
    ExtUtils::Install   2.04    
    ExtUtils::MakeMaker 7.24    
    ExtUtils::Manifest  1.70    
    ExtUtils::ParseXS   3.30    
    File::Spec          3.62    
    JSON                2.91_04 
    JSON::PP            2.27400 
    Module::Build       0.4222  
    Module::Signature   0.81    
    Parse::CPAN::Meta   2.150010
    Test::Harness       3.39    
    Test::More          1.302078
    YAML                1.23    
    YAML::Syck          1.29    
    version             0.9917  


--

Summary of my perl5 (revision 5 version 26 subversion 0) configuration:
  Commit id: f57d8456e7b8d6b2dad0bb49899cfdc68007b794
  Platform:
    osname=linux
    osvers=3.16.0-4-amd64
    archname=x86_64-linux-thread-multi
    uname='linux digitalis 3.16.0-4-amd64 #1 smp debian 3.16.36-1+deb8u2 (2016-10-19) x86_64 gnulinux '
    config_args='-Dusedevel -DDEBUGGING -Dusethreads -Dprefix=/home/cpan1/install -Uversiononly -des'
    hint=recommended
    useposix=true
    d_sigaction=define
    useithreads=define
    usemultiplicity=define
    use64bitint=define
    use64bitall=define
    uselongdouble=undef
    usemymalloc=n
    default_inc_excludes_dot=define
    bincompat5005=undef
  Compiler:
    cc='cc'
    ccflags ='-D_REENTRANT -D_GNU_SOURCE -fwrapv -DDEBUGGING -fno-strict-aliasing -pipe -fstack-protector-strong -I/usr/local/include -D_LARGEFILE_SOURCE -D_FILE_OFFSET_BITS=64 -D_FORTIFY_SOURCE=2'
    optimize='-O2 -g'
    cppflags='-D_REENTRANT -D_GNU_SOURCE -fwrapv -DDEBUGGING -fno-strict-aliasing -pipe -fstack-protector-strong -I/usr/local/include'
    ccversion=''
    gccversion='4.9.2'
    gccosandvers=''
    intsize=4
    longsize=8
    ptrsize=8
    doublesize=8
    byteorder=12345678
    doublekind=3
    d_longlong=define
    longlongsize=8
    d_longdbl=define
    longdblsize=16
    longdblkind=3
    ivtype='long'
    ivsize=8
    nvtype='double'
    nvsize=8
    Off_t='off_t'
    lseeksize=8
    alignbytes=8
    prototype=define
  Linker and Libraries:
    ld='cc'
    ldflags =' -fstack-protector-strong -L/usr/local/lib'
    libpth=/usr/local/lib /usr/lib/gcc/x86_64-linux-gnu/4.9/include-fixed /usr/include/x86_64-linux-gnu /usr/lib /lib/x86_64-linux-gnu /lib/../lib /usr/lib/x86_64-linux-gnu /usr/lib/../lib /lib /lib64 /usr/lib64
    libs=-lpthread -lnsl -ldl -lm -lcrypt -lutil -lc
    perllibs=-lpthread -lnsl -ldl -lm -lcrypt -lutil -lc
    libc=libc-2.19.so
    so=so
    useshrplib=false
    libperl=libperl.a
    gnulibc_version='2.19'
  Dynamic Linking:
    dlsrc=dl_dlopen.xs
    dlext=so
    d_dlsymun=undef
    ccdlflags='-Wl,-E'
    cccdlflags='-fPIC'
    lddlflags='-shared -O2 -g -L/usr/local/lib -fstack-protector-strong'


Characteristics of this binary (from libperl): 
  Compile-time options:
    DEBUGGING
    HAS_TIMES
    MULTIPLICITY
    PERLIO_LAYERS
    PERL_COPY_ON_WRITE
    PERL_DONT_CREATE_GVSV
    PERL_IMPLICIT_CONTEXT
    PERL_MALLOC_WRAP
    PERL_OP_PARENT
    PERL_PRESERVE_IVUV
    PERL_TRACK_MEMPOOL
    PERL_USE_DEVEL
    USE_64_BIT_ALL
    USE_64_BIT_INT
    USE_ITHREADS
    USE_LARGE_FILES
    USE_LOCALE
    USE_LOCALE_COLLATE
    USE_LOCALE_CTYPE
    USE_LOCALE_NUMERIC
    USE_LOCALE_TIME
    USE_PERLIO
    USE_PERL_ATOF
    USE_REENTRANT_API
  Built under linux
  Compiled at Apr 11 2017 21:42:25
  %ENV:
    PERL5LIB=""
    PERL5OPT=""
    PERL5_CPANPLUS_IS_RUNNING="12326"
    PERL5_CPAN_IS_RUNNING="12326"
    PERL5_CPAN_IS_RUNNING_IN_RECURSION="28751,12326"
    PERL_CR_SMOKER_CURRENT="Catalyst-View-RRDGraph-0.10"
    PERL_CR_SMOKER_RUNONCE="1"
    PERL_EXTUTILS_AUTOINSTALL="--defaultdeps"
    PERL_MM_USE_DEFAULT="1"
  @INC:
    /home/cpan1/install/lib/perl5/site_perl/5.26.0/x86_64-linux-thread-multi
    /home/cpan1/install/lib/perl5/site_perl/5.26.0
    /home/cpan1/install/lib/perl5/5.26.0/x86_64-linux-thread-multi
    /home/cpan1/install/lib/perl5/5.26.0