Report for Data-Stag-0.14

Back
From: metabase:user:1df860e2-5511-11e4-98f0-0dd1d82eb042
Subject: PASS Data-Stag-0.14 v5.20.1 GNU/Linux
Date: 2014-10-16T16:15:34Z

This distribution has been tested as part of the CPAN Testers
project, supporting the Perl programming language.  See
http://wiki.cpantesters.org/ for more information or email
questions to cpan-testers-discuss@perl.org


--
Dear CMUNGALL,

This is a computer-generated report for Data-Stag-0.14
on perl 5.20.1, created by App::cpanminus::reporter 0.11 (1.7014).

Thank you for uploading your work to CPAN.  Congratulations!
All tests were successful.

Sections of this report:

    * Tester comments
    * Program output
    * Prerequisites
    * Environment and other context

------------------------------
TESTER COMMENTS
------------------------------

Additional comments from tester:

none provided

------------------------------
PROGRAM OUTPUT
------------------------------

Output from '':

Building and testing Data-Stag-0.14
cp Data/Stag/HashDB.pm blib/lib/Data/Stag/HashDB.pm
cp Data/Stag/GraphHandler.pm blib/lib/Data/Stag/GraphHandler.pm
cp Data/Stag/XMLParser.pm blib/lib/Data/Stag/XMLParser.pm
cp Data/Stag/StagImpl.pm blib/lib/Data/Stag/StagImpl.pm
cp Data/Stag/DTDWriter.pm blib/lib/Data/Stag/DTDWriter.pm
cp Data/Stag/BaseGenerator.pm blib/lib/Data/Stag/BaseGenerator.pm
cp Data/Stag/IndentWriter.pm blib/lib/Data/Stag/IndentWriter.pm
cp Data/Stag/StagDB.pm blib/lib/Data/Stag/StagDB.pm
cp Data/Stag/SxprParser.pm blib/lib/Data/Stag/SxprParser.pm
cp Data/Stag/StagI.pm blib/lib/Data/Stag/StagI.pm
cp Data/Stag/IndentParser.pm blib/lib/Data/Stag/IndentParser.pm
cp Data/Stag/PerlWriter.pm blib/lib/Data/Stag/PerlWriter.pm
cp Data/Stag/ChainHandler.pm blib/lib/Data/Stag/ChainHandler.pm
cp Data/Stag/PodParser.pm blib/lib/Data/Stag/PodParser.pm
cp Data/Stag/Util.pm blib/lib/Data/Stag/Util.pm
cp Data/Stag/JSONWriter.pm blib/lib/Data/Stag/JSONWriter.pm
cp Data/Stag/ITextWriter.pm blib/lib/Data/Stag/ITextWriter.pm
cp Data/Stag.pm blib/lib/Data/Stag.pm
cp Data/Stag/SAX2Stag.pm blib/lib/Data/Stag/SAX2Stag.pm
cp Data/Stag/Base.pm blib/lib/Data/Stag/Base.pm
cp Data/Stag/SxprWriter.pm blib/lib/Data/Stag/SxprWriter.pm
cp Data/Stag/Writer.pm blib/lib/Data/Stag/Writer.pm
cp Data/Stag/Simple.pm blib/lib/Data/Stag/Simple.pm
cp Data/Stag/XSLHandler.pm blib/lib/Data/Stag/XSLHandler.pm
cp Data/Stag/ITextParser.pm blib/lib/Data/Stag/ITextParser.pm
cp Data/Stag/null.pm blib/lib/Data/Stag/null.pm
cp Data/Stag/Arr2HTML.pm blib/lib/Data/Stag/Arr2HTML.pm
cp Data/Stag/XMLWriter.pm blib/lib/Data/Stag/XMLWriter.pm
cp Data/Stag/BaseHandler.pm blib/lib/Data/Stag/BaseHandler.pm
cp Data/Stag/XSLTHandler.pm blib/lib/Data/Stag/XSLTHandler.pm
cp scripts/stag-grep.pl blib/script/stag-grep.pl
/home/schulung/perl5/perlbrew/perls/perl-5.20.1/bin/perl -MExtUtils::MY -e 'MY->fixin(shift)' -- blib/script/stag-grep.pl
cp scripts/stag-itext2sxpr.pl blib/script/stag-itext2sxpr.pl
/home/schulung/perl5/perlbrew/perls/perl-5.20.1/bin/perl -MExtUtils::MY -e 'MY->fixin(shift)' -- blib/script/stag-itext2sxpr.pl
cp scripts/stag-flatten.pl blib/script/stag-flatten.pl
/home/schulung/perl5/perlbrew/perls/perl-5.20.1/bin/perl -MExtUtils::MY -e 'MY->fixin(shift)' -- blib/script/stag-flatten.pl
cp scripts/stag-autoschema.pl blib/script/stag-autoschema.pl
/home/schulung/perl5/perlbrew/perls/perl-5.20.1/bin/perl -MExtUtils::MY -e 'MY->fixin(shift)' -- blib/script/stag-autoschema.pl
cp scripts/stag-filter.pl blib/script/stag-filter.pl
/home/schulung/perl5/perlbrew/perls/perl-5.20.1/bin/perl -MExtUtils::MY -e 'MY->fixin(shift)' -- blib/script/stag-filter.pl
cp scripts/stag-join.pl blib/script/stag-join.pl
/home/schulung/perl5/perlbrew/perls/perl-5.20.1/bin/perl -MExtUtils::MY -e 'MY->fixin(shift)' -- blib/script/stag-join.pl
cp scripts/stag-findsubtree.pl blib/script/stag-findsubtree.pl
/home/schulung/perl5/perlbrew/perls/perl-5.20.1/bin/perl -MExtUtils::MY -e 'MY->fixin(shift)' -- blib/script/stag-findsubtree.pl
cp scripts/stag-itext2xml.pl blib/script/stag-itext2xml.pl
/home/schulung/perl5/perlbrew/perls/perl-5.20.1/bin/perl -MExtUtils::MY -e 'MY->fixin(shift)' -- blib/script/stag-itext2xml.pl
cp scripts/stag-db.pl blib/script/stag-db.pl
/home/schulung/perl5/perlbrew/perls/perl-5.20.1/bin/perl -MExtUtils::MY -e 'MY->fixin(shift)' -- blib/script/stag-db.pl
cp scripts/stag-parse.pl blib/script/stag-parse.pl
/home/schulung/perl5/perlbrew/perls/perl-5.20.1/bin/perl -MExtUtils::MY -e 'MY->fixin(shift)' -- blib/script/stag-parse.pl
cp scripts/stag-merge.pl blib/script/stag-merge.pl
/home/schulung/perl5/perlbrew/perls/perl-5.20.1/bin/perl -MExtUtils::MY -e 'MY->fixin(shift)' -- blib/script/stag-merge.pl
cp scripts/stag-splitter.pl blib/script/stag-splitter.pl
/home/schulung/perl5/perlbrew/perls/perl-5.20.1/bin/perl -MExtUtils::MY -e 'MY->fixin(shift)' -- blib/script/stag-splitter.pl
cp scripts/stag-diff.pl blib/script/stag-diff.pl
/home/schulung/perl5/perlbrew/perls/perl-5.20.1/bin/perl -MExtUtils::MY -e 'MY->fixin(shift)' -- blib/script/stag-diff.pl
cp scripts/stag-query.pl blib/script/stag-query.pl
/home/schulung/perl5/perlbrew/perls/perl-5.20.1/bin/perl -MExtUtils::MY -e 'MY->fixin(shift)' -- blib/script/stag-query.pl
cp scripts/stag-view.pl blib/script/stag-view.pl
/home/schulung/perl5/perlbrew/perls/perl-5.20.1/bin/perl -MExtUtils::MY -e 'MY->fixin(shift)' -- blib/script/stag-view.pl
cp scripts/stag-handle.pl blib/script/stag-handle.pl
/home/schulung/perl5/perlbrew/perls/perl-5.20.1/bin/perl -MExtUtils::MY -e 'MY->fixin(shift)' -- blib/script/stag-handle.pl
cp scripts/stag-xml2itext.pl blib/script/stag-xml2itext.pl
/home/schulung/perl5/perlbrew/perls/perl-5.20.1/bin/perl -MExtUtils::MY -e 'MY->fixin(shift)' -- blib/script/stag-xml2itext.pl
cp scripts/stag-mogrify.pl blib/script/stag-mogrify.pl
/home/schulung/perl5/perlbrew/perls/perl-5.20.1/bin/perl -MExtUtils::MY -e 'MY->fixin(shift)' -- blib/script/stag-mogrify.pl
cp scripts/stag-itext2simple.pl blib/script/stag-itext2simple.pl
/home/schulung/perl5/perlbrew/perls/perl-5.20.1/bin/perl -MExtUtils::MY -e 'MY->fixin(shift)' -- blib/script/stag-itext2simple.pl
cp scripts/stag-drawtree.pl blib/script/stag-drawtree.pl
/home/schulung/perl5/perlbrew/perls/perl-5.20.1/bin/perl -MExtUtils::MY -e 'MY->fixin(shift)' -- blib/script/stag-drawtree.pl
Manifying blib/man1/stag-autoschema.pl.1
Manifying blib/man1/stag-db.pl.1
Manifying blib/man1/stag-diff.pl.1
Manifying blib/man1/stag-drawtree.pl.1
Manifying blib/man1/stag-filter.pl.1
Manifying blib/man1/stag-findsubtree.pl.1
Manifying blib/man1/stag-flatten.pl.1
Manifying blib/man1/stag-grep.pl.1
Manifying blib/man1/stag-handle.pl.1
Manifying blib/man1/stag-itext2simple.pl.1
Manifying blib/man1/stag-itext2sxpr.pl.1
Manifying blib/man1/stag-itext2xml.pl.1
Manifying blib/man1/stag-join.pl.1
Manifying blib/man1/stag-merge.pl.1
Manifying blib/man1/stag-mogrify.pl.1
Manifying blib/man1/stag-parse.pl.1
Manifying blib/man1/stag-query.pl.1
Manifying blib/man1/stag-splitter.pl.1
Manifying blib/man1/stag-view.pl.1
Manifying blib/man1/stag-xml2itext.pl.1
Manifying blib/man3/Data::Stag.3
Manifying blib/man3/Data::Stag::Arr2HTML.3
Manifying blib/man3/Data::Stag::BaseGenerator.3
Manifying blib/man3/Data::Stag::BaseHandler.3
Manifying blib/man3/Data::Stag::ChainHandler.3
Manifying blib/man3/Data::Stag::DTDWriter.3
Manifying blib/man3/Data::Stag::GraphHandler.3
Manifying blib/man3/Data::Stag::HashDB.3
Manifying blib/man3/Data::Stag::ITextParser.3
Manifying blib/man3/Data::Stag::ITextWriter.3
Manifying blib/man3/Data::Stag::IndentParser.3
Manifying blib/man3/Data::Stag::IndentWriter.3
Manifying blib/man3/Data::Stag::JSONWriter.3
Manifying blib/man3/Data::Stag::PerlWriter.3
Manifying blib/man3/Data::Stag::PodParser.3
Manifying blib/man3/Data::Stag::SAX2Stag.3
Manifying blib/man3/Data::Stag::Simple.3
Manifying blib/man3/Data::Stag::StagDB.3
Manifying blib/man3/Data::Stag::StagImpl.3
Manifying blib/man3/Data::Stag::SxprParser.3
Manifying blib/man3/Data::Stag::SxprWriter.3
Manifying blib/man3/Data::Stag::Writer.3
Manifying blib/man3/Data::Stag::XMLParser.3
Manifying blib/man3/Data::Stag::XMLWriter.3
Manifying blib/man3/Data::Stag::XSLHandler.3
Manifying blib/man3/Data::Stag::XSLTHandler.3
Manifying blib/man3/Data::Stag::null.3
PERL_DL_NONLAZY=1 /home/schulung/perl5/perlbrew/perls/perl-5.20.1/bin/perl "-MExtUtils::Command::MM" "-MTest::Harness" "-e" "undef *Test::Harness::Switches; test_harness(0, 'blib/lib', 'blib/arch')" t/*.t
t/autoschema.t ....... ok
t/chainhandler.t ..... ok
t/db.t ............... ok
t/emptytag.t ......... ok
t/get.t .............. ok
t/handlers.t ......... ok
t/handlers2.t ........ ok
t/hashdb.t ........... ok
t/homol.t ............ ok
t/parsestr.t ......... ok
t/qmatch.t ........... ok
t/roundtrip-attrs.t .. ok
t/set-attrs.t ........ ok
t/set.t .............. ok
t/sxpr.t ............. ok
t/unhash.t ........... ok
t/unset.t ............ ok
t/write.t ............ ok
t/xml1.t ............. ok
t/xml2.t ............. ok
All tests successful.
Files=20, Tests=102,  1 wallclock secs ( 0.07 usr  0.01 sys +  0.59 cusr  0.06 csys =  0.73 CPU)
Result: PASS

------------------------------
PREREQUISITES
------------------------------

Prerequisite modules loaded:

runtime:

    Module              Need Have
    ------------------- ---- ----
    IO::String          0    1.08

build:

    Module              Need Have
    ------------------- ---- ----
    ExtUtils::MakeMaker 0    6.98

configure:

    Module              Need Have
    ------------------- ---- ----
    ExtUtils::MakeMaker 0    6.98


------------------------------
ENVIRONMENT AND OTHER CONTEXT
------------------------------

Environment variables:

    LANG = de_DE.UTF-8
    LANGUAGE = de_DE
    PATH = /home/schulung/perl5/perlbrew/bin:/home/schulung/perl5/perlbrew/perls/perl-5.20.1/bin:/usr/local/sbin:/usr/local/bin:/usr/sbin:/usr/bin:/sbin:/bin:/usr/games:/usr/local/games
    PERLBREW_BASHRC_VERSION = 0.71
    PERLBREW_HOME = /home/schulung/.perlbrew
    PERLBREW_MANPATH = /home/schulung/perl5/perlbrew/perls/perl-5.20.1/man
    PERLBREW_PATH = /home/schulung/perl5/perlbrew/bin:/home/schulung/perl5/perlbrew/perls/perl-5.20.1/bin
    PERLBREW_PERL = perl-5.20.1
    PERLBREW_ROOT = /home/schulung/perl5/perlbrew
    PERLBREW_VERSION = 0.71
    SHELL = /bin/bash
    TERM = xterm

Perl special variables (and OS-specific diagnostics, for MSWin32):

    EGID = 1000 24 30 46 108 124 1000
    EUID = 1000
    EXECUTABLE_NAME = /home/schulung/perl5/perlbrew/perls/perl-5.20.1/bin/perl
    GID = 1000 24 30 46 108 124 1000
    UID = 1000

Perl module toolchain versions installed:

    Module              Have    
    ------------------- --------
    CPAN                2.05    
    CPAN::Meta          2.142690
    Cwd                 3.48    
    ExtUtils::CBuilder  0.280217
    ExtUtils::Command   1.18    
    ExtUtils::Install   1.67    
    ExtUtils::MakeMaker 6.98    
    ExtUtils::Manifest  1.63    
    ExtUtils::ParseXS   3.24    
    File::Spec          3.48    
    JSON                2.90    
    JSON::PP            2.27203 
    Module::Build       0.4210  
    Module::Signature   n/a     
    Parse::CPAN::Meta   1.4414  
    Test::Harness       3.30    
    Test::More          1.001002
    YAML                1.13    
    YAML::Syck          n/a     
    version             0.9909  


--

Summary of my perl5 (revision 5 version 20 subversion 1) configuration:
   
  Platform:
    osname=linux, osvers=3.13.0-24-generic, archname=x86_64-linux
    uname='linux schulung2 3.13.0-24-generic #46-ubuntu smp thu apr 10 19:11:08 utc 2014 x86_64 x86_64 x86_64 gnulinux '
    config_args='-de -Dprefix=/home/schulung/perl5/perlbrew/perls/perl-5.20.1 -Aeval:scriptdir=/home/schulung/perl5/perlbrew/perls/perl-5.20.1/bin'
    hint=recommended, useposix=true, d_sigaction=define
    useithreads=undef, usemultiplicity=undef
    use64bitint=define, use64bitall=define, uselongdouble=undef
    usemymalloc=n, bincompat5005=undef
  Compiler:
    cc='cc', ccflags ='-fwrapv -fno-strict-aliasing -pipe -fstack-protector -I/usr/local/include -D_LARGEFILE_SOURCE -D_FILE_OFFSET_BITS=64',
    optimize='-O2',
    cppflags='-fwrapv -fno-strict-aliasing -pipe -fstack-protector -I/usr/local/include'
    ccversion='', gccversion='4.8.2', gccosandvers=''
    intsize=4, longsize=8, ptrsize=8, doublesize=8, byteorder=12345678
    d_longlong=define, longlongsize=8, d_longdbl=define, longdblsize=16
    ivtype='long', ivsize=8, nvtype='double', nvsize=8, Off_t='off_t', lseeksize=8
    alignbytes=8, prototype=define
  Linker and Libraries:
    ld='cc', ldflags =' -fstack-protector -L/usr/local/lib'
    libpth=/usr/local/lib /usr/lib/gcc/x86_64-linux-gnu/4.8/include-fixed /usr/include/x86_64-linux-gnu /usr/lib /lib/x86_64-linux-gnu /lib/../lib /usr/lib/x86_64-linux-gnu /usr/lib/../lib /lib
    libs=-lnsl -ldl -lm -lcrypt -lutil -lc
    perllibs=-lnsl -ldl -lm -lcrypt -lutil -lc
    libc=libc-2.19.so, so=so, useshrplib=false, libperl=libperl.a
    gnulibc_version='2.19'
  Dynamic Linking:
    dlsrc=dl_dlopen.xs, dlext=so, d_dlsymun=undef, ccdlflags='-Wl,-E'
    cccdlflags='-fPIC', lddlflags='-shared -O2 -L/usr/local/lib -fstack-protector'


Characteristics of this binary (from libperl): 
  Compile-time options: HAS_TIMES PERLIO_LAYERS PERL_DONT_CREATE_GVSV
                        PERL_HASH_FUNC_ONE_AT_A_TIME_HARD PERL_MALLOC_WRAP
                        PERL_NEW_COPY_ON_WRITE PERL_PRESERVE_IVUV
                        USE_64_BIT_ALL USE_64_BIT_INT USE_LARGE_FILES
                        USE_LOCALE USE_LOCALE_COLLATE USE_LOCALE_CTYPE
                        USE_LOCALE_NUMERIC USE_PERLIO USE_PERL_ATOF
  Built under linux
  Compiled at Oct 15 2014 20:19:55
  %ENV:
    PERLBREW_BASHRC_VERSION="0.71"
    PERLBREW_HOME="/home/schulung/.perlbrew"
    PERLBREW_MANPATH="/home/schulung/perl5/perlbrew/perls/perl-5.20.1/man"
    PERLBREW_PATH="/home/schulung/perl5/perlbrew/bin:/home/schulung/perl5/perlbrew/perls/perl-5.20.1/bin"
    PERLBREW_PERL="perl-5.20.1"
    PERLBREW_ROOT="/home/schulung/perl5/perlbrew"
    PERLBREW_VERSION="0.71"
  @INC:
    /home/schulung/perl5/perlbrew/perls/perl-5.20.1/lib/site_perl/5.20.1/x86_64-linux
    /home/schulung/perl5/perlbrew/perls/perl-5.20.1/lib/site_perl/5.20.1
    /home/schulung/perl5/perlbrew/perls/perl-5.20.1/lib/5.20.1/x86_64-linux
    /home/schulung/perl5/perlbrew/perls/perl-5.20.1/lib/5.20.1
    .