HTML-Formatter v2.16 Perl 5 v5.38.2 x86_64-linux
- Status
- Pass
- From
- Nigel Horne
- Dist
-
HTML-Formatter v2.16
- Platform
- Perl 5 v5.38.2 x86_64-linux
- Date
- 2023-12-30 16:15:32
- ID
- a8427df4-a72e-11ee-a6ee-e285abca80bd
This distribution has been tested as part of the CPAN Testers
project, supporting the Perl programming language. See
http://wiki.cpantesters.org/ for more information or email
questions to cpan-testers-discuss@perl.org
--
Dear Nigel Metheringham,
This is a computer-generated report for HTML-Formatter-2.16
on perl 5.38.2, created by CPAN-Reporter-1.2019.
Thank you for uploading your work to CPAN. Congratulations!
All tests were successful.
Sections of this report:
* Tester comments
* Program output
* Prerequisites
* Environment and other context
------------------------------
TESTER COMMENTS
------------------------------
Additional comments from tester:
none provided
------------------------------
PROGRAM OUTPUT
------------------------------
Output from '/usr/bin/make test':
PERL_DL_NONLAZY=1 "/home/opc/perl5/perlbrew/perls/perl-5.38.2/bin/perl" "-MExtUtils::Command::MM" "-MTest::Harness" "-e" "undef *Test::Harness::Switches; test_harness(0, 'blib/lib', 'blib/arch')" t/*.t
#
# Versions for all modules listed in MYMETA.json (including optional ones):
#
# === Configure Requires ===
#
# Module Want Have
# ------------------- ---- ----
# ExtUtils::MakeMaker any 7.70
#
# === Build Requires ===
#
# Module Want Have
# ------------------- ---- ----
# ExtUtils::MakeMaker any 7.70
#
# === Test Requires ===
#
# Module Want Have
# ------------------- ---- --------
# ExtUtils::MakeMaker any 7.70
# File::Slurper any 0.014
# File::Spec any 3.88
# FindBin any 1.53
# IO::Handle any 1.52
# IPC::Open3 any 1.22
# Test::More 0.96 1.302198
# Test::Warnings any 0.032
# blib 1.01 1.07
# bytes any 1.08
# lib any 0.65
#
# === Test Recommends ===
#
# Module Want Have
# ---------- -------- --------
# CPAN::Meta 2.120900 2.150010
#
# === Runtime Requires ===
#
# Module Want Have
# ----------------------------------- ---- -----
# Carp any 1.54
# Data::Dumper any 2.188
# Encode any 3.20
# Font::Metrics::Courier any undef
# Font::Metrics::CourierBold any undef
# Font::Metrics::CourierBoldOblique any undef
# Font::Metrics::CourierOblique any undef
# Font::Metrics::Helvetica any undef
# Font::Metrics::HelveticaBold any undef
# Font::Metrics::HelveticaBoldOblique any undef
# Font::Metrics::HelveticaOblique any undef
# Font::Metrics::TimesBold any undef
# Font::Metrics::TimesBoldItalic any undef
# Font::Metrics::TimesItalic any undef
# Font::Metrics::TimesRoman any undef
# HTML::Element 3.15 5.07
# HTML::TreeBuilder any 5.07
# IO::File any 1.52
# base any 2.27
# integer any 1.01
# parent any 0.241
# strict any 1.12
# utf8 any 1.25
# warnings any 1.65
#
t/00-report-prereqs.t ........ ok
t/00-compile.t ............... ok
t/01_ps.t .................... ok
t/02_rtf.t ................... ok
t/03_text.t .................. ok
t/author-critic.t ............ skipped: these tests are for testing by the author
t/04_md.t .................... ok
t/author-eol.t ............... skipped: these tests are for testing by the author
t/author-no-tabs.t ........... skipped: these tests are for testing by the author
t/author-pod-spell.t ......... skipped: these tests are for testing by the author
t/author-pod-syntax.t ........ skipped: these tests are for testing by the author
t/author-portability.t ....... skipped: these tests are for testing by the author
t/author-synopsis.t .......... skipped: these tests are for testing by the author
t/release-dist-manifest.t .... skipped: these tests are for release candidate testing
t/release-distmeta.t ......... skipped: these tests are for release candidate testing
t/release-has-version.t ...... skipped: these tests are for release candidate testing
t/release-minimum-version.t .. skipped: these tests are for release candidate testing
t/release-unused-vars.t ...... skipped: these tests are for release candidate testing
t/rt111783.t ................. ok
t/rt69426.t .................. ok
All tests successful.
Files=20, Tests=94, 3 wallclock secs ( 0.07 usr 0.02 sys + 1.14 cusr 0.17 csys = 1.40 CPU)
Result: PASS
------------------------------
PREREQUISITES
------------------------------
Prerequisite modules loaded:
requires:
Module Need Have
----------------------------------- -------- --------
base 0 2.27
Carp 0 1.54
Data::Dumper 0 2.188
Encode 0 3.20
Font::Metrics::Courier 0 0
Font::Metrics::CourierBold 0 0
Font::Metrics::CourierBoldOblique 0 0
Font::Metrics::CourierOblique 0 0
Font::Metrics::Helvetica 0 0
Font::Metrics::HelveticaBold 0 0
Font::Metrics::HelveticaBoldOblique 0 0
Font::Metrics::HelveticaOblique 0 0
Font::Metrics::TimesBold 0 0
Font::Metrics::TimesBoldItalic 0 0
Font::Metrics::TimesItalic 0 0
Font::Metrics::TimesRoman 0 0
HTML::Element 3.15 5.07
HTML::TreeBuilder 0 5.07
integer 0 1.01
IO::File 0 1.52
parent 0 0.241
perl 5.008 5.038002
strict 0 1.12
utf8 0 1.25
warnings 0 1.65
build_requires:
Module Need Have
----------------------------------- -------- --------
blib 1.01 1.07
bytes 0 1.08
ExtUtils::MakeMaker 0 7.70
File::Slurper 0 0.014
File::Spec 0 3.88
FindBin 0 1.53
IO::Handle 0 1.52
IPC::Open3 0 1.22
lib 0 0.65
Test::More 0.96 1.302198
Test::Warnings 0 0.032
configure_requires:
Module Need Have
----------------------------------- -------- --------
ExtUtils::MakeMaker 0 7.70
opt_build_requires:
Module Need Have
----------------------------------- -------- --------
CPAN::Meta 2.120900 2.150010
------------------------------
ENVIRONMENT AND OTHER CONTEXT
------------------------------
Environment variables:
HARNESS_OPTIONS = j2:c
LANG = en_GB
PATH = /home/opc/perl5/perlbrew/bin:/home/opc/perl5/perlbrew/perls/perl-5.38.2/bin:/usr/local/bin:/usr/bin:/usr/local/sbin:/usr/sbin:/home/opc/.local/bin:/home/opc/bin
PERL5LIB =
PERL5OPT =
PERL5_CPANPLUS_IS_RUNNING = 5332
PERL5_CPAN_IS_RUNNING = 5332
PERLBREW_HOME = /home/opc/.perlbrew
PERLBREW_MANPATH = /home/opc/perl5/perlbrew/perls/perl-5.38.2/man
PERLBREW_PATH = /home/opc/perl5/perlbrew/bin:/home/opc/perl5/perlbrew/perls/perl-5.38.2/bin
PERLBREW_PERL = perl-5.38.2
PERLBREW_ROOT = /home/opc/perl5/perlbrew
PERLBREW_SHELLRC_VERSION = 0.98
PERLBREW_VERSION = 0.98
PERL_MM_USE_DEFAULT = 1
PERL_USE_UNSAFE_INC = 1
SHELL = /bin/bash
TERM = xterm-256color
Perl special variables (and OS-specific diagnostics, for MSWin32):
$^X = /home/opc/perl5/perlbrew/perls/perl-5.38.2/bin/perl
$UID/$EUID = 1000 / 1000
$GID = 1000 4 10 190 1000
$EGID = 1000 4 10 190 1000
Perl module toolchain versions installed:
Module Have
------------------- --------
CPAN 2.36
CPAN::Meta 2.150010
Cwd 3.89
ExtUtils::CBuilder 0.280238
ExtUtils::Command 7.70
ExtUtils::Install 2.22
ExtUtils::MakeMaker 7.70
ExtUtils::Manifest 1.73
ExtUtils::ParseXS 3.51
File::Spec 3.88
JSON 4.10
JSON::PP 4.16
Module::Build 0.4234
Module::Signature 0.88
Parse::CPAN::Meta 2.150010
Test2 1.302198
Test::Harness 3.48
Test::More 1.302198
YAML 1.30
YAML::Syck 1.34
version 0.9929
--
Summary of my perl5 (revision 5 version 38 subversion 2) configuration:
Platform:
osname=linux
osvers=5.4.17-2136.321.4.1.el7uek.x86_64
archname=x86_64-linux
uname='linux oracle2.bandsman.co.uk 5.4.17-2136.321.4.1.el7uek.x86_64 #2 smp wed jul 19 14:51:35 pdt 2023 x86_64 x86_64 x86_64 gnulinux '
config_args='-de -Dprefix=/home/opc/perl5/perlbrew/perls/perl-5.38.2 -Aeval:scriptdir=/home/opc/perl5/perlbrew/perls/perl-5.38.2/bin'
hint=recommended
useposix=true
d_sigaction=define
useithreads=undef
usemultiplicity=undef
use64bitint=define
use64bitall=define
uselongdouble=undef
usemymalloc=n
default_inc_excludes_dot=define
Compiler:
cc='cc'
ccflags ='-std=gnu99 -fwrapv -fno-strict-aliasing -pipe -fstack-protector-strong -I/usr/local/include -D_LARGEFILE_SOURCE -D_FILE_OFFSET_BITS=64 -D_FORTIFY_SOURCE=2'
optimize='-O2'
cppflags='-std=gnu99 -fwrapv -fno-strict-aliasing -pipe -fstack-protector-strong -I/usr/local/include'
ccversion=''
gccversion='4.8.5 20150623 (Red Hat 4.8.5-44.0.3)'
gccosandvers=''
intsize=4
longsize=8
ptrsize=8
doublesize=8
byteorder=12345678
doublekind=3
d_longlong=define
longlongsize=8
d_longdbl=define
longdblsize=16
longdblkind=3
ivtype='long'
ivsize=8
nvtype='double'
nvsize=8
Off_t='off_t'
lseeksize=8
alignbytes=8
prototype=define
Linker and Libraries:
ld='cc'
ldflags =' -fstack-protector-strong -L/usr/local/lib'
libpth=/usr/local/lib /usr/lib /usr/lib64 /usr/local/lib64
libs=-lpthread -lgdbm -ldb -ldl -lm -lcrypt -lutil -lc -lgdbm_compat
perllibs=-lpthread -ldl -lm -lcrypt -lutil -lc
libc=libc-2.17.so
so=so
useshrplib=false
libperl=libperl.a
gnulibc_version='2.17'
Dynamic Linking:
dlsrc=dl_dlopen.xs
dlext=so
d_dlsymun=undef
ccdlflags='-Wl,-E'
cccdlflags='-fPIC'
lddlflags='-shared -O2 -L/usr/local/lib -fstack-protector-strong'
Characteristics of this binary (from libperl):
Compile-time options:
HAS_LONG_DOUBLE
HAS_STRTOLD
HAS_TIMES
PERLIO_LAYERS
PERL_COPY_ON_WRITE
PERL_DONT_CREATE_GVSV
PERL_HASH_FUNC_SIPHASH13
PERL_HASH_USE_SBOX32
PERL_MALLOC_WRAP
PERL_OP_PARENT
PERL_PRESERVE_IVUV
PERL_USE_SAFE_PUTENV
USE_64_BIT_ALL
USE_64_BIT_INT
USE_LARGE_FILES
USE_LOCALE
USE_LOCALE_COLLATE
USE_LOCALE_CTYPE
USE_LOCALE_NUMERIC
USE_LOCALE_TIME
USE_PERLIO
USE_PERL_ATOF
Built under linux
Compiled at Nov 30 2023 14:53:42
%ENV:
PERL5LIB=""
PERL5OPT=""
PERL5_CPANPLUS_IS_RUNNING="5332"
PERL5_CPAN_IS_RUNNING="5332"
PERLBREW_HOME="/home/opc/.perlbrew"
PERLBREW_MANPATH="/home/opc/perl5/perlbrew/perls/perl-5.38.2/man"
PERLBREW_PATH="/home/opc/perl5/perlbrew/bin:/home/opc/perl5/perlbrew/perls/perl-5.38.2/bin"
PERLBREW_PERL="perl-5.38.2"
PERLBREW_ROOT="/home/opc/perl5/perlbrew"
PERLBREW_SHELLRC_VERSION="0.98"
PERLBREW_VERSION="0.98"
PERL_MM_USE_DEFAULT="1"
PERL_USE_UNSAFE_INC="1"
@INC:
/home/opc/perl5/perlbrew/perls/perl-5.38.2/lib/site_perl/5.38.2/x86_64-linux
/home/opc/perl5/perlbrew/perls/perl-5.38.2/lib/site_perl/5.38.2
/home/opc/perl5/perlbrew/perls/perl-5.38.2/lib/5.38.2/x86_64-linux
/home/opc/perl5/perlbrew/perls/perl-5.38.2/lib/5.38.2
.