Catalyst-Controller-SimpleCAS v1.002 Perl 5 v5.32.0 riscv64-linux
- Status
- Pass
- From
- Ryan Voots
- Dist
-
Catalyst-Controller-SimpleCAS v1.002
- Platform
- Perl 5 v5.32.0 riscv64-linux
- Date
- 2020-10-31 21:11:34
- ID
- a836a740-1bbd-11eb-8212-25a0c54a8ece
This distribution has been tested as part of the CPAN Testers
project, supporting the Perl programming language. See
http://wiki.cpantesters.org/ for more information or email
questions to cpan-testers-discuss@perl.org
--
Dear Henry Van Styn,
This is a computer-generated report for Catalyst-Controller-SimpleCAS-1.002
on perl 5.32.0, created by CPAN-Reporter-1.2018.
Thank you for uploading your work to CPAN. Congratulations!
All tests were successful.
Sections of this report:
* Tester comments
* Program output
* Prerequisites
* Environment and other context
------------------------------
TESTER COMMENTS
------------------------------
Additional comments from tester:
this report is from an automated smoke testing program
and was not reviewed by a human for accuracy
------------------------------
PROGRAM OUTPUT
------------------------------
Output from '/usr/bin/make test':
PERL_DL_NONLAZY=1 "/home/ryan/perl5/perlbrew/perls/perl-5.32.0/bin/perl" "-MExtUtils::Command::MM" "-MTest::Harness" "-e" "undef *Test::Harness::Switches; test_harness(0, 'blib/lib', 'blib/arch')" t/*.t
t/99_podcoverage.t .. skipped: set AUTHOR_TESTING to enable this test
t/99_pod.t .......... skipped: set AUTHOR_TESTING to enable this test
t/99_podspelling.t .. skipped: set AUTHOR_TESTING to enable this test
t/10_store_file.t ... ok
t/01_basic.t ........ ok
All tests successful.
Files=5, Tests=12, 13 wallclock secs ( 0.57 usr 0.18 sys + 21.39 cusr 3.88 csys = 26.02 CPU)
Result: PASS
------------------------------
PREREQUISITES
------------------------------
Prerequisite modules loaded:
requires:
Module Need Have
-------------------------------------- ----- --------
bytes 0 1.07
Carp 0 1.50
Catalyst::Controller 0 0
Catalyst::Utils 0 0
CatalystX::InjectComponent 0 0.025
Data::Dumper 0 2.174
Digest::SHA1 0 2.13
Email::MIME 1.929 1.949
Email::MIME::CreateHTML 1.042 1.042
Email::MIME::CreateHTML::Resolver::LWP 0 1.042
Email::Simple 2.206 2.216
Encode 0 3.06
File::Copy 0 2.34
File::MimeInfo::Magic 0 0.30
File::Spec::Functions 0 3.78
HTML::Encoding 0 0.61
HTML::TokeParser::Simple 0 3.16
Image::Size 0 3.300
IO::All 0 0.87
IO::File 0 1.41
JSON 0 4.02
MIME::Base64 0 3.16
Module::Runtime 0 0.016
Moose 0 2.2013
Moose::Role 0 2.2013
MooseX::MethodAttributes::Role 0.29 0.32
namespace::autoclean 0 0.29
Path::Class 0 0.37
Scalar::Util 0 1.55
Storable 0 3.21
strict 0 1.11
String::Random 0 0.31
Tie::IxHash 0 1.23
Try::Tiny 0 0.30
Types::Standard 0 1.012000
warnings 0 1.47
build_requires:
Module Need Have
-------------------------------------- ----- --------
ExtUtils::MakeMaker 0 7.44
FindBin 0 1.51
lib 0 0.65
Test::Exception 0 0.43
Test::More 0 1.302183
configure_requires:
Module Need Have
-------------------------------------- ----- --------
ExtUtils::MakeMaker 0 7.44
------------------------------
ENVIRONMENT AND OTHER CONTEXT
------------------------------
Environment variables:
AUTOMATED_TESTING = 1
HARNESS_OPTIONS = j6
LANG = en_US.UTF-8
PATH = /usr/local/sbin:/usr/local/bin:/usr/sbin:/usr/bin:/sbin:/bin
PERL5LIB =
PERL5OPT =
PERL5_CPANPLUS_IS_RUNNING = 247628
PERL5_CPAN_IS_RUNNING = 247628
PERL5_CPAN_IS_RUNNING_IN_RECURSION = 362,247628
PERL_CR_SMOKER_CURRENT = Rapi-Fs-1.105
PERL_EXTUTILS_AUTOINSTALL = --defaultdeps
PERL_MM_USE_DEFAULT = 1
PERL_USE_UNSAFE_INC = 1
SHELL = /bin/zsh
Perl special variables (and OS-specific diagnostics, for MSWin32):
$^X = /home/ryan/perl5/perlbrew/perls/perl-5.32.0/bin/perl
$UID/$EUID = 1000 / 1000
$GID = 1000 4 27 102 1000
$EGID = 1000 4 27 102 1000
Perl module toolchain versions installed:
Module Have
------------------- --------
CPAN 2.28
CPAN::Meta 2.150010
Cwd 3.78
ExtUtils::CBuilder 0.280234
ExtUtils::Command 7.44
ExtUtils::Install 2.14
ExtUtils::MakeMaker 7.44
ExtUtils::Manifest 1.72
ExtUtils::ParseXS 3.40
File::Spec 3.78
JSON 4.02
JSON::PP 4.04
Module::Build 0.4231
Module::Signature 0.87
Parse::CPAN::Meta 2.150010
Test::Harness 3.42
Test::More 1.302183
YAML 1.30
YAML::Syck 1.34
version 0.9924
--
Summary of my perl5 (revision 5 version 32 subversion 0) configuration:
Platform:
osname=linux
osvers=5.9.1
archname=riscv64-linux
uname='linux riscv64 5.9.1 #1 smp sun oct 25 20:08:34 utc 2020 riscv64 gnulinux '
config_args='-de -Dprefix=/home/ryan/perl5/perlbrew/perls/perl-5.32.0 -Aeval:scriptdir=/home/ryan/perl5/perlbrew/perls/perl-5.32.0/bin'
hint=recommended
useposix=true
d_sigaction=define
useithreads=undef
usemultiplicity=undef
use64bitint=define
use64bitall=define
uselongdouble=undef
usemymalloc=n
default_inc_excludes_dot=define
bincompat5005=undef
Compiler:
cc='cc'
ccflags ='-fwrapv -fno-strict-aliasing -pipe -fstack-protector-strong -I/usr/local/include -D_LARGEFILE_SOURCE -D_FILE_OFFSET_BITS=64 -D_FORTIFY_SOURCE=2'
optimize='-O2'
cppflags='-fwrapv -fno-strict-aliasing -pipe -fstack-protector-strong -I/usr/local/include'
ccversion=''
gccversion='10.2.0'
gccosandvers=''
intsize=4
longsize=8
ptrsize=8
doublesize=8
byteorder=12345678
doublekind=3
d_longlong=define
longlongsize=8
d_longdbl=define
longdblsize=16
longdblkind=1
ivtype='long'
ivsize=8
nvtype='double'
nvsize=8
Off_t='off_t'
lseeksize=8
alignbytes=8
prototype=define
Linker and Libraries:
ld='cc'
ldflags =' -fstack-protector-strong -L/usr/local/lib'
libpth=/usr/local/lib /usr/include/riscv64-linux-gnu /usr/lib /lib/riscv64-linux-gnu /lib /usr/lib/riscv64-linux-gnu
libs=-lpthread -lnsl -ldl -lm -lcrypt -lutil -lc
perllibs=-lpthread -lnsl -ldl -lm -lcrypt -lutil -lc
libc=libc-2.31.so
so=so
useshrplib=false
libperl=libperl.a
gnulibc_version='2.31'
Dynamic Linking:
dlsrc=dl_dlopen.xs
dlext=so
d_dlsymun=undef
ccdlflags='-Wl,-E'
cccdlflags='-fPIC'
lddlflags='-shared -O2 -L/usr/local/lib -fstack-protector-strong'
Characteristics of this binary (from libperl):
Compile-time options:
HAS_TIMES
PERLIO_LAYERS
PERL_COPY_ON_WRITE
PERL_DONT_CREATE_GVSV
PERL_MALLOC_WRAP
PERL_OP_PARENT
PERL_PRESERVE_IVUV
USE_64_BIT_ALL
USE_64_BIT_INT
USE_LARGE_FILES
USE_LOCALE
USE_LOCALE_COLLATE
USE_LOCALE_CTYPE
USE_LOCALE_NUMERIC
USE_LOCALE_TIME
USE_PERLIO
USE_PERL_ATOF
Built under linux
Compiled at Oct 27 2020 18:42:30
%ENV:
PERL5LIB=""
PERL5OPT=""
PERL5_CPANPLUS_IS_RUNNING="247628"
PERL5_CPAN_IS_RUNNING="247628"
PERL5_CPAN_IS_RUNNING_IN_RECURSION="362,247628"
PERL_CR_SMOKER_CURRENT="Rapi-Fs-1.105"
PERL_EXTUTILS_AUTOINSTALL="--defaultdeps"
PERL_MM_USE_DEFAULT="1"
PERL_USE_UNSAFE_INC="1"
@INC:
/home/ryan/perl5/perlbrew/perls/perl-5.32.0/lib/site_perl/5.32.0/riscv64-linux
/home/ryan/perl5/perlbrew/perls/perl-5.32.0/lib/site_perl/5.32.0
/home/ryan/perl5/perlbrew/perls/perl-5.32.0/lib/5.32.0/riscv64-linux
/home/ryan/perl5/perlbrew/perls/perl-5.32.0/lib/5.32.0
.