Dist-Zilla-Plugin-CheckChangesHasContent v0.011 Perl 5 v5.26.0 x86_64-linux
- Status
- Pass
- From
- Dagfinn Ilmari Mannsåker
- Dist
-
Dist-Zilla-Plugin-CheckChangesHasContent v0.011
- Platform
- Perl 5 v5.26.0 x86_64-linux
- Date
- 2018-01-22 01:14:55
- ID
- a823c20e-ff11-11e7-bf07-ae97c5d8a124
This distribution has been tested as part of the CPAN Testers
project, supporting the Perl programming language. See
http://wiki.cpantesters.org/ for more information or email
questions to cpan-testers-discuss@perl.org
--
Dear DAGOLDEN,
This is a computer-generated report for Dist-Zilla-Plugin-CheckChangesHasContent-0.011
on perl 5.26.0, created by App::cpanminus::reporter 0.17 (1.7043).
Thank you for uploading your work to CPAN. Congratulations!
All tests were successful.
Sections of this report:
* Tester comments
* Program output
* Prerequisites
* Environment and other context
------------------------------
TESTER COMMENTS
------------------------------
Additional comments from tester:
none provided
------------------------------
PROGRAM OUTPUT
------------------------------
Output from '':
Building and testing Dist-Zilla-Plugin-CheckChangesHasContent-0.011
cp lib/Dist/Zilla/Plugin/CheckChangesHasContent.pm blib/lib/Dist/Zilla/Plugin/CheckChangesHasContent.pm
cp lib/Dist/Zilla/Plugin/Test/ChangesHasContent.pm blib/lib/Dist/Zilla/Plugin/Test/ChangesHasContent.pm
Manifying 2 pod documents
PERL_DL_NONLAZY=1 "/home/ilmari/perl5/perlbrew/perls/26.0/bin/perl" "-MExtUtils::Command::MM" "-MTest::Harness" "-e" "undef *Test::Harness::Switches; test_harness(0, 'blib/lib', 'blib/arch')" t/*.t
#
# Versions for all modules listed in MYMETA.json (including optional ones):
#
# === Configure Requires ===
#
# Module Want Have
# ------------------- ---- ----
# ExtUtils::MakeMaker 6.17 7.24
#
# === Build Requires ===
#
# Module Want Have
# ------------------- ---- ----
# ExtUtils::MakeMaker any 7.24
#
# === Test Requires ===
#
# Module Want Have
# ------------------- ---- --------
# Capture::Tiny any 0.46
# Cwd any 3.67
# Dist::Zilla::Tester any 6.009
# ExtUtils::MakeMaker any 7.24
# File::Spec any 3.67
# Path::Tiny any 0.104
# Test::Fatal any 0.014
# Test::Harness any 3.38
# Test::More 0.88 1.302073
#
# === Test Recommends ===
#
# Module Want Have
# ---------- -------- --------
# CPAN::Meta 2.120900 2.150010
#
# === Runtime Requires ===
#
# Module Want Have
# -------------------------------- -------- --------
# Data::Section 0.200002 0.200006
# Dist::Zilla 6 6.009
# Dist::Zilla::File::InMemory any 6.009
# Dist::Zilla::Role::BeforeRelease any 6.009
# Dist::Zilla::Role::FileGatherer any 6.009
# Dist::Zilla::Role::FileMunger any 6.009
# Dist::Zilla::Role::TextTemplate any 6.009
# List::Util any 1.48
# Moose 2 2.2005
# Moose::Util::TypeConstraints any 2.2005
# Sub::Exporter::ForMethods any 0.100052
# autodie 2.00 2.29
# namespace::autoclean 0.28 0.28
# strict any 1.11
# warnings any 1.37
#
t/00-report-prereqs.t ....... ok
t/checkhascontent.t ......... ok
t/test_changeshascontent.t .. ok
All tests successful.
Files=3, Tests=40, 1 wallclock secs ( 0.02 usr 0.01 sys + 1.60 cusr 0.16 csys = 1.79 CPU)
Result: PASS
------------------------------
PREREQUISITES
------------------------------
Prerequisite modules loaded:
No requirements found
------------------------------
ENVIRONMENT AND OTHER CONTEXT
------------------------------
Environment variables:
LANG = en_GB.UTF-8
LANGUAGE = en_GB:en
LC_ADDRESS = en_GB.UTF-8
LC_IDENTIFICATION = en_GB.UTF-8
LC_MEASUREMENT = en_GB.UTF-8
LC_MONETARY = en_GB.UTF-8
LC_NAME = en_GB.UTF-8
LC_NUMERIC = en_GB.UTF-8
LC_PAPER = en_GB.UTF-8
LC_TELEPHONE = en_GB.UTF-8
LC_TIME = en_GB.UTF-8
PATH = /home/ilmari/.perlbrew/libs/26.0@std/bin:/home/ilmari/perl5/perlbrew/bin:/home/ilmari/perl5/perlbrew/perls/26.0/bin:/usr/lib/ccache:/home/ilmari/bin:/usr/local/sbin:/usr/local/bin:/usr/sbin:/usr/bin:/sbin:/bin:/usr/games:/usr/local/games
PERL5LIB = /home/ilmari/.perlbrew/libs/26.0@std/lib/perl5
PERLBREW = command perlbrew
PERLBREW_BASHRC_VERSION = 0.74
PERLBREW_HOME = /home/ilmari/.perlbrew
PERLBREW_LIB = std
PERLBREW_MANPATH = /home/ilmari/.perlbrew/libs/26.0@std/man:/home/ilmari/perl5/perlbrew/perls/26.0/man
PERLBREW_PATH = /home/ilmari/.perlbrew/libs/26.0@std/bin:/home/ilmari/perl5/perlbrew/bin:/home/ilmari/perl5/perlbrew/perls/26.0/bin
PERLBREW_PERL = 26.0
PERLBREW_ROOT = /home/ilmari/perl5/perlbrew
PERLBREW_VERSION = 0.74
PERLDOC_PAGER = less -Ri
PERL_AUTOINSTALL_PREFER_CPAN = 1
PERL_LOCAL_LIB_ROOT = /home/ilmari/.perlbrew/libs/26.0@std
PERL_MB_OPT = --install_base /home/ilmari/.perlbrew/libs/26.0@std
PERL_MM_OPT = INSTALL_BASE=/home/ilmari/.perlbrew/libs/26.0@std
PERL_MM_PREFER_CPAN = 1
PERL_MM_USE_DEFAULT = 1
SHELL = /bin/bash
TERM = xterm-256color
Perl special variables (and OS-specific diagnostics, for MSWin32):
EGID = 1001 4 24 27 30 46 117 128 129 1001
EUID = 1001
EXECUTABLE_NAME = /home/ilmari/perl5/perlbrew/perls/26.0/bin/perl
GID = 1001 4 24 27 30 46 117 128 129 1001
UID = 1001
Perl module toolchain versions installed:
Module Have
------------------- ----------
CPAN 2.18
CPAN::Meta 2.150010
Cwd 3.67
ExtUtils::CBuilder 0.280225
ExtUtils::Command 7.24
ExtUtils::Install 2.04
ExtUtils::MakeMaker 7.24
ExtUtils::Manifest 1.70
ExtUtils::ParseXS 3.34
File::Spec 3.67
JSON 2.94
JSON::PP 2.27400_02
Module::Build 0.4224
Module::Signature n/a
Parse::CPAN::Meta 2.150010
Test::Harness 3.38
Test::More 1.302073
YAML 1.23
YAML::Syck n/a
version 0.9917
--
Summary of my perl5 (revision 5 version 26 subversion 0) configuration:
Platform:
osname=linux
osvers=4.4.0-79-generic
archname=x86_64-linux
uname='linux ilmari-xps-13-9360 4.4.0-79-generic #100-ubuntu smp wed may 17 19:58:14 utc 2017 x86_64 x86_64 x86_64 gnulinux '
config_args='-de -Dprefix=/home/ilmari/perl5/perlbrew/perls/26.0 -Duseshrplib -Dlibperl=libperl.so.5.26.0 -Dman1dir=none -Dman3dir=none -Aeval:scriptdir=/home/ilmari/perl5/perlbrew/perls/26.0/bin'
hint=recommended
useposix=true
d_sigaction=define
useithreads=undef
usemultiplicity=undef
use64bitint=define
use64bitall=define
uselongdouble=undef
usemymalloc=n
default_inc_excludes_dot=define
bincompat5005=undef
Compiler:
cc='cc'
ccflags ='-fwrapv -fno-strict-aliasing -pipe -fstack-protector-strong -I/usr/local/include -D_LARGEFILE_SOURCE -D_FILE_OFFSET_BITS=64'
optimize='-O2'
cppflags='-fwrapv -fno-strict-aliasing -pipe -fstack-protector-strong -I/usr/local/include'
ccversion=''
gccversion='5.4.0 20160609'
gccosandvers=''
intsize=4
longsize=8
ptrsize=8
doublesize=8
byteorder=12345678
doublekind=3
d_longlong=define
longlongsize=8
d_longdbl=define
longdblsize=16
longdblkind=3
ivtype='long'
ivsize=8
nvtype='double'
nvsize=8
Off_t='off_t'
lseeksize=8
alignbytes=8
prototype=define
Linker and Libraries:
ld='cc'
ldflags =' -fstack-protector-strong -L/usr/local/lib'
libpth=/usr/local/lib /usr/lib/gcc/x86_64-linux-gnu/5/include-fixed /usr/include/x86_64-linux-gnu /usr/lib /lib/x86_64-linux-gnu /lib/../lib /usr/lib/x86_64-linux-gnu /usr/lib/../lib /lib
libs=-lpthread -lnsl -lgdbm -ldb -ldl -lm -lcrypt -lutil -lc -lgdbm_compat
perllibs=-lpthread -lnsl -ldl -lm -lcrypt -lutil -lc
libc=libc-2.23.so
so=so
useshrplib=true
libperl=libperl.so.5.26.0
gnulibc_version='2.23'
Dynamic Linking:
dlsrc=dl_dlopen.xs
dlext=so
d_dlsymun=undef
ccdlflags='-Wl,-E -Wl,-rpath,/home/ilmari/perl5/perlbrew/perls/26.0/lib/5.26.0/x86_64-linux/CORE'
cccdlflags='-fPIC'
lddlflags='-shared -O2 -L/usr/local/lib -fstack-protector-strong'
Characteristics of this binary (from libperl):
Compile-time options:
HAS_TIMES
PERLIO_LAYERS
PERL_COPY_ON_WRITE
PERL_DONT_CREATE_GVSV
PERL_MALLOC_WRAP
PERL_OP_PARENT
PERL_PRESERVE_IVUV
USE_64_BIT_ALL
USE_64_BIT_INT
USE_LARGE_FILES
USE_LOCALE
USE_LOCALE_COLLATE
USE_LOCALE_CTYPE
USE_LOCALE_NUMERIC
USE_LOCALE_TIME
USE_PERLIO
USE_PERL_ATOF
Locally applied patches:
Devel::PatchPerl 1.40
Built under linux
Compiled at Jun 22 2017 20:24:28
%ENV:
PERL5LIB="/home/ilmari/.perlbrew/libs/26.0@std/lib/perl5"
PERLBREW="command perlbrew"
PERLBREW_BASHRC_VERSION="0.74"
PERLBREW_HOME="/home/ilmari/.perlbrew"
PERLBREW_LIB="std"
PERLBREW_MANPATH="/home/ilmari/.perlbrew/libs/26.0@std/man:/home/ilmari/perl5/perlbrew/perls/26.0/man"
PERLBREW_PATH="/home/ilmari/.perlbrew/libs/26.0@std/bin:/home/ilmari/perl5/perlbrew/bin:/home/ilmari/perl5/perlbrew/perls/26.0/bin"
PERLBREW_PERL="26.0"
PERLBREW_ROOT="/home/ilmari/perl5/perlbrew"
PERLBREW_VERSION="0.74"
PERLDOC_PAGER="less -Ri"
PERL_AUTOINSTALL_PREFER_CPAN="1"
PERL_LOCAL_LIB_ROOT="/home/ilmari/.perlbrew/libs/26.0@std"
PERL_MB_OPT="--install_base /home/ilmari/.perlbrew/libs/26.0@std"
PERL_MM_OPT="INSTALL_BASE=/home/ilmari/.perlbrew/libs/26.0@std"
PERL_MM_PREFER_CPAN="1"
PERL_MM_USE_DEFAULT="1"
@INC:
/home/ilmari/.perlbrew/libs/26.0@std/lib/perl5/x86_64-linux
/home/ilmari/.perlbrew/libs/26.0@std/lib/perl5
/home/ilmari/perl5/perlbrew/perls/26.0/lib/site_perl/5.26.0/x86_64-linux
/home/ilmari/perl5/perlbrew/perls/26.0/lib/site_perl/5.26.0
/home/ilmari/perl5/perlbrew/perls/26.0/lib/5.26.0/x86_64-linux
/home/ilmari/perl5/perlbrew/perls/26.0/lib/5.26.0