Dist-Zilla-Plugin-CopyFilesFromBuild v0.170880 Perl 5 v5.31.2 darwin-2level

Status
Pass
From
Karen Etheridge
Dist
Dist-Zilla-Plugin-CopyFilesFromBuild v0.170880
Platform
Perl 5 v5.31.2 darwin-2level
Date
2019-08-04 01:53:29
ID
a822a2a0-b65a-11e9-83e5-c80c0300667f
This distribution has been tested as part of the CPAN Testers
project, supporting the Perl programming language.  See
http://wiki.cpantesters.org/ for more information or email
questions to cpan-testers-discuss@perl.org


--
Dear RTHOMPSON,

This is a computer-generated report for Dist-Zilla-Plugin-CopyFilesFromBuild-0.170880
on perl 5.31.2, created by App::cpanminus::reporter 0.17 (1.9019).

Thank you for uploading your work to CPAN.  Congratulations!
All tests were successful.

Sections of this report:

    * Tester comments
    * Program output
    * Prerequisites
    * Environment and other context

------------------------------
TESTER COMMENTS
------------------------------

Additional comments from tester:

none provided

------------------------------
PROGRAM OUTPUT
------------------------------

Output from '':

Building and testing Dist-Zilla-Plugin-CopyFilesFromBuild-0.170880
PERL_DL_NONLAZY=1 "/Volumes/amaretto/Users/ether/perl5/perlbrew/perls/31.2/bin/perl5.31.2" "-MExtUtils::Command::MM" "-MTest::Harness" "-e" "undef *Test::Harness::Switches; test_harness(0, 'blib/lib', 'blib/arch')" t/*.t
t/author-critic.t ........ skipped: these tests are for testing by the author
t/author-pod-coverage.t .. skipped: these tests are for testing by the author
t/author-pod-syntax.t .... skipped: these tests are for testing by the author
t/release-has-version.t .. skipped: these tests are for release candidate testing
t/release-kwalitee.t ..... skipped: these tests are for release candidate testing
t/release-portability.t .. skipped: these tests are for release candidate testing
t/release-unused-vars.t .. skipped: these tests are for release candidate testing
# Testing with Perl 5.031002, /Volumes/amaretto/Users/ether/perl5/perlbrew/perls/31.2/bin/perl5.31.2
#     Carp version is 1.50
#     Dist::Zilla::Plugin::ReadmeAnyFromPod version is 0.163250
#     Dist::Zilla::Role::AfterBuild version is 6.013
t/00-compile.t ........... ok
#     ExtUtils::MakeMaker version is 7.3702
#     File::Copy version is 2.34
#     File::Spec version is 3.78
#     IO::File version is 1.41
#     IO::Handle version is 1.41
#     IPC::Open3 version is 1.20
#     List::Util version is 1.5
#     Moose version is 2.2011
#     MooseX::Has::Sugar version is 1.000006
#     Path::Tiny version is 0.108
#     Scalar::Util version is 1.5
#     Set::Scalar version is 1.29
#     Test::DZil version is 6.013
#     Test::Exception version is 0.43
#     Test::More version is 1.302164
#     Test::Most version is 0.35
#     autodie version is 2.29
#     blib version is 1.07
#     strict version is 1.11
#     utf8 version is 1.22
#     warnings version is 1.45
t/000-report-versions.t .. ok
t/basic.t ................ ok
All tests successful.
Files=10, Tests=34,  1 wallclock secs ( 0.04 usr  0.03 sys +  1.56 cusr  0.19 csys =  1.82 CPU)
Result: PASS

------------------------------
PREREQUISITES
------------------------------

Prerequisite modules loaded:

    No requirements found

------------------------------
ENVIRONMENT AND OTHER CONTEXT
------------------------------

Environment variables:

    HARNESS_OPTIONS = j6:c
    LANG = en_CA.UTF-8
    NO_NETWORK_TESTING = 1
    PATH = /Volumes/amaretto/Users/ether/bin:/Volumes/amaretto/Users/ether/git/misc/install/jaeger/bin:/Volumes/amaretto/Users/ether/git/misc/install/generic/bin:/Volumes/amaretto/Users/ether/.perlbrew/libs/31.2@std/bin:/Volumes/amaretto/Users/ether/perl5/perlbrew/bin:/Volumes/amaretto/Users/ether/perl5/perlbrew/perls/31.2/bin:/opt/local/bin:/opt/local/sbin:/Volumes/amaretto/Users/ether/git/git-hub/lib:/usr/local/bin:/usr/bin:/bin:/usr/sbin:/sbin:/opt/local/share/git-core/contrib/workdir
    PERL5LIB = /Volumes/amaretto/Users/ether/.perlbrew/libs/31.2@std/lib/perl5
    PERLBREW_HOME = /Volumes/amaretto/Users/ether/.perlbrew
    PERLBREW_LIB = std
    PERLBREW_MANPATH = /Volumes/amaretto/Users/ether/.perlbrew/libs/31.2@std/man:/Volumes/amaretto/Users/ether/perl5/perlbrew/perls/31.2/man
    PERLBREW_PATH = /Volumes/amaretto/Users/ether/.perlbrew/libs/31.2@std/bin:/Volumes/amaretto/Users/ether/perl5/perlbrew/bin:/Volumes/amaretto/Users/ether/perl5/perlbrew/perls/31.2/bin
    PERLBREW_PERL = 31.2
    PERLBREW_ROOT = /Volumes/amaretto/Users/ether/perl5/perlbrew
    PERLBREW_SHELLRC_VERSION = 0.86
    PERLBREW_VERSION = 0.86
    PERLDOC = -oman
    PERLDOC_PAGER = less -sicMr
    PERL_AUTOINSTALL_PREFER_CPAN = 1
    PERL_INSTALL_QUIET = 1
    PERL_LOCAL_LIB_ROOT = /Volumes/amaretto/Users/ether/.perlbrew/libs/31.2@std
    PERL_MB_OPT = --install_base /Volumes/amaretto/Users/ether/.perlbrew/libs/31.2@std
    PERL_MM_OPT = INSTALL_BASE=/Volumes/amaretto/Users/ether/.perlbrew/libs/31.2@std
    PERL_USE_UNSAFE_INC = 0
    SHELL = /bin/bash
    TERM = xterm-color

Perl special variables (and OS-specific diagnostics, for MSWin32):

    EGID = 20 20 12 61 79 80 81 98 701 33 100 204 395 398 399
    EUID = 502
    EXECUTABLE_NAME = /Volumes/amaretto/Users/ether/perl5/perlbrew/perls/31.2/bin/perl5.31.2
    GID = 20 20 12 61 79 80 81 98 701 33 100 204 395 398 399
    UID = 502

Perl module toolchain versions installed:

    Module              Have    
    ------------------- --------
    CPAN                2.27    
    CPAN::Meta          2.150010
    Cwd                 3.78    
    ExtUtils::CBuilder  0.280232
    ExtUtils::Command   7.37_02 
    ExtUtils::Install   2.14    
    ExtUtils::MakeMaker 7.37_02 
    ExtUtils::Manifest  1.72    
    ExtUtils::ParseXS   3.40    
    File::Spec          3.78    
    JSON                4.02    
    JSON::PP            4.04    
    Module::Build       0.4229  
    Module::Signature   n/a     
    Parse::CPAN::Meta   2.150010
    Test::Harness       3.42    
    Test::More          1.302164
    YAML                1.29    
    YAML::Syck          1.31    
    version             0.9924  


--

Summary of my perl5 (revision 5 version 31 subversion 2) configuration:
   
  Platform:
    osname=darwin
    osvers=16.7.0
    archname=darwin-2level
    uname='darwin jaeger 16.7.0 darwin kernel version 16.7.0: wed apr 24 20:50:53 pdt 2019; root:xnu-3789.73.49~1release_x86_64 x86_64 '
    config_args='-de -Dprefix=/Volumes/amaretto/Users/ether/perl5/perlbrew/perls/31.2 -Dman1dir=none -Dman3dir=none -Dusedevel -Aeval:scriptdir=/Volumes/amaretto/Users/ether/perl5/perlbrew/perls/31.2/bin'
    hint=recommended
    useposix=true
    d_sigaction=define
    useithreads=undef
    usemultiplicity=undef
    use64bitint=define
    use64bitall=define
    uselongdouble=undef
    usemymalloc=n
    default_inc_excludes_dot=define
    bincompat5005=undef
  Compiler:
    cc='cc'
    ccflags ='-fno-common -DPERL_DARWIN -mmacosx-version-min=10.12 -fno-strict-aliasing -pipe -fstack-protector-strong -I/opt/local/include -DPERL_USE_SAFE_PUTENV'
    optimize='-O3'
    cppflags='-fno-common -DPERL_DARWIN -mmacosx-version-min=10.12 -fno-strict-aliasing -pipe -fstack-protector-strong -I/opt/local/include'
    ccversion=''
    gccversion='4.2.1 Compatible Apple LLVM 9.0.0 (clang-900.0.39.2)'
    gccosandvers=''
    intsize=4
    longsize=8
    ptrsize=8
    doublesize=8
    byteorder=12345678
    doublekind=3
    d_longlong=define
    longlongsize=8
    d_longdbl=define
    longdblsize=16
    longdblkind=3
    ivtype='long'
    ivsize=8
    nvtype='double'
    nvsize=8
    Off_t='off_t'
    lseeksize=8
    alignbytes=8
    prototype=define
  Linker and Libraries:
    ld='cc'
    ldflags =' -mmacosx-version-min=10.12 -fstack-protector-strong -L/opt/local/lib'
    libpth=/Applications/Xcode.app/Contents/Developer/Toolchains/XcodeDefault.xctoolchain/usr/lib/clang/9.0.0/lib /Applications/Xcode.app/Contents/Developer/Toolchains/XcodeDefault.xctoolchain/usr/lib /usr/lib /opt/local/lib
    libs=-lpthread -lgdbm -ldbm -ldl -lm -lutil -lc
    perllibs=-lpthread -ldl -lm -lutil -lc
    libc=
    so=dylib
    useshrplib=false
    libperl=libperl.a
    gnulibc_version=''
  Dynamic Linking:
    dlsrc=dl_dlopen.xs
    dlext=bundle
    d_dlsymun=undef
    ccdlflags=' '
    cccdlflags=' '
    lddlflags=' -mmacosx-version-min=10.12 -bundle -undefined dynamic_lookup -L/opt/local/lib -fstack-protector-strong'


Characteristics of this binary (from libperl): 
  Compile-time options:
    HAS_TIMES
    PERLIO_LAYERS
    PERL_COPY_ON_WRITE
    PERL_DONT_CREATE_GVSV
    PERL_MALLOC_WRAP
    PERL_OP_PARENT
    PERL_PRESERVE_IVUV
    PERL_USE_DEVEL
    PERL_USE_SAFE_PUTENV
    USE_64_BIT_ALL
    USE_64_BIT_INT
    USE_LARGE_FILES
    USE_LOCALE
    USE_LOCALE_COLLATE
    USE_LOCALE_CTYPE
    USE_LOCALE_NUMERIC
    USE_LOCALE_TIME
    USE_PERLIO
    USE_PERL_ATOF
  Built under darwin
  Compiled at Jul 20 2019 14:15:59
  %ENV:
    PERL5LIB="/Volumes/amaretto/Users/ether/.perlbrew/libs/31.2@std/lib/perl5"
    PERLBREW_HOME="/Volumes/amaretto/Users/ether/.perlbrew"
    PERLBREW_LIB="std"
    PERLBREW_MANPATH="/Volumes/amaretto/Users/ether/.perlbrew/libs/31.2@std/man:/Volumes/amaretto/Users/ether/perl5/perlbrew/perls/31.2/man"
    PERLBREW_PATH="/Volumes/amaretto/Users/ether/.perlbrew/libs/31.2@std/bin:/Volumes/amaretto/Users/ether/perl5/perlbrew/bin:/Volumes/amaretto/Users/ether/perl5/perlbrew/perls/31.2/bin"
    PERLBREW_PERL="31.2"
    PERLBREW_ROOT="/Volumes/amaretto/Users/ether/perl5/perlbrew"
    PERLBREW_SHELLRC_VERSION="0.86"
    PERLBREW_VERSION="0.86"
    PERLDOC="-oman"
    PERLDOC_PAGER="less -sicMr"
    PERL_AUTOINSTALL_PREFER_CPAN="1"
    PERL_INSTALL_QUIET="1"
    PERL_LOCAL_LIB_ROOT="/Volumes/amaretto/Users/ether/.perlbrew/libs/31.2@std"
    PERL_MB_OPT="--install_base /Volumes/amaretto/Users/ether/.perlbrew/libs/31.2@std"
    PERL_MM_OPT="INSTALL_BASE=/Volumes/amaretto/Users/ether/.perlbrew/libs/31.2@std"
    PERL_USE_UNSAFE_INC="0"
  @INC:
    /Volumes/amaretto/Users/ether/.perlbrew/libs/31.2@std/lib/perl5/5.31.2/darwin-2level
    /Volumes/amaretto/Users/ether/.perlbrew/libs/31.2@std/lib/perl5/5.31.2
    /Volumes/amaretto/Users/ether/.perlbrew/libs/31.2@std/lib/perl5/darwin-2level
    /Volumes/amaretto/Users/ether/.perlbrew/libs/31.2@std/lib/perl5
    /Volumes/amaretto/Users/ether/perl5/perlbrew/perls/31.2/lib/site_perl/5.31.2/darwin-2level
    /Volumes/amaretto/Users/ether/perl5/perlbrew/perls/31.2/lib/site_perl/5.31.2
    /Volumes/amaretto/Users/ether/perl5/perlbrew/perls/31.2/lib/5.31.2/darwin-2level
    /Volumes/amaretto/Users/ether/perl5/perlbrew/perls/31.2/lib/5.31.2