Net-Google-DataAPI v0.2805 Perl 5 v5.26.1 OpenBSD.amd64-openbsd

Status
Pass
From
Alceu Rodrigues de Freitas Junior
Dist
Net-Google-DataAPI v0.2805
Platform
Perl 5 v5.26.1 OpenBSD.amd64-openbsd
Date
2017-12-26 12:09:43
ID
a8097cb4-ea35-11e7-a299-7e00d04e8a6e
This distribution has been tested as part of the CPAN Testers
project, supporting the Perl programming language.  See
http://wiki.cpantesters.org/ for more information or email
questions to cpan-testers-discuss@perl.org


--
Dear Nobuo Danjou,

This is a computer-generated report for Net-Google-DataAPI-0.2805
on perl 5.26.1, created by CPAN-Reporter-1.2018.

Thank you for uploading your work to CPAN.  Congratulations!
All tests were successful.

Sections of this report:

    * Tester comments
    * Program output
    * Prerequisites
    * Environment and other context

------------------------------
TESTER COMMENTS
------------------------------

Additional comments from tester:

this report is from an automated smoke testing program
and was not reviewed by a human for accuracy

------------------------------
PROGRAM OUTPUT
------------------------------

Output from '/usr/bin/make test':

PERL_DL_NONLAZY=1 "/home/goku/perl5/perlbrew/perls/perl-5.26.1/bin/perl" "-MExtUtils::Command::MM" "-MTest::Harness" "-e" "undef *Test::Harness::Switches; test_harness(0, 'inc', 'blib/lib', 'blib/arch')" t/*.t t/01_role/01_service/*.t t/01_role/02_entry/*.t t/01_role/03_has_content/*.t t/02_feedurl/*.t t/03_entry_has/*.t t/04_auth/*.t
Any::Moose is deprecated. Please use Moo instead at /mnt/cpan_build_dir/goku/Net-Google-DataAPI-0.2805-0/blib/lib/Net/Google/DataAPI.pm line 3.
t/00_compile.t ......................................... ok
Any::Moose is deprecated. Please use Moo instead at /mnt/cpan_build_dir/goku/Net-Google-DataAPI-0.2805-0/blib/lib/Net/Google/DataAPI/Role/Service.pm line 2.
t/01_role/01_service/01_instanciate.t .................. ok
Any::Moose is deprecated. Please use Moo instead at /mnt/cpan_build_dir/goku/Net-Google-DataAPI-0.2805-0/blib/lib/Net/Google/DataAPI/Role/Service.pm line 2.
t/01_role/01_service/02_namespace.t .................... ok
Any::Moose is deprecated. Please use Moo instead at t/01_role/01_service/03_request.t line 11.
t/01_role/01_service/03_request.t ...................... ok
Any::Moose is deprecated. Please use Moo instead at t/01_role/01_service/04_methods.t line 9.
t/01_role/01_service/04_methods.t ...................... ok
Any::Moose is deprecated. Please use Moo instead at t/lib/MyService.pm line 2.
t/01_role/01_service/05_debug.t ........................ ok
Any::Moose is deprecated. Please use Moo instead at /mnt/cpan_build_dir/goku/Net-Google-DataAPI-0.2805-0/blib/lib/Net/Google/DataAPI/Role/Service.pm line 2.
t/01_role/01_service/06_pass_through.t ................. ok
Any::Moose is deprecated. Please use Moo instead at /mnt/cpan_build_dir/goku/Net-Google-DataAPI-0.2805-0/blib/lib/Net/Google/DataAPI/Role/Service.pm line 2.
t/01_role/01_service/07_max_line_length.t .............. ok
Any::Moose is deprecated. Please use Moo instead at /mnt/cpan_build_dir/goku/Net-Google-DataAPI-0.2805-0/blib/lib/Net/Google/DataAPI/Role/Service.pm line 2.
t/01_role/01_service/08_max_line_length_custom_size.t .. ok
Any::Moose is deprecated. Please use Moo instead at /mnt/cpan_build_dir/goku/Net-Google-DataAPI-0.2805-0/blib/lib/Net/Google/DataAPI/Role/Entry.pm line 2.
t/01_role/02_entry/01_instanciate.t .................... ok
Any::Moose is deprecated. Please use Moo instead at t/01_role/02_entry/02_update.t line 10.
t/01_role/02_entry/02_update.t ......................... ok
Any::Moose is deprecated. Please use Moo instead at /mnt/cpan_build_dir/goku/Net-Google-DataAPI-0.2805-0/blib/lib/Net/Google/DataAPI/Role/HasContent.pm line 2.
t/01_role/03_has_content/01_basic.t .................... ok
Any::Moose is deprecated. Please use Moo instead at t/lib/MyService.pm line 2.
t/02_feedurl/01_basic.t ................................ ok
Any::Moose is deprecated. Please use Moo instead at t/lib/MyService.pm line 2.
t/02_feedurl/02_add.t .................................. ok
Any::Moose is deprecated. Please use Moo instead at t/lib/MyService.pm line 2.
t/02_feedurl/03_list.t ................................. ok
Any::Moose is deprecated. Please use Moo instead at t/lib/MyService.pm line 2.
t/02_feedurl/04_delete.t ............................... ok
Any::Moose is deprecated. Please use Moo instead at t/02_feedurl/05_error.t line 10.
t/02_feedurl/05_error.t ................................ ok
Any::Moose is deprecated. Please use Moo instead at t/03_entry_has/01_basic.t line 116.
t/03_entry_has/01_basic.t .............................. ok
Any::Moose is deprecated. Please use Moo instead at t/03_entry_has/02_error.t line 8.
t/03_entry_has/02_error.t .............................. ok
Any::Moose is deprecated. Please use Moo instead at t/lib/MyService.pm line 2.
t/04_auth/01_authsub.t ................................. ok
Any::Moose is deprecated. Please use Moo instead at /mnt/cpan_build_dir/goku/Net-Google-DataAPI-0.2805-0/blib/lib/Net/Google/DataAPI/Auth/OAuth.pm line 2.
t/04_auth/02_oauth.t ................................... ok
Any::Moose is deprecated. Please use Moo instead at /mnt/cpan_build_dir/goku/Net-Google-DataAPI-0.2805-0/blib/lib/Net/Google/DataAPI/Auth/ClientLogin/Multiple.pm line 2.
t/04_auth/03_multiple.t ................................ ok
Any::Moose is deprecated. Please use Moo instead at /mnt/cpan_build_dir/goku/Net-Google-DataAPI-0.2805-0/blib/lib/Net/Google/DataAPI/Auth/OAuth2.pm line 2.
t/04_auth/04_oauth2.t .................................. ok
Any::Moose is deprecated. Please use Moo instead at t/05_types.t line 6.
t/05_types.t ........................................... ok
All tests successful.
Files=24, Tests=423, 14 wallclock secs ( 0.08 usr  0.23 sys +  8.70 cusr  3.36 csys = 12.37 CPU)
Result: PASS

------------------------------
PREREQUISITES
------------------------------

Prerequisite modules loaded:

requires:

    Module                      Need     Have      
    --------------------------- -------- ----------
    Any::Moose                  0.04     0.27      
    Carp                        0        1.42      
    Digest::SHA1                0        2.13      
    Lingua::EN::Inflect::Number 0        1.12      
    LWP::Protocol::https        0        6.07      
    LWP::UserAgent              0        6.26      
    Mouse                       0.51     v2.4.9    
    Net::Google::AuthSub        0.5      0.5       
    Net::OAuth                  0        0.28      
    Net::OAuth2                 0.60     0.63      
    perl                        5.008001 5.026001  
    Text::Glob                  0        0.11      
    URI                         0        1.72      
    XML::Atom                   0        0.42      
    XML::LibXML                 0        2.0132    

build_requires:

    Module                      Need     Have      
    --------------------------- -------- ----------
    ExtUtils::MakeMaker         6.59     7.31_05   
    Test::Exception             0        0.43      
    Test::MockModule            0        0.13      
    Test::MockObject            0        1.20161202
    Test::More                  0.88     1.302120  
    Test::Warn                  0        0.32      
    UNIVERSAL::can              0        1.20140328
    UNIVERSAL::isa              0        1.20171012

configure_requires:

    Module                      Need     Have      
    --------------------------- -------- ----------
    ExtUtils::MakeMaker         6.59     7.31_05   

opt_requires:

    Module                      Need     Have      
    --------------------------- -------- ----------
    Moose                       0.56     2.2009    


------------------------------
ENVIRONMENT AND OTHER CONTEXT
------------------------------

Environment variables:

    AUTOMATED_TESTING = 1
    DBD_MYSQL_TESTDB = test
    DBD_MYSQL_TESTHOST = localhost
    DBD_MYSQL_TESTPASSWORD = 
    DBD_MYSQL_TESTPORT = 3306
    DBD_MYSQL_TESTUSER = goku
    EXTENDED_TESTING = 1
    PATH = /home/goku/perl5/perlbrew/bin:/home/goku/perl5/perlbrew/perls/perl-5.26.1/bin:/home/goku/bin:/usr/bin:/bin:/usr/sbin:/sbin:/usr/X11R6/bin:/usr/local/bin:/usr/local/sbin
    PERL5LIB = 
    PERL5OPT = 
    PERL5_CPANPLUS_IS_RUNNING = 80446
    PERL5_CPAN_IS_RUNNING = 80446
    PERL5_CPAN_IS_RUNNING_IN_RECURSION = 6888,80446
    PERLBREW_HOME = /home/goku/.perlbrew
    PERLBREW_MANPATH = /home/goku/perl5/perlbrew/perls/perl-5.26.1/man
    PERLBREW_PATH = /home/goku/perl5/perlbrew/bin:/home/goku/perl5/perlbrew/perls/perl-5.26.1/bin
    PERLBREW_PERL = perl-5.26.1
    PERLBREW_ROOT = /home/goku/perl5/perlbrew
    PERLBREW_SHELLRC_VERSION = 0.82
    PERLBREW_VERSION = 0.82
    PERL_CR_SMOKER_CURRENT = Net-Google-Spreadsheets-V4-0.002
    PERL_EXTUTILS_AUTOINSTALL = --defaultdeps
    PERL_MM_USE_DEFAULT = 1
    SHELL = /usr/local/bin/bash
    TERM = xterm

Perl special variables (and OS-specific diagnostics, for MSWin32):

    $^X = /home/goku/perl5/perlbrew/perls/perl-5.26.1/bin/perl
    $UID/$EUID = 1001 / 1001
    $GID = 998 998 1001
    $EGID = 998 998 1001

Perl module toolchain versions installed:

    Module              Have    
    ------------------- --------
    CPAN                2.16    
    CPAN::Meta          2.150010
    Cwd                 3.67    
    ExtUtils::CBuilder  0.280230
    ExtUtils::Command   7.31_05 
    ExtUtils::Install   2.14    
    ExtUtils::MakeMaker 7.31_05 
    ExtUtils::Manifest  1.70    
    ExtUtils::ParseXS   3.35    
    File::Spec          3.67    
    JSON                2.97001 
    JSON::PP            2.97001 
    Module::Build       0.4224  
    Module::Signature   n/a     
    Parse::CPAN::Meta   2.150010
    Test::Harness       3.39    
    Test::More          1.302120
    YAML                1.24    
    YAML::Syck          1.30    
    version             0.9918  


--

Summary of my perl5 (revision 5 version 26 subversion 1) configuration:
   
  Platform:
    osname=openbsd
    osvers=6.2
    archname=OpenBSD.amd64-openbsd
    uname='openbsd cpan-smoker-openbsd 6.2 generic.mp#134 amd64 '
    config_args='-de -Dprefix=/home/goku/perl5/perlbrew/perls/perl-5.26.1 -Aeval:scriptdir=/home/goku/perl5/perlbrew/perls/perl-5.26.1/bin'
    hint=recommended
    useposix=true
    d_sigaction=define
    useithreads=undef
    usemultiplicity=undef
    use64bitint=define
    use64bitall=define
    uselongdouble=undef
    usemymalloc=n
    default_inc_excludes_dot=define
    bincompat5005=undef
  Compiler:
    cc='cc'
    ccflags ='-fno-strict-aliasing -pipe -fstack-protector-strong -I/usr/local/include -D_FORTIFY_SOURCE=2'
    optimize='-O2'
    cppflags='-fno-strict-aliasing -pipe -fstack-protector-strong -I/usr/local/include'
    ccversion=''
    gccversion='4.2.1 Compatible OpenBSD Clang 4.0.0 (tags/RELEASE_400/final)'
    gccosandvers=''
    intsize=4
    longsize=8
    ptrsize=8
    doublesize=8
    byteorder=12345678
    doublekind=3
    d_longlong=define
    longlongsize=8
    d_longdbl=define
    longdblsize=16
    longdblkind=3
    ivtype='long'
    ivsize=8
    nvtype='double'
    nvsize=8
    Off_t='off_t'
    lseeksize=8
    alignbytes=8
    prototype=define
  Linker and Libraries:
    ld='cc'
    ldflags ='-Wl,-E  -fstack-protector-strong -L/usr/local/lib'
    libpth=/usr/lib /usr/local/lib
    libs=-lpthread -lm -lutil -lc
    perllibs=-lpthread -lm -lutil -lc
    libc=/usr/lib/libc.so.90.0
    so=so
    useshrplib=false
    libperl=libperl.a
    gnulibc_version=''
  Dynamic Linking:
    dlsrc=dl_dlopen.xs
    dlext=so
    d_dlsymun=undef
    ccdlflags=' '
    cccdlflags='-DPIC -fPIC '
    lddlflags='-shared -fPIC  -L/usr/local/lib -fstack-protector-strong'


Characteristics of this binary (from libperl): 
  Compile-time options:
    HAS_TIMES
    PERLIO_LAYERS
    PERL_COPY_ON_WRITE
    PERL_DONT_CREATE_GVSV
    PERL_MALLOC_WRAP
    PERL_OP_PARENT
    PERL_PRESERVE_IVUV
    USE_64_BIT_ALL
    USE_64_BIT_INT
    USE_LARGE_FILES
    USE_LOCALE
    USE_LOCALE_COLLATE
    USE_LOCALE_CTYPE
    USE_LOCALE_NUMERIC
    USE_LOCALE_TIME
    USE_PERLIO
    USE_PERL_ATOF
  Locally applied patches:
    Devel::PatchPerl 1.48
  Built under openbsd
  Compiled at Dec 20 2017 18:45:59
  %ENV:
    PERL5LIB=""
    PERL5OPT=""
    PERL5_CPANPLUS_IS_RUNNING="80446"
    PERL5_CPAN_IS_RUNNING="80446"
    PERL5_CPAN_IS_RUNNING_IN_RECURSION="6888,80446"
    PERLBREW_HOME="/home/goku/.perlbrew"
    PERLBREW_MANPATH="/home/goku/perl5/perlbrew/perls/perl-5.26.1/man"
    PERLBREW_PATH="/home/goku/perl5/perlbrew/bin:/home/goku/perl5/perlbrew/perls/perl-5.26.1/bin"
    PERLBREW_PERL="perl-5.26.1"
    PERLBREW_ROOT="/home/goku/perl5/perlbrew"
    PERLBREW_SHELLRC_VERSION="0.82"
    PERLBREW_VERSION="0.82"
    PERL_CR_SMOKER_CURRENT="Net-Google-Spreadsheets-V4-0.002"
    PERL_EXTUTILS_AUTOINSTALL="--defaultdeps"
    PERL_MM_USE_DEFAULT="1"
  @INC:
    /home/goku/perl5/perlbrew/perls/perl-5.26.1/lib/site_perl/5.26.1/OpenBSD.amd64-openbsd
    /home/goku/perl5/perlbrew/perls/perl-5.26.1/lib/site_perl/5.26.1
    /home/goku/perl5/perlbrew/perls/perl-5.26.1/lib/5.26.1/OpenBSD.amd64-openbsd
    /home/goku/perl5/perlbrew/perls/perl-5.26.1/lib/5.26.1