Report for Crypt-SSLeay-0.72

Back
From: metabase:user:82d9afc2-0d4c-11e0-9281-bfa05983890b
Subject: PASS Crypt-SSLeay-0.72 v5.18.0 GNU/Linux
Date: 2014-06-02T11:40:11Z

This distribution has been tested as part of the CPAN Testers
project, supporting the Perl programming language.  See
http://wiki.cpantesters.org/ for more information or email
questions to cpan-testers-discuss@perl.org


--
Dear A. Sinan Unur,

This is a computer-generated report for Crypt-SSLeay-0.72
on perl 5.18.0, created by CPAN-Reporter-1.2011.

Thank you for uploading your work to CPAN.  Congratulations!
All tests were successful.

Sections of this report:

    * Tester comments
    * Program output
    * Prerequisites
    * Environment and other context

------------------------------
TESTER COMMENTS
------------------------------

Additional comments from tester:

this report is from an automated smoke testing program
and was not reviewed by a human for accuracy

------------------------------
PROGRAM OUTPUT
------------------------------

Output from '/usr/bin/make test':

PERL_DL_NONLAZY=1 /home/ari/perl5/perlbrew/perls/perl-5.18.0/bin/perl "-MExtUtils::Command::MM" "-e" "test_harness(0, 'blib/lib', 'blib/arch')" t/*.t
t/00-basic.t ..... ok
t/01-connect.t ... ok
# Reading configuration from 'test.config' on linux
# network_tests : 0
t/02-live.t ...... skipped: Network tests disabled
#     You have 'OpenSSL 1.0.1 14 Mar 2012'
#     built on 'built on: Wed Jan  8 20:45:51 UTC 2014'
#     and SSL Heartbeats are not disabled.
# 
#     That means your client may be vulnerable to a server exploiting the
#     Heartbleed bug unless the vulnerability was patched without changing
#     version. The vulnerability was disclosed on or about 2014/04/07. A
#     build date after that may indicate that the library you are using
#     may have been patched. You should check this.
# 
#     The risk is compounded by the fact that Crypt::SSLeay does not
#     verify hosts.  You can still force install Crypt::SSLeay, but you
#     need to be aware of this issue, and strongly consider upgrading to a
#     safer version of OpenSSL.
# 
#     See also:
# 
#       - https://cve.mitre.org/cgi-bin/cvename.cgi?name=CVE-2014-0160
#       - http://isc.sans.edu/diary/17945
#       - http://seclists.org/fulldisclosure/2014/Apr/91
t/03-version.t ... ok
t/boilerplate.t .. ok
t/manifest.t ..... skipped: Author tests not required for installation
All tests successful.
Files=6, Tests=43,  0 wallclock secs ( 0.02 usr  0.02 sys +  0.18 cusr  0.02 csys =  0.24 CPU)
Result: PASS

------------------------------
PREREQUISITES
------------------------------

Prerequisite modules loaded:

requires:

    Module               Need     Have    
    -------------------- -------- --------
    LWP::Protocol::https 6.02     6.04    
    MIME::Base64         0        3.13    
    perl                 5.006    5.018000

build_requires:

    Module               Need     Have    
    -------------------- -------- --------
    ExtUtils::MakeMaker  0        6.66    
    Test::More           0.19     0.98    
    Try::Tiny            0.19     0.22    

configure_requires:

    Module               Need     Have    
    -------------------- -------- --------
    ExtUtils::CBuilder   0.280205 0.280210
    Getopt::Long         0        2.39    
    Path::Class          0.26     0.33    
    Try::Tiny            0.19     0.22    


------------------------------
ENVIRONMENT AND OTHER CONTEXT
------------------------------

Environment variables:

    AUTOMATED_TESTING = 1
    LANG = pt_PT.UTF-8
    LANGUAGE = pt_PT:pt_PT.UTF
    LC_ADDRESS = pt_PT.UTF-8
    LC_IDENTIFICATION = pt_PT.UTF-8
    LC_MEASUREMENT = pt_PT.UTF-8
    LC_MONETARY = pt_PT.UTF-8
    LC_NAME = pt_PT.UTF-8
    LC_NUMERIC = pt_PT.UTF-8
    LC_PAPER = pt_PT.UTF-8
    LC_TELEPHONE = pt_PT.UTF-8
    LC_TIME = pt_PT.UTF-8
    PATH = /home/ari/perl5/perlbrew/bin:/home/ari/perl5/perlbrew/perls/perl-5.18.0/bin:/home/ari/bin:/usr/local/bin:/usr/bin:/bin:/usr/games:/home/ari/bin:/usr/local/java/jre1.7.0_21/bin:/home/ari/bin:/usr/local/java/jre1.7.0_21/bin:/home/ari/jdk1.7.0
    PATH_WITHOUT_PERLBREW = /home/ari/bin:/usr/local/bin:/usr/bin:/bin:/usr/games:/home/ari/bin:/usr/local/java/jre1.7.0_21/bin:/home/ari/bin:/usr/local/java/jre1.7.0_21/bin:/home/ari/jdk1.7.0
    PERL5LIB = /home/ari/.cpan/build/LWP-Protocol-https-6.04-DM9_gW/blib/arch:/home/ari/.cpan/build/LWP-Protocol-https-6.04-DM9_gW/blib/lib:/home/ari/.cpan/build/IO-Socket-SSL-1.991-srt6Zm/blib/arch:/home/ari/.cpan/build/IO-Socket-SSL-1.991-srt6Zm/blib/lib:/home/ari/.cpan/build/Net-SSLeay-1.63-ryfmf0/blib/arch:/home/ari/.cpan/build/Net-SSLeay-1.63-ryfmf0/blib/lib:/home/ari/.cpan/build/Path-Class-0.33-M1fnu9/blib/arch:/home/ari/.cpan/build/Path-Class-0.33-M1fnu9/blib/lib:/home/ari/.cpan/build/HTML-TableExtract-2.11-4k5dDU/blib/arch:/home/ari/.cpan/build/HTML-TableExtract-2.11-4k5dDU/blib/lib:/home/ari/.cpan/build/Mozilla-CA-20130114-dJ_wNh/blib/arch:/home/ari/.cpan/build/Mozilla-CA-20130114-dJ_wNh/blib/lib:/home/ari/.cpan/build/HTML-Tree-5.03-WXgelX/blib/arch:/home/ari/.cpan/build/HTML-Tree-5.03-WXgelX/blib/lib
    PERL5OPT = 
    PERL5_CPANPLUS_IS_RUNNING = 20789
    PERL5_CPAN_IS_RUNNING = 20789
    PERL5_CPAN_IS_RUNNING_IN_RECURSION = 18130,20789
    PERLBREW_HOME = /home/ari/.perlbrew
    PERLBREW_MANPATH = /home/ari/perl5/perlbrew/perls/perl-5.18.0/man
    PERLBREW_PATH = /home/ari/perl5/perlbrew/bin:/home/ari/perl5/perlbrew/perls/perl-5.18.0/bin
    PERLBREW_PERL = perl-5.18.0
    PERLBREW_ROOT = /home/ari/perl5/perlbrew
    PERLBREW_VERSION = 0.42
    PERL_CR_SMOKER_CURRENT = Finance-Quote-1.33
    PERL_EXTUTILS_AUTOINSTALL = --defaultdeps
    PERL_MM_USE_DEFAULT = 1
    SHELL = /bin/bash
    TERM = xterm

Perl special variables (and OS-specific diagnostics, for MSWin32):

    $^X = /home/ari/perl5/perlbrew/perls/perl-5.18.0/bin/perl
    $UID/$EUID = 1000 / 1000
    $GID = 1000 4 20 24 46 116 118 124 128 1000
    $EGID = 1000 4 20 24 46 116 118 124 128 1000

Perl module toolchain versions installed:

    Module              Have    
    ------------------- --------
    CPAN                2.00    
    CPAN::Meta          2.120921
    Cwd                 3.40    
    ExtUtils::CBuilder  0.280210
    ExtUtils::Command   1.17    
    ExtUtils::Install   1.59    
    ExtUtils::MakeMaker 6.66    
    ExtUtils::Manifest  1.63    
    ExtUtils::ParseXS   3.18    
    File::Spec          3.40    
    JSON                2.90    
    JSON::PP            2.27202 
    Module::Build       0.4003  
    Module::Signature   n/a     
    Parse::CPAN::Meta   1.4404  
    Test::Harness       3.26    
    Test::More          0.98    
    YAML                n/a     
    YAML::Syck          n/a     
    version             0.9902  


--

Summary of my perl5 (revision 5 version 18 subversion 0) configuration:
   
  Platform:
    osname=linux, osvers=3.2.0-60-generic, archname=x86_64-linux
    uname='linux deq-h311-1 3.2.0-60-generic #91-ubuntu smp wed feb 19 03:54:44 utc 2014 x86_64 x86_64 x86_64 gnulinux '
    config_args='-de -Dprefix=/home/ari/perl5/perlbrew/perls/perl-5.18.0'
    hint=recommended, useposix=true, d_sigaction=define
    useithreads=undef, usemultiplicity=undef
    useperlio=define, d_sfio=undef, uselargefiles=define, usesocks=undef
    use64bitint=define, use64bitall=define, uselongdouble=undef
    usemymalloc=n, bincompat5005=undef
  Compiler:
    cc='cc', ccflags ='-fno-strict-aliasing -pipe -fstack-protector -I/usr/local/include -D_LARGEFILE_SOURCE -D_FILE_OFFSET_BITS=64',
    optimize='-O2',
    cppflags='-fno-strict-aliasing -pipe -fstack-protector -I/usr/local/include'
    ccversion='', gccversion='4.6.3', gccosandvers=''
    intsize=4, longsize=8, ptrsize=8, doublesize=8, byteorder=12345678
    d_longlong=define, longlongsize=8, d_longdbl=define, longdblsize=16
    ivtype='long', ivsize=8, nvtype='double', nvsize=8, Off_t='off_t', lseeksize=8
    alignbytes=8, prototype=define
  Linker and Libraries:
    ld='cc', ldflags =' -fstack-protector -L/usr/local/lib'
    libpth=/usr/local/lib /lib/x86_64-linux-gnu /lib/../lib /usr/lib/x86_64-linux-gnu /usr/lib/../lib /lib /usr/lib
    libs=-lnsl -ldl -lm -lcrypt -lutil -lc
    perllibs=-lnsl -ldl -lm -lcrypt -lutil -lc
    libc=, so=so, useshrplib=false, libperl=libperl.a
    gnulibc_version='2.15'
  Dynamic Linking:
    dlsrc=dl_dlopen.xs, dlext=so, d_dlsymun=undef, ccdlflags='-Wl,-E'
    cccdlflags='-fPIC', lddlflags='-shared -O2 -L/usr/local/lib -fstack-protector'


Characteristics of this binary (from libperl): 
  Compile-time options: HAS_TIMES PERLIO_LAYERS PERL_DONT_CREATE_GVSV
                        PERL_HASH_FUNC_ONE_AT_A_TIME_HARD PERL_MALLOC_WRAP
                        PERL_PRESERVE_IVUV PERL_SAWAMPERSAND USE_64_BIT_ALL
                        USE_64_BIT_INT USE_LARGE_FILES USE_LOCALE
                        USE_LOCALE_COLLATE USE_LOCALE_CTYPE
                        USE_LOCALE_NUMERIC USE_PERLIO USE_PERL_ATOF
  Built under linux
  Compiled at May 30 2014 14:47:47
  %ENV:
    PERL5LIB="/home/ari/.cpan/build/LWP-Protocol-https-6.04-DM9_gW/blib/arch:/home/ari/.cpan/build/LWP-Protocol-https-6.04-DM9_gW/blib/lib:/home/ari/.cpan/build/IO-Socket-SSL-1.991-srt6Zm/blib/arch:/home/ari/.cpan/build/IO-Socket-SSL-1.991-srt6Zm/blib/lib:/home/ari/.cpan/build/Net-SSLeay-1.63-ryfmf0/blib/arch:/home/ari/.cpan/build/Net-SSLeay-1.63-ryfmf0/blib/lib:/home/ari/.cpan/build/Path-Class-0.33-M1fnu9/blib/arch:/home/ari/.cpan/build/Path-Class-0.33-M1fnu9/blib/lib:/home/ari/.cpan/build/HTML-TableExtract-2.11-4k5dDU/blib/arch:/home/ari/.cpan/build/HTML-TableExtract-2.11-4k5dDU/blib/lib:/home/ari/.cpan/build/Mozilla-CA-20130114-dJ_wNh/blib/arch:/home/ari/.cpan/build/Mozilla-CA-20130114-dJ_wNh/blib/lib:/home/ari/.cpan/build/HTML-Tree-5.03-WXgelX/blib/arch:/home/ari/.cpan/build/HTML-Tree-5.03-WXgelX/blib/lib"
    PERL5OPT=""
    PERL5_CPANPLUS_IS_RUNNING="20789"
    PERL5_CPAN_IS_RUNNING="20789"
    PERL5_CPAN_IS_RUNNING_IN_RECURSION="18130,20789"
    PERLBREW_HOME="/home/ari/.perlbrew"
    PERLBREW_MANPATH="/home/ari/perl5/perlbrew/perls/perl-5.18.0/man"
    PERLBREW_PATH="/home/ari/perl5/perlbrew/bin:/home/ari/perl5/perlbrew/perls/perl-5.18.0/bin"
    PERLBREW_PERL="perl-5.18.0"
    PERLBREW_ROOT="/home/ari/perl5/perlbrew"
    PERLBREW_VERSION="0.42"
    PERL_CR_SMOKER_CURRENT="Finance-Quote-1.33"
    PERL_EXTUTILS_AUTOINSTALL="--defaultdeps"
    PERL_MM_USE_DEFAULT="1"
  @INC:
    /home/ari/.cpan/build/LWP-Protocol-https-6.04-DM9_gW/blib/arch
    /home/ari/.cpan/build/LWP-Protocol-https-6.04-DM9_gW/blib/lib
    /home/ari/.cpan/build/IO-Socket-SSL-1.991-srt6Zm/blib/arch
    /home/ari/.cpan/build/IO-Socket-SSL-1.991-srt6Zm/blib/lib
    /home/ari/.cpan/build/Net-SSLeay-1.63-ryfmf0/blib/arch
    /home/ari/.cpan/build/Net-SSLeay-1.63-ryfmf0/blib/lib
    /home/ari/.cpan/build/Path-Class-0.33-M1fnu9/blib/arch
    /home/ari/.cpan/build/Path-Class-0.33-M1fnu9/blib/lib
    /home/ari/.cpan/build/HTML-TableExtract-2.11-4k5dDU/blib/arch
    /home/ari/.cpan/build/HTML-TableExtract-2.11-4k5dDU/blib/lib
    /home/ari/.cpan/build/Mozilla-CA-20130114-dJ_wNh/blib/arch
    /home/ari/.cpan/build/Mozilla-CA-20130114-dJ_wNh/blib/lib
    /home/ari/.cpan/build/HTML-Tree-5.03-WXgelX/blib/arch
    /home/ari/.cpan/build/HTML-Tree-5.03-WXgelX/blib/lib
    /home/ari/perl5/perlbrew/perls/perl-5.18.0/lib/site_perl/5.18.0/x86_64-linux
    /home/ari/perl5/perlbrew/perls/perl-5.18.0/lib/site_perl/5.18.0
    /home/ari/perl5/perlbrew/perls/perl-5.18.0/lib/5.18.0/x86_64-linux
    /home/ari/perl5/perlbrew/perls/perl-5.18.0/lib/5.18.0
    .