Report for Resource-Pack-jQuery-0.01

Back
From: metabase:user:5bbb2efa-715f-11e3-8cc1-b2993ff2e0c7
Subject: PASS Resource-Pack-jQuery-0.01 v5.20.2 FreeBSD
Date: 2015-03-11T00:29:19Z

This distribution has been tested as part of the CPAN Testers
project, supporting the Perl programming language.  See
http://wiki.cpantesters.org/ for more information or email
questions to cpan-testers-discuss@perl.org


--
Dear DOY,

This is a computer-generated report for Resource-Pack-jQuery-0.01
on perl 5.20.2, created by App::cpanminus::reporter 0.11 (1.7027).

Thank you for uploading your work to CPAN.  Congratulations!
All tests were successful.

Sections of this report:

    * Tester comments
    * Program output
    * Prerequisites
    * Environment and other context

------------------------------
TESTER COMMENTS
------------------------------

Additional comments from tester:

none provided

------------------------------
PROGRAM OUTPUT
------------------------------

Output from '':

Building and testing Resource-Pack-jQuery-0.01
cp lib/Resource/Pack/jQuery.pm blib/lib/Resource/Pack/jQuery.pm
cp lib/Resource/Pack/jquery-1.4.2.min.js blib/lib/Resource/Pack/jquery-1.4.2.min.js
Manifying 1 pod document
PERL_DL_NONLAZY=1 "/usr/local/bin/perl5.20.2" "-MExtUtils::Command::MM" "-MTest::Harness" "-e" "undef *Test::Harness::Switches; test_harness(0, 'blib/lib', 'blib/arch')" t/*.t
t/000-load.t .............. ok
t/001-bundled.t ........... ok
t/002-url.t ............... skipped: network tests disabled for shipped version
t/release-pod-coverage.t .. skipped: these tests are for release candidate testing
t/release-pod-syntax.t .... skipped: these tests are for release candidate testing
All tests successful.
Files=5, Tests=5,  2 wallclock secs ( 0.02 usr  0.01 sys +  1.22 cusr  0.08 csys =  1.33 CPU)
Result: PASS

------------------------------
PREREQUISITES
------------------------------

Prerequisite modules loaded:

    No requirements found

------------------------------
ENVIRONMENT AND OTHER CONTEXT
------------------------------

Environment variables:

    PATH = /home/ollisg/perl5/bin:/home/ollisg/perl5/bin:/sbin:/bin:/usr/sbin:/usr/bin:/usr/games:/usr/local/sbin:/usr/local/bin:/home/ollisg/bin
    PERL5LIB = /home/ollisg/perl5/lib/perl5:/home/ollisg/perl5/lib/perl5
    PERL_CPANM_OPT = --mirror http://mirror.sydney.wdlabs.com/cpan/ --mirror-only
    PERL_LOCAL_LIB_ROOT = /home/ollisg/perl5:/home/ollisg/perl5
    PERL_MB_OPT = --install_base "/home/ollisg/perl5"
    PERL_MM_OPT = INSTALL_BASE=/home/ollisg/perl5
    SHELL = /bin/tcsh
    TERM = screen

Perl special variables (and OS-specific diagnostics, for MSWin32):

    EGID = 1001 1001 0
    EUID = 1001
    EXECUTABLE_NAME = /usr/local/bin/perl5.20.2
    GID = 1001 1001 0
    UID = 1001

Perl module toolchain versions installed:

    Module              Have    
    ------------------- --------
    CPAN                2.05    
    CPAN::Meta          2.150001
    Cwd                 3.48_01 
    ExtUtils::CBuilder  0.280220
    ExtUtils::Command   1.20    
    ExtUtils::Install   2.04    
    ExtUtils::MakeMaker 7.04    
    ExtUtils::Manifest  1.70    
    ExtUtils::ParseXS   3.24    
    File::Spec          3.48_01 
    JSON                2.90    
    JSON::PP            2.27300 
    Module::Build       0.4211  
    Module::Signature   n/a     
    Parse::CPAN::Meta   1.4414  
    Test::Harness       3.35    
    Test::More          1.001014
    YAML                1.14    
    YAML::Syck          n/a     
    version             0.9912  


--

Summary of my perl5 (revision 5 version 20 subversion 2) configuration:
   
  Platform:
    osname=freebsd, osvers=10.0-release, archname=amd64-freebsd-thread-multi
    uname='freebsd freebsd64 10.0-release freebsd 10.0-release #0 r260789: thu jan 16 22:34:59 utc 2014 root@snap.freebsd.org:usrobjusrsrcsysgeneric amd64 '
    config_args='-sde -Dprefix=/usr/local -Dlibperl=libperl.so.5.20.2 -Darchlib=/usr/local/lib/perl5/5.20/mach -Dprivlib=/usr/local/lib/perl5/5.20 -Dman3dir=/usr/local/lib/perl5/5.20/perl/man/man3 -Dman1dir=/usr/local/man/man1 -Dsitearch=/usr/local/lib/perl5/site_perl/mach/5.20 -Dsitelib=/usr/local/lib/perl5/site_perl -Dscriptdir=/usr/local/bin -Dsiteman3dir=/usr/local/lib/perl5/site_perl/man/man3 -Dsiteman1dir=/usr/local/man/man1 -Ui_malloc -Ui_iconv -Uinstallusrbinperl -Dusenm=n -Dcc=cc -Duseshrplib -Dinc_version_list=none -Alddlflags=-L/usr/ports/lang/perl5.20/work/perl-5.20.2 -L/usr/local/lib/perl5/5.20/mach/CORE -Wl,-rpath=/usr/local/lib/perl5/5.20/mach/CORE -lperl -Dshrpldflags=$(LDDLFLAGS:N-L/usr/ports/lang/perl5.20/work/perl-5.20.2:N-L/usr/local/lib/perl5/5.20/mach/CORE:N-Wl,-rpath=/usr/local/lib/perl5/5.20/mach/CORE:N-lperl) -Wl,-soname,$(LIBPERL:R) -Dotherlibdirs=/usr/local/lib/perl5/site_perl/5.20:/usr/local/lib/perl5/site_perl/5.20/mach -Doptimize=-O2 -pipe -fstack-protector -fno-strict-aliasing -Ui_gdbm -Dusemultiplicity=y -Duse64bitint -Dusethreads=y -Dusemymalloc=n'
    hint=recommended, useposix=true, d_sigaction=define
    useithreads=define, usemultiplicity=define
    use64bitint=define, use64bitall=define, uselongdouble=undef
    usemymalloc=n, bincompat5005=undef
  Compiler:
    cc='cc', ccflags ='-DHAS_FPSETMASK -DHAS_FLOATINGPOINT_H -fno-strict-aliasing -pipe -fstack-protector -I/usr/local/include',
    optimize='-O2 -pipe -fstack-protector -fno-strict-aliasing',
    cppflags='-DHAS_FPSETMASK -DHAS_FLOATINGPOINT_H -fno-strict-aliasing -pipe -fstack-protector -I/usr/local/include'
    ccversion='', gccversion='4.2.1 Compatible FreeBSD Clang 3.3 (tags/RELEASE_33/final 183502)', gccosandvers=''
    intsize=4, longsize=8, ptrsize=8, doublesize=8, byteorder=12345678
    d_longlong=define, longlongsize=8, d_longdbl=define, longdblsize=16
    ivtype='long', ivsize=8, nvtype='double', nvsize=8, Off_t='off_t', lseeksize=8
    alignbytes=8, prototype=define
  Linker and Libraries:
    ld='cc', ldflags ='-pthread -Wl,-E  -fstack-protector -L/usr/local/lib'
    libpth=/usr/lib /usr/local/lib /usr/include/clang/3.3 /usr/lib
    libs=-lm -lcrypt -lutil
    perllibs=-lm -lcrypt -lutil
    libc=, so=so, useshrplib=true, libperl=libperl.so.5.20.2
    gnulibc_version=''
  Dynamic Linking:
    dlsrc=dl_dlopen.xs, dlext=so, d_dlsymun=undef, ccdlflags='  -Wl,-R/usr/local/lib/perl5/5.20/mach/CORE'
    cccdlflags='-DPIC -fPIC', lddlflags='-shared  -L/usr/ports/lang/perl5.20/work/perl-5.20.2 -L/usr/local/lib/perl5/5.20/mach/CORE -Wl,-rpath=/usr/local/lib/perl5/5.20/mach/CORE -lperl -L/usr/local/lib -fstack-protector'


Characteristics of this binary (from libperl): 
  Compile-time options: HAS_TIMES MULTIPLICITY PERLIO_LAYERS
                        PERL_DONT_CREATE_GVSV
                        PERL_HASH_FUNC_ONE_AT_A_TIME_HARD
                        PERL_IMPLICIT_CONTEXT PERL_MALLOC_WRAP
                        PERL_NEW_COPY_ON_WRITE PERL_PRESERVE_IVUV
                        USE_64_BIT_ALL USE_64_BIT_INT USE_ITHREADS
                        USE_LARGE_FILES USE_LOCALE USE_LOCALE_COLLATE
                        USE_LOCALE_CTYPE USE_LOCALE_NUMERIC USE_PERLIO
                        USE_PERL_ATOF USE_REENTRANT_API
  Built under freebsd
  Compiled at Mar 10 2015 16:45:23
  %ENV:
    PERL5LIB="/home/ollisg/perl5/lib/perl5:/home/ollisg/perl5/lib/perl5"
    PERL_CPANM_OPT="--mirror http://mirror.sydney.wdlabs.com/cpan/ --mirror-only"
    PERL_LOCAL_LIB_ROOT="/home/ollisg/perl5:/home/ollisg/perl5"
    PERL_MB_OPT="--install_base "/home/ollisg/perl5""
    PERL_MM_OPT="INSTALL_BASE=/home/ollisg/perl5"
  @INC:
    /home/ollisg/perl5/lib/perl5/amd64-freebsd-thread-multi
    /home/ollisg/perl5/lib/perl5
    /home/ollisg/perl5/lib/perl5/amd64-freebsd-thread-multi
    /home/ollisg/perl5/lib/perl5
    /usr/local/lib/perl5/site_perl/mach/5.20
    /usr/local/lib/perl5/site_perl
    /usr/local/lib/perl5/5.20/mach
    /usr/local/lib/perl5/5.20
    /usr/local/lib/perl5/site_perl/5.20
    /usr/local/lib/perl5/site_perl/5.20/mach
    .